Workbook

Sheet Лист2
J1: =SUM(J10:J275) -> 57498.216 | K1: =SUM(K10:K275) -> -484321.94 | L1: =SUM(L10:L275) -> 226187.34 | M1: =SUM(M10:M288) -> 277108.18 | N1: =SUM(N10:N288) -> 38930.011 | O1: =SUM(O10:O275) -> 316038.19 | P1: =SUM(P10:P275) -> 0 | Q1: =SUM(Q10:Q275) -> -574172.79
K2: =[1]Оплата!$BF$4 -> -484321.94 | L2: =[1]Оплата!$AD$1 -> 226187.34 | O2: =[1]Оплата!$O$1 -> 316038.19 | Q2: =[1]Оплата!$BG$2 -> -574172.79
L3: ОПЛАТА по разноске платежей автомат | Q3: Остаток расчетный
K5: =SUM(K10:K275) -> -484321.94 | L5: =SUM(L10:L275) -> 226187.34 | O5: =SUM(O10:O275) -> 316038.19 | P5: =SUM(P10:P275) -> 0 | Q5: =SUM(Q10:Q275) -> -574172.79
D6: РАСЧЕТ ЭЛЕКТРОЭНЕРГИИ ПО ПОТРЕБИТЕЛЯМ | L6: ТАРИФ | M6: 6.59 | N6: 2.52
A7: =F7 -> 44070 | C7: 44039 | F7: 44070 | H7: За период | K7: Остаток средств на | L7: Оплата | M7: Сумма начислений | P7: Перерас- | Q7: Задолженность ( - )
A8: 2020г | B8: КВТ | E8: КВТ | H8: КВТ | M8: руб. | P8: чет
A9: Код_ | B9: АктЭн_M | C9: АктЭн_L | D9: СуммАктЭн | E9: АктЭн_M | F9: АктЭн_L | G9: СуммАктЭн | H9: АктЭн_M | I9: АктЭн_L | J9: Всего | K9: =C7 -> 44039 | L9: =F7 -> 44070 | M9: День | N9: Ночь | O9: Всего | P9: руб | Q9: =F7 -> 44070 | R9: Код
A10: №002 | B10: 2604.5 | C10: 709.35 | D10: 3313.86 | E10: 2667.4 | F10: 733.59 | G10: 3401 | H10: =E10-B10 -> 62.9 | I10: =F10-C10 -> 24.24 | J10: =SUM(H10:I10) -> 87.14 | K10: =[1]Оплата!BF8 -> -4227.1245 | L10: =[1]Оплата!AD8 -> 0 | M10: =H10*M$6 -> 414.511 | N10: =I10*N$6 -> 61.0848 | O10: =SUM(M10:N10) -> 475.5958 | Q10: =K10-O10+L10+P10 -> -4702.7203 | R10: =A10 -> №002
A11: №003 | B11: 5671.94 | C11: 2522.69 | D11: 8194.65 | E11: 5827.52 | F11: 2590.13 | G11: 8417.68 | H11: =E11-B11 -> 155.58 | I11: =F11-C11 -> 67.44 | J11: =SUM(H11:I11) -> 223.02 | K11: =[1]Оплата!BF9 -> -883.0096 | L11: =[1]Оплата!AD9 -> 1000 | M11: =H11*M$6 -> 1025.2722 | N11: =I11*N$6 -> 169.9488 | O11: =SUM(M11:N11) -> 1195.221 | Q11: =K11-O11+L11+P11 -> -1078.2306 | R11: =A11 -> №003
A12: №004 | B12: 5479.18 | C12: 2008.9 | D12: 7488.09 | E12: 5646.8 | F12: 2087.97 | G12: 7734.77 | H12: =E12-B12 -> 167.62 | I12: =F12-C12 -> 79.07 | J12: =SUM(H12:I12) -> 246.69 | K12: =[1]Оплата!BF10 -> -1056.4845 | L12: =[1]Оплата!AD10 -> 2000 | M12: =H12*M$6 -> 1104.6158 | N12: =I12*N$6 -> 199.2564 | O12: =SUM(M12:N12) -> 1303.8722 | Q12: =K12-O12+L12+P12 -> -360.3567 | R12: =A12 -> №004
A13: №005 | B13: 796.33 | C13: 1362.19 | D13: 2158.65 | E13: 816.1 | F13: 1370.07 | G13: 2186.31 | H13: =E13-B13 -> 19.77 | I13: =F13-C13 -> 7.88 | J13: =SUM(H13:I13) -> 27.65 | K13: =[1]Оплата!BF11 -> -905.6481 | L13: =[1]Оплата!AD11 -> 0 | M13: =H13*M$6 -> 130.2843 | N13: =I13*N$6 -> 19.8576 | O13: =SUM(M13:N13) -> 150.1419 | Q13: =K13-O13+L13+P13 -> -1055.79 | R13: =A13 -> №005
A14: №006 | B14: 3208.16 | C14: 1563.39 | D14: 4771.56 | E14: 3208.16 | F14: 1563.39 | G14: 4771.56 | H14: =E14-B14 -> 0 | I14: =F14-C14 -> 0 | J14: =SUM(H14:I14) -> 0 | K14: =[1]Оплата!BF12 -> -11638.657 | L14: =[1]Оплата!AD12 -> 0 | M14: =H14*M$6 -> 0 | N14: =I14*N$6 -> 0 | O14: =SUM(M14:N14) -> 0 | Q14: =K14-O14+L14+P14 -> -11638.657 | R14: =A14 -> №006
A15: №007 | B15: 4016.34 | C15: 2351.83 | D15: 6368.21 | E15: 4072.63 | F15: 2378.56 | G15: 6451.22 | H15: =E15-B15 -> 56.29 | I15: =F15-C15 -> 26.73 | J15: =SUM(H15:I15) -> 83.02 | K15: =[1]Оплата!BF13 -> -1122.4961 | L15: =[1]Оплата!AD13 -> 0 | M15: =H15*M$6 -> 370.9511 | N15: =I15*N$6 -> 67.3596 | O15: =SUM(M15:N15) -> 438.3107 | Q15: =K15-O15+L15+P15 -> -1560.8068 | R15: =A15 -> №007
A16: №008 | B16: 2520.75 | C16: 512.31 | D16: 3033.07 | E16: 2777.5 | F16: 541.45 | G16: 3318.95 | H16: =E16-B16 -> 256.75 | I16: =F16-C16 -> 29.14 | J16: =SUM(H16:I16) -> 285.89 | K16: =[1]Оплата!BF14 -> -1349.3988 | L16: =[1]Оплата!AD14 -> 1349.4 | M16: =H16*M$6 -> 1691.9825 | N16: =I16*N$6 -> 73.4328 | O16: =SUM(M16:N16) -> 1765.4153 | Q16: =K16-O16+L16+P16 -> -1765.4141 | R16: =A16 -> №008
A17: №009 сбыт | J17: =SUM(H17:I17) -> 0 | K17: =[1]Оплата!BF15 -> 153.4953 | L17: =[1]Оплата!AD15 -> 0 | M17: =H17*M$6 -> 0 | N17: =I17*N$6 -> 0 | O17: =SUM(M17:N17) -> 0 | Q17: =K17-O17+L17 -> 153.4953 | R17: =A17 -> №009 сбыт
A18: №009а | B18: 4908.77 | C18: 2799.33 | D18: 7708.12 | E18: 4938.11 | F18: 2807.53 | G18: 7745.65 | H18: =E18-B18 -> 29.34 | I18: =F18-C18 -> 8.2 | J18: =SUM(H18:I18) -> 37.54 | K18: =[1]Оплата!BF16 -> -4150.1256 | L18: =[1]Оплата!AD16 -> 0 | M18: =H18*M$6 -> 193.3506 | N18: =I18*N$6 -> 20.664 | O18: =SUM(M18:N18) -> 214.0146 | Q18: =K18-O18+L18+P18 -> -4364.1402 | R18: =A18 -> №009а
A19: №010 | B19: 1370.74 | C19: 749.9 | D19: 2120.66 | E19: 1460.16 | F19: 762.44 | G19: 2222.62 | H19: =E19-B19 -> 89.42 | I19: =F19-C19 -> 12.54 | J19: =SUM(H19:I19) -> 101.96 | K19: =[1]Оплата!BF17 -> 1798.4629 | L19: =[1]Оплата!AD17 -> 0 | M19: =H19*M$6 -> 589.2778 | N19: =I19*N$6 -> 31.6008 | O19: =SUM(M19:N19) -> 620.8786 | Q19: =K19-O19+L19+P19 -> 1177.5843 | R19: =A19 -> №010
A20: №011 | B20: 3174.79 | C20: 541.38 | D20: 3716.19 | E20: 3174.79 | F20: 541.38 | G20: 3716.19 | H20: =E20-B20 -> 0 | I20: =F20-C20 -> 0 | J20: =SUM(H20:I20) -> 0 | K20: =[1]Оплата!BF18 -> 2533.8756 | L20: =[1]Оплата!AD18 -> 0 | M20: =H20*M$6 -> 0 | N20: =I20*N$6 -> 0 | O20: =SUM(M20:N20) -> 0 | Q20: =K20-O20+L20+P20 -> 2533.8756 | R20: =A20 -> №011
A21: №012 | B21: 730 | C21: 160.26 | D21: 890.27 | E21: 730.18 | F21: 160.27 | G21: 890.45 | H21: =E21-B21 -> 0.18 | I21: =F21-C21 -> 0.01 | J21: =SUM(H21:I21) -> 0.19 | K21: =[1]Оплата!BF19 -> -1149.6884 | L21: =[1]Оплата!AD19 -> 0 | M21: =H21*M$6 -> 1.1862 | N21: =I21*N$6 -> 0.0252 | O21: =SUM(M21:N21) -> 1.2114 | Q21: =K21-O21+L21+P21 -> -1150.8998 | R21: =A21 -> №012
A22: №012а | K22: =[1]Оплата!BF20 -> 5.2041 | L22: =[1]Оплата!AD20 -> 0 | M22: =H22*M$6 -> 0 | N22: =I22*N$6 -> 0 | O22: =SUM(M22:N22) -> 0 | Q22: =K22-O22+L22+P22 -> 5.2041 | R22: =A22 -> №012а
A23: №013 | B23: 9883.8 | C23: 2477.65 | D23: 12361.46 | E23: 10281.58 | F23: 2578.66 | G23: 12860.24 | H23: =E23-B23 -> 397.78 | I23: =F23-C23 -> 101.01 | J23: =SUM(H23:I23) -> 498.79 | K23: =[1]Оплата!BF21 -> 5025.1557 | L23: =[1]Оплата!AD21 -> 5000 | M23: =H23*M$6 -> 2621.3702 | N23: =I23*N$6 -> 254.5452 | O23: =SUM(M23:N23) -> 2875.9154 | Q23: =K23-O23+L23+P23 -> 7149.2403 | R23: =A23 -> №013
A24: №014 | B24: 3632.6 | C24: 7907.93 | D24: 11540.58 | E24: 3771.24 | F24: 7952.8 | G24: 11724.09 | H24: =E24-B24 -> 138.64 | I24: =F24-C24 -> 44.87 | J24: =SUM(H24:I24) -> 183.51 | K24: =[1]Оплата!BF22 -> -4350.1309 | L24: =[1]Оплата!AD22 -> 0 | M24: =H24*M$6 -> 913.6376 | N24: =I24*N$6 -> 113.0724 | O24: =SUM(M24:N24) -> 1026.71 | Q24: =K24-O24+L24+P24 -> -5376.8409 | R24: =A24 -> №014
A25: №015 | B25: 3708.38 | C25: 1996.52 | D25: 5704.9 | E25: 3770.58 | F25: 2019.85 | G25: 5790.44 | H25: =E25-B25 -> 62.2 | I25: =F25-C25 -> 23.33 | J25: =SUM(H25:I25) -> 85.53 | K25: =[1]Оплата!BF23 -> -1353.8394 | L25: =[1]Оплата!AD23 -> 0 | M25: =H25*M$6 -> 409.898 | N25: =I25*N$6 -> 58.7916 | O25: =SUM(M25:N25) -> 468.6896 | Q25: =K25-O25+L25+P25 -> -1822.529 | R25: =A25 -> №015
A26: №016\17 | B26: 6824.32 | C26: 6701.9 | D26: 13526.22 | E26: 6888.18 | F26: 6749.86 | G26: 13638.05 | H26: =E26-B26 -> 63.86 | I26: =F26-C26 -> 47.96 | J26: =SUM(H26:I26) -> 111.82 | K26: =[1]Оплата!BF24 -> -1169.4313 | L26: =[1]Оплата!AD24 -> 1120 | M26: =H26*M$6 -> 420.8374 | N26: =I26*N$6 -> 120.8592 | O26: =SUM(M26:N26) -> 541.6966 | Q26: =K26-O26+L26+P26 -> -591.1279 | R26: =A26 -> №016\17
A27: №018 | B27: 2612.05 | C27: 918.2 | D27: 3530.27 | E27: 2909.29 | F27: 1009.77 | G27: 3919.08 | H27: =E27-B27 -> 297.24 | I27: =F27-C27 -> 91.57 | J27: =SUM(H27:I27) -> 388.81 | K27: =[1]Оплата!BF25 -> -1449.4806 | L27: =[1]Оплата!AD25 -> 0 | M27: =H27*M$6 -> 1958.8116 | N27: =I27*N$6 -> 230.7564 | O27: =SUM(M27:N27) -> 2189.568 | Q27: =K27-O27+L27+P27 -> -3639.0486 | R27: =A27 -> №018
A28: №019 | B28: 6644.63 | C28: 3975.4 | D28: 10620.09 | E28: 6644.63 | F28: 3975.4 | G28: 10620.09 | H28: =E28-B28 -> 0 | I28: =F28-C28 -> 0 | J28: =SUM(H28:I28) -> 0 | K28: =[1]Оплата!BF26 -> -20720.601 | L28: =[1]Оплата!AD26 -> 0 | M28: =H28*M$6 -> 0 | N28: =I28*N$6 -> 0 | O28: =SUM(M28:N28) -> 0 | Q28: =K28-O28+L28+P28 -> -20720.601 | R28: =A28 -> №019
A29: №020 | B29: 5352.89 | C29: 2594.48 | D29: 7948.02 | E29: 5586.66 | F29: 2680.92 | G29: 8268.22 | H29: =E29-B29 -> 233.77 | I29: =F29-C29 -> 86.44 | J29: =SUM(H29:I29) -> 320.21 | K29: =[1]Оплата!BF27 -> -22.1803 | L29: =[1]Оплата!AD27 -> 0 | M29: =H29*M$6 -> 1540.5443 | N29: =I29*N$6 -> 217.8288 | O29: =SUM(M29:N29) -> 1758.3731 | Q29: =K29-O29+L29+P29 -> -1780.5534 | R29: =A29 -> №020
A30: №021\1 | B30: 198.51 | C30: 192.5 | D30: 391.02 | E30: 205.39 | F30: 195.24 | G30: 400.63 | H30: =E30-B30 -> 6.88 | I30: =F30-C30 -> 2.74 | J30: =SUM(H30:I30) -> 9.62 | K30: =[1]Оплата!BF28 -> 3587.4932 | L30: =[1]Оплата!AD28 -> 0 | M30: =H30*M$6 -> 45.3392 | N30: =I30*N$6 -> 6.9048 | O30: =SUM(M30:N30) -> 52.244 | Q30: =K30-O30+L30+P30 -> 3535.2492 | R30: =A30 -> №021\1
A31: №021\2 | B31: 1442.73 | C31: 767.11 | D31: 2209.84 | E31: 1487.1 | F31: 782.35 | G31: 2269.45 | H31: =E31-B31 -> 44.37 | I31: =F31-C31 -> 15.24 | J31: =SUM(H31:I31) -> 59.61 | K31: =[1]Оплата!BF29 -> -5665.3042 | L31: =[1]Оплата!AD29 -> 1813.46 | M31: =H31*M$6 -> 292.3983 | N31: =I31*N$6 -> 38.4048 | O31: =SUM(M31:N31) -> 330.8031 | Q31: =K31-O31+L31+P31 -> -4182.6473 | R31: =A31 -> №021\2
A32: №022 | B32: 3403.01 | C32: 1502.93 | D32: 4905.95 | E32: 3446.04 | F32: 1511.84 | G32: 4957.89 | H32: =E32-B32 -> 43.03 | I32: =F32-C32 -> 8.91 | J32: =SUM(H32:I32) -> 51.94 | K32: =[1]Оплата!BF30 -> -1456.3813 | L32: =[1]Оплата!AD30 -> 4000 | M32: =H32*M$6 -> 283.5677 | N32: =I32*N$6 -> 22.4532 | O32: =SUM(M32:N32) -> 306.0209 | Q32: =K32-O32+L32+P32 -> 2237.5978 | R32: =A32 -> №022
A33: №022а | B33: 1291.65 | C33: 495.05 | D33: 1786.71 | E33: 1378.24 | F33: 540.44 | G33: 1918.69 | H33: =E33-B33 -> 86.59 | I33: =F33-C33 -> 45.39 | J33: =SUM(H33:I33) -> 131.98 | K33: =[1]Оплата!BF31 -> -135.0128 | L33: =[1]Оплата!AD31 -> 0 | M33: =H33*M$6 -> 570.6281 | N33: =I33*N$6 -> 114.3828 | O33: =SUM(M33:N33) -> 685.0109 | Q33: =K33-O33+L33+P33 -> -820.0237 | R33: =A33 -> №022а
A34: №023 | B34: 0.51 | C34: 0.58 | D34: 1.1 | E34: 0.51 | F34: 0.58 | G34: 1.1 | H34: =E34-B34 -> 0 | I34: =F34-C34 -> 0 | J34: =SUM(H34:I34) -> 0 | K34: =[1]Оплата!BF32 -> -3.358 | L34: =[1]Оплата!AD32 -> 0 | M34: =H34*M$6 -> 0 | N34: =I34*N$6 -> 0 | O34: =SUM(M34:N34) -> 0 | Q34: =K34-O34+L34+P34 -> -3.358 | R34: =A34 -> №023
... A39: №028 | B39: 1330.52 | C39: 496.08 | D39: 1826.61 | E39: 1330.52 | F39: 496.08 | G39: 1826.61 | H39: =E39-B39 -> 0 | I39: =F39-C39 -> 0 | J39: =SUM(H39:I39) -> 0 | K39: =[1]Оплата!BF37 -> -4.3548 | L39: =[1]Оплата!AD37 -> 0 | M39: =H39*M$6 -> 0 | N39: =I39*N$6 -> 0 | O39: =SUM(M39:N39) -> 0 | Q39: =K39-O39+L39+P39 -> -4.3548 | R39: =A39 -> №028
A40: №029 сбыт | H40: =E40-B40 -> 0 | I40: =F40-C40 -> 0 | J40: =SUM(H40:I40) -> 0 | K40: =[1]Оплата!BF38 -> 0.0048 | L40: =[1]Оплата!AD38 -> 0 | M40: =H40*M$6 -> 0 | N40: =I40*N$6 -> 0 | O40: =SUM(M40:N40) -> 0 | Q40: =K40-O40+L40+P40 -> 0.0048 | R40: =A40 -> №029 сбыт
A41: №030 | B41: 1603.35 | C41: 584.95 | D41: 2188.35 | E41: 1603.35 | F41: 584.95 | G41: 2188.35 | H41: =E41-B41 -> 0 | I41: =F41-C41 -> 0 | J41: =SUM(H41:I41) -> 0 | K41: =[1]Оплата!BF39 -> -10.3873 | L41: =[1]Оплата!AD39 -> 0 | M41: =H41*M$6 -> 0 | N41: =I41*N$6 -> 0 | O41: =SUM(M41:N41) -> 0 | Q41: =K41-O41+L41+P41 -> -10.3873 | R41: =A41 -> №030
A42: №031\1 | B42: 7581.09 | C42: 3887.04 | D42: 11468.13 | E42: 7909.15 | F42: 3990.3 | G42: 11899.45 | H42: =E42-B42 -> 328.06 | I42: =F42-C42 -> 103.26 | J42: =SUM(H42:I42) -> 431.32 | K42: =[1]Оплата!BF40 -> -15249.781 | L42: =[1]Оплата!AD40 -> 4409.89 | M42: =H42*M$6 -> 2161.9154 | N42: =I42*N$6 -> 260.2152 | O42: =SUM(M42:N42) -> 2422.1306 | Q42: =K42-O42+L42+P42 -> -13262.022 | R42: =A42 -> №031\1
A43: №031\2 | B43: 4253.95 | C43: 1253.81 | D43: 5507.77 | E43: 4498.04 | F43: 1347.14 | G43: 5845.18 | H43: =E43-B43 -> 244.09 | I43: =F43-C43 -> 93.33 | J43: =SUM(H43:I43) -> 337.42 | K43: =[1]Оплата!BF41 -> 10839.887 | L43: =[1]Оплата!AD41 -> 0 | M43: =H43*M$6 -> 1608.5531 | N43: =I43*N$6 -> 235.1916 | O43: =SUM(M43:N43) -> 1843.7447 | Q43: =K43-O43+L43+P43 -> 8996.142 | R43: =A43 -> №031\2
A44: №032 | B44: 6988.24 | C44: 4181.51 | D44: 11169.84 | E44: 7194.12 | F44: 4245.39 | G44: 11439.61 | H44: =E44-B44 -> 205.88 | I44: =F44-C44 -> 63.88 | J44: =SUM(H44:I44) -> 269.76 | K44: =[1]Оплата!BF42 -> -5067.6631 | L44: =[1]Оплата!AD42 -> 0 | M44: =H44*M$6 -> 1356.7492 | N44: =I44*N$6 -> 160.9776 | O44: =SUM(M44:N44) -> 1517.7268 | Q44: =K44-O44+L44+P44 -> -6585.3899 | R44: =A44 -> №032
A45: №033 | B45: 8584.24 | C45: 2875.5 | D45: 11459.75 | E45: 8828.67 | F45: 2924.94 | G45: 11753.61 | H45: =E45-B45 -> 244.43 | I45: =F45-C45 -> 49.44 | J45: =SUM(H45:I45) -> 293.87 | K45: =[1]Оплата!BF43 -> 574.1936 | L45: =[1]Оплата!AD43 -> 3000 | M45: =H45*M$6 -> 1610.7937 | N45: =I45*N$6 -> 124.5888 | O45: =SUM(M45:N45) -> 1735.3825 | Q45: =K45-O45+L45+P45 -> 1838.8111 | R45: =A45 -> №033
A46: №034 | B46: 1965.23 | C46: 436.78 | D46: 2402.01 | E46: 1965.29 | F46: 436.78 | G46: 2402.07 | H46: =E46-B46 -> 0.06 | I46: =F46-C46 -> 0 | J46: =SUM(H46:I46) -> 0.06 | K46: =[1]Оплата!BF44 -> -13.1173 | L46: =[1]Оплата!AD44 -> 0 | M46: =H46*M$6 -> 0.3954 | N46: =I46*N$6 -> 0 | O46: =SUM(M46:N46) -> 0.3954 | Q46: =K46-O46+L46+P46 -> -13.5127 | R46: =A46 -> №034
A47: №035 | B47: 9660.34 | C47: 4842.56 | D47: 14502.91 | E47: 9859.78 | F47: 4919.54 | G47: 14779.33 | H47: =E47-B47 -> 199.44 | I47: =F47-C47 -> 76.98 | J47: =SUM(H47:I47) -> 276.42 | K47: =[1]Оплата!BF45 -> -729.4847 | L47: =[1]Оплата!AD45 -> 950 | M47: =H47*M$6 -> 1314.3096 | N47: =I47*N$6 -> 193.9896 | O47: =SUM(M47:N47) -> 1508.2992 | Q47: =K47-O47+L47+P47 -> -1287.7839 | R47: =A47 -> №035
A48: №036 | B48: 6870.17 | C48: 2107.73 | D48: 8977.9 | E48: 7134.28 | F48: 2181.12 | G48: 9315.41 | H48: =E48-B48 -> 264.11 | I48: =F48-C48 -> 73.39 | J48: =SUM(H48:I48) -> 337.5 | K48: =[1]Оплата!BF46 -> -328.7595 | L48: =[1]Оплата!AD46 -> 2000 | M48: =H48*M$6 -> 1740.4849 | N48: =I48*N$6 -> 184.9428 | O48: =SUM(M48:N48) -> 1925.4277 | Q48: =K48-O48+L48+P48 -> -254.1872 | R48: =A48 -> №036
A49: №037 | B49: 11127.37 | C49: 5189.92 | D49: 16317.35 | E49: 11468.76 | F49: 5331.25 | G49: 16800.07 | H49: =E49-B49 -> 341.39 | I49: =F49-C49 -> 141.33 | J49: =SUM(H49:I49) -> 482.72 | K49: =[1]Оплата!BF47 -> -2372.4852 | L49: =[1]Оплата!AD47 -> 0 | M49: =H49*M$6 -> 2249.7601 | N49: =I49*N$6 -> 356.1516 | O49: =SUM(M49:N49) -> 2605.9117 | Q49: =K49-O49+L49+P49 -> -4978.3969 | R49: =A49 -> №037
A50: №038 | B50: 4029.73 | C50: 1908.79 | D50: 5938.54 | E50: 4173.03 | F50: 1978.4 | G50: 6151.44 | H50: =E50-B50 -> 143.3 | I50: =F50-C50 -> 69.61 | J50: =SUM(H50:I50) -> 212.91 | K50: =[1]Оплата!BF48 -> 3911.4187 | L50: =[1]Оплата!AD48 -> 0 | M50: =H50*M$6 -> 944.347 | N50: =I50*N$6 -> 175.4172 | O50: =SUM(M50:N50) -> 1119.7642 | Q50: =K50-O50+L50+P50 -> 2791.6545 | R50: =A50 -> №038
A51: №039 сбыт | J51: =SUM(H51:I51) -> 0 | K51: =[1]Оплата!BF49 -> -582.5861 | L51: =[1]Оплата!AD49 -> 0 | M51: =H51*M$6 -> 0 | N51: =I51*N$6 -> 0 | O51: =SUM(M51:N51) -> 0 | Q51: =K51-O51+L51+P51 -> -582.5861 | R51: =A51 -> №039 сбыт
A52: №040 | B52: 1372.33 | C52: 2550.53 | D52: 3922.88 | E52: 1372.33 | F52: 2550.53 | G52: 3922.88 | H52: =E52-B52 -> 0 | I52: =F52-C52 -> 0 | J52: =SUM(H52:I52) -> 0 | K52: =[1]Оплата!BF50 -> -0.4223 | L52: =[1]Оплата!AD50 -> 0 | M52: =H52*M$6 -> 0 | N52: =I52*N$6 -> 0 | O52: =SUM(M52:N52) -> 0 | Q52: =K52-O52+L52+P52 -> -0.4223 | R52: =A52 -> №040
A53: №041 | B53: 5376.3 | C53: 2875.08 | D53: 8251.81 | E53: 5508.31 | F53: 2895.94 | G53: 8404.68 | H53: =E53-B53 -> 132.01 | I53: =F53-C53 -> 20.86 | J53: =SUM(H53:I53) -> 152.87 | K53: =[1]Оплата!BF51 -> -1445.957 | L53: =[1]Оплата!AD51 -> 2500 | M53: =H53*M$6 -> 869.9459 | N53: =I53*N$6 -> 52.5672 | O53: =SUM(M53:N53) -> 922.5131 | Q53: =K53-O53+L53+P53 -> 131.5299 | R53: =A53 -> №041
A54: №041а | B54: 9110.3 | C54: 4019.26 | D54: 13129.57 | E54: 9197.84 | F54: 4039.71 | G54: 13237.55 | H54: =E54-B54 -> 87.54 | I54: =F54-C54 -> 20.45 | J54: =SUM(H54:I54) -> 107.99 | K54: =[1]Оплата!BF52 -> -851.7146 | L54: =[1]Оплата!AD52 -> 0 | M54: =H54*M$6 -> 576.8886 | N54: =I54*N$6 -> 51.534 | O54: =SUM(M54:N54) -> 628.4226 | Q54: =K54-O54+L54+P54 -> -1480.1372 | R54: =A54 -> №041а
A55: №042 | B55: 3882.48 | C55: 2391.23 | D55: 6273.75 | E55: 4054.95 | F55: 2406.21 | G55: 6461.19 | H55: =E55-B55 -> 172.47 | I55: =F55-C55 -> 14.98 | J55: =SUM(H55:I55) -> 187.45 | K55: =[1]Оплата!BF53 -> -2415.8688 | L55: =[1]Оплата!AD53 -> 2415.87 | M55: =H55*M$6 -> 1136.5773 | N55: =I55*N$6 -> 37.7496 | O55: =SUM(M55:N55) -> 1174.3269 | Q55: =K55-O55+L55+P55 -> -1174.3257 | R55: =A55 -> №042
A56: №043\1 | B56: 4658.29 | C56: 1728.46 | D56: 6386.76 | E56: 4876.17 | F56: 1783.15 | G56: 6659.32 | H56: =E56-B56 -> 217.88 | I56: =F56-C56 -> 54.69 | J56: =SUM(H56:I56) -> 272.57 | K56: =[1]Оплата!BF54 -> 2197.5355 | L56: =[1]Оплата!AD54 -> 0 | M56: =H56*M$6 -> 1435.8292 | N56: =I56*N$6 -> 137.8188 | O56: =SUM(M56:N56) -> 1573.648 | Q56: =K56-O56+L56+P56 -> 623.8875 | R56: =A56 -> №043\1
A57: №043\2 | B57: 19744.45 | C57: 9106.78 | D57: 28851.24 | E57: 20069.86 | F57: 9179.15 | G57: 29249.02 | H57: =E57-B57 -> 325.41 | I57: =F57-C57 -> 72.37 | J57: =SUM(H57:I57) -> 397.78 | K57: =[1]Оплата!BF55 -> 237.0453 | L57: =[1]Оплата!AD55 -> 1150 | M57: =H57*M$6 -> 2144.4519 | N57: =I57*N$6 -> 182.3724 | O57: =SUM(M57:N57) -> 2326.8243 | Q57: =K57-O57+L57+P57 -> -939.779 | R57: =A57 -> №043\2
A58: №044 | B58: 5391.84 | C58: 2573.96 | D58: 7965.8 | E58: 5578.92 | F58: 2650 | G58: 8228.93 | H58: =E58-B58 -> 187.08 | I58: =F58-C58 -> 76.04 | J58: =SUM(H58:I58) -> 263.12 | K58: =[1]Оплата!BF56 -> -697.7117 | L58: =[1]Оплата!AD56 -> 0 | M58: =H58*M$6 -> 1232.8572 | N58: =I58*N$6 -> 191.6208 | O58: =SUM(M58:N58) -> 1424.478 | Q58: =K58-O58+L58+P58 -> -2122.1897 | R58: =A58 -> №044
A59: №045 не установлен | J59: =SUM(H59:I59) -> 0 | K59: =[1]Оплата!BF57 -> 0 | L59: =[1]Оплата!AD57 -> 0 | Q59: =K59-O59+L59+P59 -> 0 | R59: =A59 -> №045 не установлен
A60: №046 | B60: 6112.87 | C60: 4046.12 | D60: 10159 | E60: 6613.04 | F60: 4254.14 | G60: 10867.2 | H60: =E60-B60 -> 500.17 | I60: =F60-C60 -> 208.02 | J60: =SUM(H60:I60) -> 708.19 | K60: =[1]Оплата!BF58 -> -3911.8352 | L60: =[1]Оплата!AD58 -> 3911.84 | M60: =H60*M$6 -> 3296.1203 | N60: =I60*N$6 -> 524.2104 | O60: =SUM(M60:N60) -> 3820.3307 | Q60: =K60-O60+L60+P60 -> -3820.3259 | R60: =A60 -> №046
A61: №046а | B61: 7572.54 | C61: 3147.7 | D61: 10720.27 | E61: 7623.31 | F61: 3186.7 | G61: 10810.04 | H61: =E61-B61 -> 50.77 | I61: =F61-C61 -> 39 | J61: =SUM(H61:I61) -> 89.77 | K61: =[1]Оплата!BF59 -> -2670.6964 | L61: =[1]Оплата!AD59 -> 0 | M61: =H61*M$6 -> 334.5743 | N61: =I61*N$6 -> 98.28 | O61: =SUM(M61:N61) -> 432.8543 | Q61: =K61-O61+L61+P61 -> -3103.5507 | R61: =A61 -> №046а
A62: №047 | B62: 314.78 | C62: 144.71 | D62: 459.5 | E62: 314.78 | F62: 144.71 | G62: 459.5 | H62: =E62-B62 -> 0 | I62: =F62-C62 -> 0 | J62: =SUM(H62:I62) -> 0 | K62: =[1]Оплата!BF60 -> -2071.5971 | L62: =[1]Оплата!AD60 -> 0 | M62: =H62*M$6 -> 0 | N62: =I62*N$6 -> 0 | O62: =SUM(M62:N62) -> 0 | Q62: =K62-O62+L62+P62 -> -2071.5971 | R62: =A62 -> №047
A63: №048 | B63: 12035.86 | C63: 3256.1 | D63: 15291.98 | E63: 12787.78 | F63: 3422.88 | G63: 16210.68 | H63: =E63-B63 -> 751.92 | I63: =F63-C63 -> 166.78 | J63: =SUM(H63:I63) -> 918.7 | K63: =[1]Оплата!BF61 -> -21446.631 | L63: =[1]Оплата!AD61 -> 0 | M63: =H63*M$6 -> 4955.1528 | N63: =I63*N$6 -> 420.2856 | O63: =SUM(M63:N63) -> 5375.4384 | Q63: =K63-O63+L63+P63 -> -26822.07 | R63: =A63 -> №048
A64: №049 | B64: 9271.49 | C64: 3453.87 | D64: 12725.37 | E64: 9808.73 | F64: 3528.81 | G64: 13337.55 | H64: =E64-B64 -> 537.24 | I64: =F64-C64 -> 74.94 | J64: =SUM(H64:I64) -> 612.18 | K64: =[1]Оплата!BF62 -> -2746.7372 | L64: =[1]Оплата!AD62 -> 3000 | M64: =H64*M$6 -> 3540.4116 | N64: =I64*N$6 -> 188.8488 | O64: =SUM(M64:N64) -> 3729.2604 | Q64: =K64-O64+L64+P64 -> -3475.9976 | R64: =A64 -> №049
A65: №050 | B65: 10900.38 | C65: 4425.05 | D65: 15325.44 | E65: 11164.39 | F65: 4510.39 | G65: 15674.78 | H65: =E65-B65 -> 264.01 | I65: =F65-C65 -> 85.34 | J65: =SUM(H65:I65) -> 349.35 | K65: =[1]Оплата!BF63 -> -4185.2375 | L65: =[1]Оплата!AD63 -> 0 | M65: =H65*M$6 -> 1739.8259 | N65: =I65*N$6 -> 215.0568 | O65: =SUM(M65:N65) -> 1954.8827 | Q65: =K65-O65+L65+P65 -> -6140.1202 | R65: =A65 -> №050
A66: №051 | B66: 16391.59 | C66: 15407.23 | D66: 31798.82 | E66: 16652.92 | F66: 15553.15 | G66: 32206.08 | H66: =E66-B66 -> 261.33 | I66: =F66-C66 -> 145.92 | J66: =SUM(H66:I66) -> 407.25 | K66: =[1]Оплата!BF64 -> -14064.506 | L66: =[1]Оплата!AD64 -> 0 | M66: =H66*M$6 -> 1722.1647 | N66: =I66*N$6 -> 367.7184 | O66: =SUM(M66:N66) -> 2089.8831 | Q66: =K66-O66+L66+P66 -> -16154.389 | R66: =A66 -> №051
A67: №052 | B67: 5850 | C67: 2216.27 | D67: 8066.28 | E67: 6039.69 | F67: 2287.33 | G67: 8327.03 | H67: =E67-B67 -> 189.69 | I67: =F67-C67 -> 71.06 | J67: =SUM(H67:I67) -> 260.75 | K67: =[1]Оплата!BF65 -> -1409.0829 | L67: =[1]Оплата!AD65 -> 0 | M67: =H67*M$6 -> 1250.0571 | N67: =I67*N$6 -> 179.0712 | O67: =SUM(M67:N67) -> 1429.1283 | Q67: =K67-O67+L67+P67 -> -2838.2112 | R67: =A67 -> №052
A68: №052а | B68: 5337.16 | C68: 1728.68 | D68: 7065.88 | E68: 5605.92 | F68: 1769.18 | G68: 7375.14 | H68: =E68-B68 -> 268.76 | I68: =F68-C68 -> 40.5 | J68: =SUM(H68:I68) -> 309.26 | K68: =[1]Оплата!BF66 -> -2416.297 | L68: =[1]Оплата!AD66 -> 0 | M68: =H68*M$6 -> 1771.1284 | N68: =I68*N$6 -> 102.06 | O68: =SUM(M68:N68) -> 1873.1884 | Q68: =K68-O68+L68+P68 -> -4289.4854 | R68: =A68 -> №052а
A69: №053 | B69: 151.64 | C69: 81.04 | D69: 232.69 | E69: 163.75 | F69: 84.63 | G69: 248.39 | H69: =E69-B69 -> 12.11 | I69: =F69-C69 -> 3.59 | J69: =SUM(H69:I69) -> 15.7 | K69: =[1]Оплата!BF67 -> -27.4724 | L69: =[1]Оплата!AD67 -> 0 | M69: =H69*M$6 -> 79.8049 | N69: =I69*N$6 -> 9.0468 | O69: =SUM(M69:N69) -> 88.8517 | Q69: =K69-O69+L69+P69 -> -116.3241 | R69: =A69 -> №053
A70: №054 | B70: 1492.61 | C70: 719.7 | D70: 2212.31 | E70: 1547.59 | F70: 745.1 | G70: 2292.69 | H70: =E70-B70 -> 54.98 | I70: =F70-C70 -> 25.4 | J70: =SUM(H70:I70) -> 80.38 | K70: =[1]Оплата!BF68 -> -1689.9905 | L70: =[1]Оплата!AD68 -> 1500 | M70: =H70*M$6 -> 362.3182 | N70: =I70*N$6 -> 64.008 | O70: =SUM(M70:N70) -> 426.3262 | Q70: =K70-O70+L70+P70 -> -616.3167 | R70: =A70 -> №054
A71: №055 | B71: 10919.95 | C71: 4691.66 | D71: 15611.63 | E71: 11424.35 | F71: 4823.88 | G71: 16248.25 | H71: =E71-B71 -> 504.4 | I71: =F71-C71 -> 132.22 | J71: =SUM(H71:I71) -> 636.62 | K71: =[1]Оплата!BF69 -> -3345.6006 | L71: =[1]Оплата!AD69 -> 3350 | M71: =H71*M$6 -> 3323.996 | N71: =I71*N$6 -> 333.1944 | O71: =SUM(M71:N71) -> 3657.1904 | Q71: =K71-O71+L71+P71 -> -3652.791 | R71: =A71 -> №055
... A74: №058 | B74: 8657.98 | C74: 2960.44 | D74: 11618.43 | E74: 8906.15 | F74: 3028.18 | G74: 11934.34 | H74: =E74-B74 -> 248.17 | I74: =F74-C74 -> 67.74 | J74: =SUM(H74:I74) -> 315.91 | K74: =[1]Оплата!BF72 -> -1098.8159 | L74: =[1]Оплата!AD72 -> 0 | M74: =H74*M$6 -> 1635.4403 | N74: =I74*N$6 -> 170.7048 | O74: =SUM(M74:N74) -> 1806.1451 | Q74: =K74-O74+L74+P74 -> -2904.961 | R74: =A74 -> №058
A75: №059 | B75: 23232.11 | C75: 10204.11 | D75: 33436.23 | E75: 24031.01 | F75: 10583.35 | G75: 34614.36 | H75: =E75-B75 -> 798.9 | I75: =F75-C75 -> 379.24 | J75: =SUM(H75:I75) -> 1178.14 | K75: =[1]Оплата!BF73 -> -2142.379 | L75: =[1]Оплата!AD73 -> 0 | M75: =H75*M$6 -> 5264.751 | N75: =I75*N$6 -> 955.6848 | O75: =SUM(M75:N75) -> 6220.4358 | Q75: =K75-O75+L75 -> -8362.8148 | R75: =A75 -> №059
A76: №060 | B76: 2783.77 | C76: 1340.81 | D76: 4124.59 | E76: 3030.67 | F76: 1391.83 | G76: 4422.52 | H76: =E76-B76 -> 246.9 | I76: =F76-C76 -> 51.02 | J76: =SUM(H76:I76) -> 297.92 | K76: =[1]Оплата!BF74 -> -1435.5783 | L76: =[1]Оплата!AD74 -> 0 | M76: =H76*M$6 -> 1627.071 | N76: =I76*N$6 -> 128.5704 | O76: =SUM(M76:N76) -> 1755.6414 | Q76: =K76-O76+L76 -> -3191.2197 | R76: =A76 -> №060
A77: №061 | B77: 5502.11 | C77: 2189.53 | D77: 7691.65 | E77: 5668.24 | F77: 2218.11 | G77: 7886.36 | H77: =E77-B77 -> 166.13 | I77: =F77-C77 -> 28.58 | J77: =SUM(H77:I77) -> 194.71 | K77: =[1]Оплата!BF75 -> -1024.6672 | L77: =[1]Оплата!AD75 -> 0 | M77: =H77*M$6 -> 1094.7967 | N77: =I77*N$6 -> 72.0216 | O77: =SUM(M77:N77) -> 1166.8183 | Q77: =K77-O77+L77+P77 -> -2191.4855 | R77: =A77 -> №061
A78: №062 | B78: 17546.49 | C78: 10521.17 | D78: 28068.21 | E78: 17700.72 | F78: 10570.26 | G78: 28271.53 | H78: =E78-B78 -> 154.23 | I78: =F78-C78 -> 49.09 | J78: =SUM(H78:I78) -> 203.32 | K78: =[1]Оплата!BF76 -> -2169.6844 | L78: =[1]Оплата!AD76 -> 0 | M78: =H78*M$6 -> 1016.3757 | N78: =I78*N$6 -> 123.7068 | O78: =SUM(M78:N78) -> 1140.0825 | Q78: =K78-O78+L78+P78 -> -3309.7669 | R78: =A78 -> №062
A79: №062а | B79: 6240.9 | C79: 1931.68 | D79: 8172.59 | E79: 6643.02 | F79: 2019.61 | G79: 8662.64 | H79: =E79-B79 -> 402.12 | I79: =F79-C79 -> 87.93 | J79: =SUM(H79:I79) -> 490.05 | K79: =[1]Оплата!BF77 -> -2673.0676 | L79: =[1]Оплата!AD77 -> 2673.07 | M79: =H79*M$6 -> 2649.9708 | N79: =I79*N$6 -> 221.5836 | O79: =SUM(M79:N79) -> 2871.5544 | Q79: =K79-O79+L79+P79 -> -2871.552 | R79: =A79 -> №062а
A80: №063 | B80: 1101.44 | C80: 664.08 | D80: 1765.53 | E80: 1161.03 | F80: 684.06 | G80: 1845.1 | H80: =E80-B80 -> 59.59 | I80: =F80-C80 -> 19.98 | J80: =SUM(H80:I80) -> 79.57 | K80: =[1]Оплата!BF78 -> -2999.386 | L80: =[1]Оплата!AD78 -> 0 | M80: =H80*M$6 -> 392.6981 | N80: =I80*N$6 -> 50.3496 | O80: =SUM(M80:N80) -> 443.0477 | Q80: =K80-O80+L80+P80 -> -3442.4337 | R80: =A80 -> №063
A81: №064\1 | B81: 70.05 | C81: 18.42 | D81: 88.48 | E81: 71.83 | F81: 18.42 | G81: 90.27 | H81: =E81-B81 -> 1.78 | I81: =F81-C81 -> 0 | J81: =SUM(H81:I81) -> 1.78 | K81: =[1]Оплата!BF79 -> 31489.612 | L81: =[1]Оплата!AD79 -> 7000 | M81: =H81*M$6 -> 11.7302 | N81: =I81*N$6 -> 0 | O81: =SUM(M81:N81) -> 11.7302 | Q81: =K81-O81+L81+P81 -> 38477.882 | R81: =A81 -> №064\1
A82: №064\2 | B82: 6579.59 | C82: 2332.04 | D82: 8911.65 | E82: 6878.92 | F82: 2426.4 | G82: 9305.34 | H82: =E82-B82 -> 299.33 | I82: =F82-C82 -> 94.36 | J82: =SUM(H82:I82) -> 393.69 | K82: =[1]Оплата!BF80 -> -38322.038 | L82: =[1]Оплата!AD80 -> 3000 | M82: =H82*M$6 -> 1972.5847 | N82: =I82*N$6 -> 237.7872 | O82: =SUM(M82:N82) -> 2210.3719 | Q82: =K82-O82+L82+P82 -> -37532.41 | R82: =A82 -> №064\2
A83: №065 | B83: 30403.9 | C83: 10880.17 | D83: 41284.08 | E83: 30917.48 | F83: 11015.34 | G83: 41932.82 | H83: =E83-B83 -> 513.58 | I83: =F83-C83 -> 135.17 | J83: =SUM(H83:I83) -> 648.75 | K83: =[1]Оплата!BF81 -> -3629.1347 | L83: =[1]Оплата!AD81 -> 0 | M83: =H83*M$6 -> 3384.4922 | N83: =I83*N$6 -> 340.6284 | O83: =SUM(M83:N83) -> 3725.1206 | Q83: =K83-O83+L83+P83 -> -7354.2553 | R83: =A83 -> №065
A84: №066 | B84: 12383.96 | C84: 5764.02 | D84: 18147.99 | E84: 12600.69 | F84: 5830.7 | G84: 18431.4 | H84: =E84-B84 -> 216.73 | I84: =F84-C84 -> 66.68 | J84: =SUM(H84:I84) -> 283.41 | K84: =[1]Оплата!BF82 -> -2935.0092 | L84: =[1]Оплата!AD82 -> 0 | M84: =H84*M$6 -> 1428.2507 | N84: =I84*N$6 -> 168.0336 | O84: =SUM(M84:N84) -> 1596.2843 | Q84: =K84-O84+L84+P84 -> -4531.2935 | R84: =A84 -> №066
A85: №067 | B85: 4105.46 | C85: 2082.5 | D85: 6187.97 | E85: 4277.7 | F85: 2125.99 | G85: 6403.7 | H85: =E85-B85 -> 172.24 | I85: =F85-C85 -> 43.49 | J85: =SUM(H85:I85) -> 215.73 | K85: =[1]Оплата!BF83 -> 5873.0611 | L85: =[1]Оплата!AD83 -> 0 | M85: =H85*M$6 -> 1135.0616 | N85: =I85*N$6 -> 109.5948 | O85: =SUM(M85:N85) -> 1244.6564 | Q85: =K85-O85+L85+P85 -> 4628.4047 | R85: =A85 -> №067
A86: №068 | B86: 6630.73 | C86: 5027.04 | D86: 11657.79 | E86: 6855.6 | F86: 5159.52 | G86: 12015.14 | H86: =E86-B86 -> 224.87 | I86: =F86-C86 -> 132.48 | J86: =SUM(H86:I86) -> 357.35 | K86: =[1]Оплата!BF84 -> 2245.4561 | L86: =[1]Оплата!AD84 -> 8000 | M86: =H86*M$6 -> 1481.8933 | N86: =I86*N$6 -> 333.8496 | O86: =SUM(M86:N86) -> 1815.7429 | Q86: =K86-O86+L86+P86 -> 8429.7132 | R86: =A86 -> №068
A87: №069 | K87: =[1]Оплата!BF85 -> 45.9232 | L87: =[1]Оплата!AD85 -> 1000 | M87: =H87*M$6 -> 0 | N87: =I87*N$6 -> 0 | O87: =SUM(M87:N87) -> 0 | Q87: =K87-O87+L87+P87 -> 1045.9232 | R87: =A87 -> №069
A88: №070 | B88: 5792.4 | C88: 3000.23 | D88: 8792.64 | E88: 5873.04 | F88: 3019.4 | G88: 8892.45 | H88: =E88-B88 -> 80.64 | I88: =F88-C88 -> 19.17 | J88: =SUM(H88:I88) -> 99.81 | K88: =[1]Оплата!BF86 -> 2371.8627 | L88: =[1]Оплата!AD86 -> 0 | M88: =H88*M$6 -> 531.4176 | N88: =I88*N$6 -> 48.3084 | O88: =SUM(M88:N88) -> 579.726 | Q88: =K88-O88+L88+P88 -> 1792.1367 | R88: =A88 -> №070
A89: №071 | B89: 1491.65 | C89: 713.14 | D89: 2204.81 | E89: 1519.57 | F89: 733.14 | G89: 2252.73 | H89: =E89-B89 -> 27.92 | I89: =F89-C89 -> 20 | J89: =SUM(H89:I89) -> 47.92 | K89: =[1]Оплата!BF87 -> -1523.8156 | L89: =[1]Оплата!AD87 -> 0 | M89: =H89*M$6 -> 183.9928 | N89: =I89*N$6 -> 50.4 | O89: =SUM(M89:N89) -> 234.3928 | Q89: =K89-O89+L89+P89 -> -1758.2084 | R89: =A89 -> №071
A90: №072 | B90: 4042.78 | C90: 3849.8 | D90: 7892.62 | E90: 4079.53 | F90: 3874.02 | G90: 7953.59 | H90: =E90-B90 -> 36.75 | I90: =F90-C90 -> 24.22 | J90: =SUM(H90:I90) -> 60.97 | K90: =[1]Оплата!BF88 -> -1225.9278 | L90: =[1]Оплата!AD88 -> 0 | M90: =H90*M$6 -> 242.1825 | N90: =I90*N$6 -> 61.0344 | O90: =SUM(M90:N90) -> 303.2169 | Q90: =K90-O90+L90+P90 -> -1529.1447 | R90: =A90 -> №072
A91: №073 | B91: 4575.07 | C91: 1565.43 | D91: 6140.51 | E91: 4784.01 | F91: 1637.27 | G91: 6421.29 | H91: =E91-B91 -> 208.94 | I91: =F91-C91 -> 71.84 | J91: =SUM(H91:I91) -> 280.78 | K91: =[1]Оплата!BF89 -> 497.7934 | L91: =[1]Оплата!AD89 -> 0 | M91: =H91*M$6 -> 1376.9146 | N91: =I91*N$6 -> 181.0368 | O91: =SUM(M91:N91) -> 1557.9514 | Q91: =K91-O91+L91+P91 -> -1060.158 | R91: =A91 -> №073
A92: №074 | B92: 27550.74 | C92: 12658.13 | D92: 40208.99 | E92: 28128.62 | F92: 12878.74 | G92: 41007.49 | H92: =E92-B92 -> 577.88 | I92: =F92-C92 -> 220.61 | J92: =SUM(H92:I92) -> 798.49 | K92: =[1]Оплата!BF90 -> -9548.5044 | L92: =[1]Оплата!AD90 -> 3303.01 | M92: =H92*M$6 -> 3808.2292 | N92: =I92*N$6 -> 555.9372 | O92: =SUM(M92:N92) -> 4364.1664 | Q92: =K92-O92+L92+P92 -> -10609.661 | R92: =A92 -> №074
A93: №075 | B93: 940.26 | C93: 369.81 | D93: 1310.09 | E93: 1063.21 | F93: 405.92 | G93: 1469.15 | H93: =E93-B93 -> 122.95 | I93: =F93-C93 -> 36.11 | J93: =SUM(H93:I93) -> 159.06 | K93: =[1]Оплата!BF91 -> -1947.3535 | L93: =[1]Оплата!AD91 -> 0 | M93: =H93*M$6 -> 810.2405 | N93: =I93*N$6 -> 90.9972 | O93: =SUM(M93:N93) -> 901.2377 | Q93: =K93-O93+L93+P93 -> -2848.5912 | R93: =A93 -> №075
A94: №076 | B94: 32721.547 | C94: 25785.309 | D94: 58506.856 | E94: 33631.207 | F94: 25888.202 | G94: 59519.409 | H94: =E94-B94 -> 909.66 | I94: =F94-C94 -> 102.893 | J94: =SUM(H94:I94) -> 1012.553 | K94: =[1]Оплата!BF92 -> 1.71611 | L94: =[1]Оплата!AD92 -> 4000 | M94: =H94*M$6 -> 5994.6594 | N94: =I94*N$6 -> 259.29036 | O94: =SUM(M94:N94) -> 6253.9498 | Q94: =K94-O94+L94+P94 -> -2252.2337 | R94: =A94 -> №076
A95: №077 | B95: 3387.74 | C95: 719.9 | D95: 4107.65 | E95: 3496.95 | F95: 729.17 | G95: 4226.13 | H95: =E95-B95 -> 109.21 | I95: =F95-C95 -> 9.27 | J95: =SUM(H95:I95) -> 118.48 | K95: =[1]Оплата!BF93 -> -1243.0873 | L95: =[1]Оплата!AD93 -> 0 | M95: =H95*M$6 -> 719.6939 | N95: =I95*N$6 -> 23.3604 | O95: =SUM(M95:N95) -> 743.0543 | Q95: =K95-O95+L95+P95 -> -1986.1416 | R95: =A95 -> №077
A96: №078 | B96: 7182.38 | C96: 16877.44 | D96: 24059.91 | E96: 7269.41 | F96: 16912.1 | G96: 24181.6 | H96: =E96-B96 -> 87.03 | I96: =F96-C96 -> 34.66 | J96: =SUM(H96:I96) -> 121.69 | K96: =[1]Оплата!BF94 -> 409.3495 | L96: =[1]Оплата!AD94 -> 0 | M96: =H96*M$6 -> 573.5277 | N96: =I96*N$6 -> 87.3432 | O96: =SUM(M96:N96) -> 660.8709 | Q96: =K96-O96+L96+P96 -> -251.5214 | R96: =A96 -> №078
A97: №079 | B97: 3046.66 | C97: 575.03 | D97: 3621.7 | E97: 3307.13 | F97: 626.82 | G97: 3933.96 | H97: =E97-B97 -> 260.47 | I97: =F97-C97 -> 51.79 | J97: =SUM(H97:I97) -> 312.26 | K97: =[1]Оплата!BF95 -> -4076.2753 | L97: =[1]Оплата!AD95 -> 0 | M97: =H97*M$6 -> 1716.4973 | N97: =I97*N$6 -> 130.5108 | O97: =SUM(M97:N97) -> 1847.0081 | Q97: =K97-O97+L97+P97 -> -5923.2834 | R97: =A97 -> №079
A98: №080 | B98: 4776.23 | C98: 2531.34 | D98: 7307.62 | E98: 5141.71 | F98: 2719.86 | G98: 7861.62 | H98: =E98-B98 -> 365.48 | I98: =F98-C98 -> 188.52 | J98: =SUM(H98:I98) -> 554 | K98: =[1]Оплата!BF96 -> -2574.2132 | L98: =[1]Оплата!AD96 -> 0 | M98: =H98*M$6 -> 2408.5132 | N98: =I98*N$6 -> 475.0704 | O98: =SUM(M98:N98) -> 2883.5836 | Q98: =K98-O98+L98+P98 -> -5457.7968 | R98: =A98 -> №080
A99: №081 | B99: 1583.08 | C99: 921.84 | D99: 2504.92 | E99: 1644.46 | F99: 962.46 | G99: 2606.94 | H99: =E99-B99 -> 61.38 | I99: =F99-C99 -> 40.62 | J99: =SUM(H99:I99) -> 102 | K99: =[1]Оплата!BF97 -> -2541.2528 | L99: =[1]Оплата!AD97 -> 0 | M99: =H99*M$6 -> 404.4942 | N99: =I99*N$6 -> 102.3624 | O99: =SUM(M99:N99) -> 506.8566 | Q99: =K99-O99+L99+P99 -> -3048.1094 | R99: =A99 -> №081
... A113: №094 | B113: 1117.98 | C113: 145.97 | D113: 1263.96 | E113: 1198.3 | F113: 161.42 | G113: 1359.73 | H113: =E113-B113 -> 80.32 | I113: =F113-C113 -> 15.45 | J113: =SUM(H113:I113) -> 95.77 | K113: =[1]Оплата!BF111 -> -583.659 | L113: =[1]Оплата!AD111 -> 1040 | M113: =H113*M$6 -> 529.3088 | N113: =I113*N$6 -> 38.934 | O113: =SUM(M113:N113) -> 568.2428 | Q113: =K113-O113+L113+P113 -> -111.9018 | R113: =A113 -> №094
A114: №095 | K114: =[1]Оплата!BF112 -> -3707.3669 | L114: =[1]Оплата!AD112 -> 0 | M114: =H114*M$6 -> 0 | N114: =I114*N$6 -> 0 | O114: =SUM(M114:N114) -> 0 | Q114: =K114-O114+L114+P114 -> -3707.3669 | R114: =A114 -> №095
A115: №096 | B115: 3086.94 | C115: 429.48 | D115: 3516.43 | E115: 3365.2 | F115: 453.75 | G115: 3818.96 | H115: =E115-B115 -> 278.26 | I115: =F115-C115 -> 24.27 | J115: =SUM(H115:I115) -> 302.53 | K115: =[1]Оплата!BF113 -> -1001.5833 | L115: =[1]Оплата!AD113 -> 0 | M115: =H115*M$6 -> 1833.7334 | N115: =I115*N$6 -> 61.1604 | O115: =SUM(M115:N115) -> 1894.8938 | Q115: =K115-O115+L115+P115 -> -2896.4771 | R115: =A115 -> №096
A116: №097 | B116: 4216.87 | C116: 2430.98 | D116: 6647.95 | E116: 4216.98 | F116: 2430.98 | G116: 6648.07 | H116: =E116-B116 -> 0.11 | I116: =F116-C116 -> 0 | J116: =SUM(H116:I116) -> 0.11 | K116: =[1]Оплата!BF114 -> -198.49585 | L116: =[1]Оплата!AD114 -> 0 | M116: =H116*M$6 -> 0.7249 | N116: =I116*N$6 -> 0 | O116: =SUM(M116:N116) -> 0.7249 | Q116: =K116-O116+L116+P116 -> -199.22075 | R116: =A116 -> №097
A117: №098 | B117: 1240.33 | C117: 287.01 | D117: 1527.35 | E117: 1410.58 | F117: 341.66 | G117: 1752.25 | H117: =E117-B117 -> 170.25 | I117: =F117-C117 -> 54.65 | J117: =SUM(H117:I117) -> 224.9 | K117: =[1]Оплата!BF115 -> -2590.2388 | L117: =[1]Оплата!AD115 -> 0 | M117: =H117*M$6 -> 1121.9475 | N117: =I117*N$6 -> 137.718 | O117: =SUM(M117:N117) -> 1259.6655 | Q117: =K117-O117+L117+P117 -> -3849.9043 | R117: =A117 -> №098
A118: №099 | B118: 12412.45 | C118: 12002.28 | D118: 24414.79 | E118: 12665.76 | F118: 12122.5 | G118: 24788.33 | H118: =E118-B118 -> 253.31 | I118: =F118-C118 -> 120.22 | J118: =SUM(H118:I118) -> 373.53 | K118: =[1]Оплата!BF116 -> -645.5947 | L118: =[1]Оплата!AD116 -> 5000 | M118: =H118*M$6 -> 1669.3129 | N118: =I118*N$6 -> 302.9544 | O118: =SUM(M118:N118) -> 1972.2673 | Q118: =K118-O118+L118+P118 -> 2382.138 | R118: =A118 -> №099
A119: №100 | B119: 4.11 | C119: 1.68 | D119: 5.79 | E119: 4.11 | F119: 1.68 | G119: 5.79 | H119: =E119-B119 -> 0 | I119: =F119-C119 -> 0 | J119: =SUM(H119:I119) -> 0 | K119: =[1]Оплата!BF117 -> -0.5003 | L119: =[1]Оплата!AD117 -> 0 | M119: =H119*M$6 -> 0 | N119: =I119*N$6 -> 0 | O119: =SUM(M119:N119) -> 0 | Q119: =K119-O119+L119+P119 -> -0.5003 | R119: =A119 -> №100
A120: №101 | B120: 6014.91 | C120: 2102.01 | D120: 8117.07 | E120: 6137.99 | F120: 2124.15 | G120: 8262.29 | H120: =E120-B120 -> 123.08 | I120: =F120-C120 -> 22.14 | J120: =SUM(H120:I120) -> 145.22 | K120: =[1]Оплата!BF118 -> -965.0963 | L120: =[1]Оплата!AD118 -> 965.1 | M120: =H120*M$6 -> 811.0972 | N120: =I120*N$6 -> 55.7928 | O120: =SUM(M120:N120) -> 866.89 | Q120: =K120-O120+L120+P120 -> -866.8863 | R120: =A120 -> №101
...

Sheet Лист3
