Workbook

Sheet Лист2
J1: =SUM(J10:J275) -> 57498.216 | K1: =SUM(K10:K275) -> -484321.94 | L1: =SUM(L10:L275) -> 226187.34 | M1: =SUM(M10:M288) -> 277108.18 | N1: =SUM(N10:N288) -> 38930.011 | O1: =SUM(O10:O275) -> 316038.19 | P1: =SUM(P10:P275) -> 0 | Q1: =SUM(Q10:Q275) -> -574172.79
K2: =[1]Оплата!$BF$4 -> -484321.94 | L2: =[1]Оплата!$AD$1 -> 226187.34 | O2: =[1]Оплата!$O$1 -> 316038.19 | Q2: =[1]Оплата!$BG$2 -> -574172.79
L3: ОПЛАТА по разноске платежей автомат | Q3: Остаток расчетный
K5: =SUM(K10:K275) -> -484321.94 | L5: =SUM(L10:L275) -> 226187.34 | O5: =SUM(O10:O275) -> 316038.19 | P5: =SUM(P10:P275) -> 0 | Q5: =SUM(Q10:Q275) -> -574172.79
D6: РАСЧЕТ ЭЛЕКТРОЭНЕРГИИ ПО ПОТРЕБИТЕЛЯМ | L6: ТАРИФ | M6: 6.59 | N6: 2.52
A7: =F7 -> 44070 | C7: 44039 | F7: 44070 | H7: За период | K7: Остаток средств на | L7: Оплата | M7: Сумма начислений | P7: Перерас- | Q7: Задолженность ( - )
A8: 2020г | B8: КВТ | E8: КВТ | H8: КВТ | M8: руб. | P8: чет
A9: Код_ | B9: АктЭн_M | C9: АктЭн_L | D9: СуммАктЭн | E9: АктЭн_M | F9: АктЭн_L | G9: СуммАктЭн | H9: АктЭн_M | I9: АктЭн_L | J9: Всего | K9: =C7 -> 44039 | L9: =F7 -> 44070 | M9: День | N9: Ночь | O9: Всего | P9: руб | Q9: =F7 -> 44070 | R9: Код
A10: №002 | B10: 2604.5 | C10: 709.35 | D10: 3313.86 | E10: 2667.4 | F10: 733.59 | G10: 3401 | H10: =E10-B10 -> 62.9 | I10: =F10-C10 -> 24.24 | J10: =SUM(H10:I10) -> 87.14 | K10: =[1]Оплата!BF8 -> -4227.1245 | L10: =[1]Оплата!AD8 -> 0 | M10: =H10*M$6 -> 414.511 | N10: =I10*N$6 -> 61.0848 | O10: =SUM(M10:N10) -> 475.5958 | Q10: =K10-O10+L10+P10 -> -4702.7203 | R10: =A10 -> №002
A11: №003 | B11: 5671.94 | C11: 2522.69 | D11: 8194.65 | E11: 5827.52 | F11: 2590.13 | G11: 8417.68 | H11: =E11-B11 -> 155.58 | I11: =F11-C11 -> 67.44 | J11: =SUM(H11:I11) -> 223.02 | K11: =[1]Оплата!BF9 -> -883.0096 | L11: =[1]Оплата!AD9 -> 1000 | M11: =H11*M$6 -> 1025.2722 | N11: =I11*N$6 -> 169.9488 | O11: =SUM(M11:N11) -> 1195.221 | Q11: =K11-O11+L11+P11 -> -1078.2306 | R11: =A11 -> №003
A12: №004 | B12: 5479.18 | C12: 2008.9 | D12: 7488.09 | E12: 5646.8 | F12: 2087.97 | G12: 7734.77 | H12: =E12-B12 -> 167.62 | I12: =F12-C12 -> 79.07 | J12: =SUM(H12:I12) -> 246.69 | K12: =[1]Оплата!BF10 -> -1056.4845 | L12: =[1]Оплата!AD10 -> 2000 | M12: =H12*M$6 -> 1104.6158 | N12: =I12*N$6 -> 199.2564 | O12: =SUM(M12:N12) -> 1303.8722 | Q12: =K12-O12+L12+P12 -> -360.3567 | R12: =A12 -> №004
A13: №005 | B13: 796.33 | C13: 1362.19 | D13: 2158.65 | E13: 816.1 | F13: 1370.07 | G13: 2186.31 | H13: =E13-B13 -> 19.77 | I13: =F13-C13 -> 7.88 | J13: =SUM(H13:I13) -> 27.65 | K13: =[1]Оплата!BF11 -> -905.6481 | L13: =[1]Оплата!AD11 -> 0 | M13: =H13*M$6 -> 130.2843 | N13: =I13*N$6 -> 19.8576 | O13: =SUM(M13:N13) -> 150.1419 | Q13: =K13-O13+L13+P13 -> -1055.79 | R13: =A13 -> №005
A14: №006 | B14: 3208.16 | C14: 1563.39 | D14: 4771.56 | E14: 3208.16 | F14: 1563.39 | G14: 4771.56 | H14: =E14-B14 -> 0 | I14: =F14-C14 -> 0 | J14: =SUM(H14:I14) -> 0 | K14: =[1]Оплата!BF12 -> -11638.657 | L14: =[1]Оплата!AD12 -> 0 | M14: =H14*M$6 -> 0 | N14: =I14*N$6 -> 0 | O14: =SUM(M14:N14) -> 0 | Q14: =K14-O14+L14+P14 -> -11638.657 | R14: =A14 -> №006
A15: №007 | B15: 4016.34 | C15: 2351.83 | D15: 6368.21 | E15: 4072.63 | F15: 2378.56 | G15: 6451.22 | H15: =E15-B15 -> 56.29 | I15: =F15-C15 -> 26.73 | J15: =SUM(H15:I15) -> 83.02 | K15: =[1]Оплата!BF13 -> -1122.4961 | L15: =[1]Оплата!AD13 -> 0 | M15: =H15*M$6 -> 370.9511 | N15: =I15*N$6 -> 67.3596 | O15: =SUM(M15:N15) -> 438.3107 | Q15: =K15-O15+L15+P15 -> -1560.8068 | R15: =A15 -> №007
A16: №008 | B16: 2520.75 | C16: 512.31 | D16: 3033.07 | E16: 2777.5 | F16: 541.45 | G16: 3318.95 | H16: =E16-B16 -> 256.75 | I16: =F16-C16 -> 29.14 | J16: =SUM(H16:I16) -> 285.89 | K16: =[1]Оплата!BF14 -> -1349.3988 | L16: =[1]Оплата!AD14 -> 1349.4 | M16: =H16*M$6 -> 1691.9825 | N16: =I16*N$6 -> 73.4328 | O16: =SUM(M16:N16) -> 1765.4153 | Q16: =K16-O16+L16+P16 -> -1765.4141 | R16: =A16 -> №008
A17: №009 сбыт | J17: =SUM(H17:I17) -> 0 | K17: =[1]Оплата!BF15 -> 153.4953 | L17: =[1]Оплата!AD15 -> 0 | M17: =H17*M$6 -> 0 | N17: =I17*N$6 -> 0 | O17: =SUM(M17:N17) -> 0 | Q17: =K17-O17+L17 -> 153.4953 | R17: =A17 -> №009 сбыт
A18: №009а | B18: 4908.77 | C18: 2799.33 | D18: 7708.12 | E18: 4938.11 | F18: 2807.53 | G18: 7745.65 | H18: =E18-B18 -> 29.34 | I18: =F18-C18 -> 8.2 | J18: =SUM(H18:I18) -> 37.54 | K18: =[1]Оплата!BF16 -> -4150.1256 | L18: =[1]Оплата!AD16 -> 0 | M18: =H18*M$6 -> 193.3506 | N18: =I18*N$6 -> 20.664 | O18: =SUM(M18:N18) -> 214.0146 | Q18: =K18-O18+L18+P18 -> -4364.1402 | R18: =A18 -> №009а
A19: №010 | B19: 1370.74 | C19: 749.9 | D19: 2120.66 | E19: 1460.16 | F19: 762.44 | G19: 2222.62 | H19: =E19-B19 -> 89.42 | I19: =F19-C19 -> 12.54 | J19: =SUM(H19:I19) -> 101.96 | K19: =[1]Оплата!BF17 -> 1798.4629 | L19: =[1]Оплата!AD17 -> 0 | M19: =H19*M$6 -> 589.2778 | N19: =I19*N$6 -> 31.6008 | O19: =SUM(M19:N19) -> 620.8786 | Q19: =K19-O19+L19+P19 -> 1177.5843 | R19: =A19 -> №010
A20: №011 | B20: 3174.79 | C20: 541.38 | D20: 3716.19 | E20: 3174.79 | F20: 541.38 | G20: 3716.19 | H20: =E20-B20 -> 0 | I20: =F20-C20 -> 0 | J20: =SUM(H20:I20) -> 0 | K20: =[1]Оплата!BF18 -> 2533.8756 | L20: =[1]Оплата!AD18 -> 0 | M20: =H20*M$6 -> 0 | N20: =I20*N$6 -> 0 | O20: =SUM(M20:N20) -> 0 | Q20: =K20-O20+L20+P20 -> 2533.8756 | R20: =A20 -> №011
A21: №012 | B21: 730 | C21: 160.26 | D21: 890.27 | E21: 730.18 | F21: 160.27 | G21: 890.45 | H21: =E21-B21 -> 0.18 | I21: =F21-C21 -> 0.01 | J21: =SUM(H21:I21) -> 0.19 | K21: =[1]Оплата!BF19 -> -1149.6884 | L21: =[1]Оплата!AD19 -> 0 | M21: =H21*M$6 -> 1.1862 | N21: =I21*N$6 -> 0.0252 | O21: =SUM(M21:N21) -> 1.2114 | Q21: =K21-O21+L21+P21 -> -1150.8998 | R21: =A21 -> №012
A22: №012а | K22: =[1]Оплата!BF20 -> 5.2041 | L22: =[1]Оплата!AD20 -> 0 | M22: =H22*M$6 -> 0 | N22: =I22*N$6 -> 0 | O22: =SUM(M22:N22) -> 0 | Q22: =K22-O22+L22+P22 -> 5.2041 | R22: =A22 -> №012а
A23: №013 | B23: 9883.8 | C23: 2477.65 | D23: 12361.46 | E23: 10281.58 | F23: 2578.66 | G23: 12860.24 | H23: =E23-B23 -> 397.78 | I23: =F23-C23 -> 101.01 | J23: =SUM(H23:I23) -> 498.79 | K23: =[1]Оплата!BF21 -> 5025.1557 | L23: =[1]Оплата!AD21 -> 5000 | M23: =H23*M$6 -> 2621.3702 | N23: =I23*N$6 -> 254.5452 | O23: =SUM(M23:N23) -> 2875.9154 | Q23: =K23-O23+L23+P23 -> 7149.2403 | R23: =A23 -> №013
A24: №014 | B24: 3632.6 | C24: 7907.93 | D24: 11540.58 | E24: 3771.24 | F24: 7952.8 | G24: 11724.09 | H24: =E24-B24 -> 138.64 | I24: =F24-C24 -> 44.87 | J24: =SUM(H24:I24) -> 183.51 | K24: =[1]Оплата!BF22 -> -4350.1309 | L24: =[1]Оплата!AD22 -> 0 | M24: =H24*M$6 -> 913.6376 | N24: =I24*N$6 -> 113.0724 | O24: =SUM(M24:N24) -> 1026.71 | Q24: =K24-O24+L24+P24 -> -5376.8409 | R24: =A24 -> №014
A25: №015 | B25: 3708.38 | C25: 1996.52 | D25: 5704.9 | E25: 3770.58 | F25: 2019.85 | G25: 5790.44 | H25: =E25-B25 -> 62.2 | I25: =F25-C25 -> 23.33 | J25: =SUM(H25:I25) -> 85.53 | K25: =[1]Оплата!BF23 -> -1353.8394 | L25: =[1]Оплата!AD23 -> 0 | M25: =H25*M$6 -> 409.898 | N25: =I25*N$6 -> 58.7916 | O25: =SUM(M25:N25) -> 468.6896 | Q25: =K25-O25+L25+P25 -> -1822.529 | R25: =A25 -> №015
A26: №016\17 | B26: 6824.32 | C26: 6701.9 | D26: 13526.22 | E26: 6888.18 | F26: 6749.86 | G26: 13638.05 | H26: =E26-B26 -> 63.86 | I26: =F26-C26 -> 47.96 | J26: =SUM(H26:I26) -> 111.82 | K26: =[1]Оплата!BF24 -> -1169.4313 | L26: =[1]Оплата!AD24 -> 1120 | M26: =H26*M$6 -> 420.8374 | N26: =I26*N$6 -> 120.8592 | O26: =SUM(M26:N26) -> 541.6966 | Q26: =K26-O26+L26+P26 -> -591.1279 | R26: =A26 -> №016\17
A27: №018 | B27: 2612.05 | C27: 918.2 | D27: 3530.27 | E27: 2909.29 | F27: 1009.77 | G27: 3919.08 | H27: =E27-B27 -> 297.24 | I27: =F27-C27 -> 91.57 | J27: =SUM(H27:I27) -> 388.81 | K27: =[1]Оплата!BF25 -> -1449.4806 | L27: =[1]Оплата!AD25 -> 0 | M27: =H27*M$6 -> 1958.8116 | N27: =I27*N$6 -> 230.7564 | O27: =SUM(M27:N27) -> 2189.568 | Q27: =K27-O27+L27+P27 -> -3639.0486 | R27: =A27 -> №018
A28: №019 | B28: 6644.63 | C28: 3975.4 | D28: 10620.09 | E28: 6644.63 | F28: 3975.4 | G28: 10620.09 | H28: =E28-B28 -> 0 | I28: =F28-C28 -> 0 | J28: =SUM(H28:I28) -> 0 | K28: =[1]Оплата!BF26 -> -20720.601 | L28: =[1]Оплата!AD26 -> 0 | M28: =H28*M$6 -> 0 | N28: =I28*N$6 -> 0 | O28: =SUM(M28:N28) -> 0 | Q28: =K28-O28+L28+P28 -> -20720.601 | R28: =A28 -> №019
A29: №020 | B29: 5352.89 | C29: 2594.48 | D29: 7948.02 | E29: 5586.66 | F29: 2680.92 | G29: 8268.22 | H29: =E29-B29 -> 233.77 | I29: =F29-C29 -> 86.44 | J29: =SUM(H29:I29) -> 320.21 | K29: =[1]Оплата!BF27 -> -22.1803 | L29: =[1]Оплата!AD27 -> 0 | M29: =H29*M$6 -> 1540.5443 | N29: =I29*N$6 -> 217.8288 | O29: =SUM(M29:N29) -> 1758.3731 | Q29: =K29-O29+L29+P29 -> -1780.5534 | R29: =A29 -> №020
A30: №021\1 | B30: 198.51 | C30: 192.5 | D30: 391.02 | E30: 205.39 | F30: 195.24 | G30: 400.63 | H30: =E30-B30 -> 6.88 | I30: =F30-C30 -> 2.74 | J30: =SUM(H30:I30) -> 9.62 | K30: =[1]Оплата!BF28 -> 3587.4932 | L30: =[1]Оплата!AD28 -> 0 | M30: =H30*M$6 -> 45.3392 | N30: =I30*N$6 -> 6.9048 | O30: =SUM(M30:N30) -> 52.244 | Q30: =K30-O30+L30+P30 -> 3535.2492 | R30: =A30 -> №021\1
A31: №021\2 | B31: 1442.73 | C31: 767.11 | D31: 2209.84 | E31: 1487.1 | F31: 782.35 | G31: 2269.45 | H31: =E31-B31 -> 44.37 | I31: =F31-C31 -> 15.24 | J31: =SUM(H31:I31) -> 59.61 | K31: =[1]Оплата!BF29 -> -5665.3042 | L31: =[1]Оплата!AD29 -> 1813.46 | M31: =H31*M$6 -> 292.3983 | N31: =I31*N$6 -> 38.4048 | O31: =SUM(M31:N31) -> 330.8031 | Q31: =K31-O31+L31+P31 -> -4182.6473 | R31: =A31 -> №021\2
A32: №022 | B32: 3403.01 | C32: 1502.93 | D32: 4905.95 | E32: 3446.04 | F32: 1511.84 | G32: 4957.89 | H32: =E32-B32 -> 43.03 | I32: =F32-C32 -> 8.91 | J32: =SUM(H32:I32) -> 51.94 | K32: =[1]Оплата!BF30 -> -1456.3813 | L32: =[1]Оплата!AD30 -> 4000 | M32: =H32*M$6 -> 283.5677 | N32: =I32*N$6 -> 22.4532 | O32: =SUM(M32:N32) -> 306.0209 | Q32: =K32-O32+L32+P32 -> 2237.5978 | R32: =A32 -> №022
A33: №022а | B33: 1291.65 | C33: 495.05 | D33: 1786.71 | E33: 1378.24 | F33: 540.44 | G33: 1918.69 | H33: =E33-B33 -> 86.59 | I33: =F33-C33 -> 45.39 | J33: =SUM(H33:I33) -> 131.98 | K33: =[1]Оплата!BF31 -> -135.0128 | L33: =[1]Оплата!AD31 -> 0 | M33: =H33*M$6 -> 570.6281 | N33: =I33*N$6 -> 114.3828 | O33: =SUM(M33:N33) -> 685.0109 | Q33: =K33-O33+L33+P33 -> -820.0237 | R33: =A33 -> №022а
A34: №023 | B34: 0.51 | C34: 0.58 | D34: 1.1 | E34: 0.51 | F34: 0.58 | G34: 1.1 | H34: =E34-B34 -> 0 | I34: =F34-C34 -> 0 | J34: =SUM(H34:I34) -> 0 | K34: =[1]Оплата!BF32 -> -3.358 | L34: =[1]Оплата!AD32 -> 0 | M34: =H34*M$6 -> 0 | N34: =I34*N$6 -> 0 | O34: =SUM(M34:N34) -> 0 | Q34: =K34-O34+L34+P34 -> -3.358 | R34: =A34 -> №023
... A39: №028 | B39: 1330.52 | C39: 496.08 | D39: 1826.61 | E39: 1330.52 | F39: 496.08 | G39: 1826.61 | H39: =E39-B39 -> 0 | I39: =F39-C39 -> 0 | J39: =SUM(H39:I39) -> 0 | K39: =[1]Оплата!BF37 -> -4.3548 | L39: =[1]Оплата!AD37 -> 0 | M39: =H39*M$6 -> 0 | N39: =I39*N$6 -> 0 | O39: =SUM(M39:N39) -> 0 | Q39: =K39-O39+L39+P39 -> -4.3548 | R39: =A39 -> №028
A40: №029 сбыт | H40: =E40-B40 -> 0 | I40: =F40-C40 -> 0 | J40: =SUM(H40:I40) -> 0 | K40: =[1]Оплата!BF38 -> 0.0048 | L40: =[1]Оплата!AD38 -> 0 | M40: =H40*M$6 -> 0 | N40: =I40*N$6 -> 0 | O40: =SUM(M40:N40) -> 0 | Q40: =K40-O40+L40+P40 -> 0.0048 | R40: =A40 -> №029 сбыт
A41: №030 | B41: 1603.35 | C41: 584.95 | D41: 2188.35 | E41: 1603.35 | F41: 584.95 | G41: 2188.35 | H41: =E41-B41 -> 0 | I41: =F41-C41 -> 0 | J41: =SUM(H41:I41) -> 0 | K41: =[1]Оплата!BF39 -> -10.3873 | L41: =[1]Оплата!AD39 -> 0 | M41: =H41*M$6 -> 0 | N41: =I41*N$6 -> 0 | O41: =SUM(M41:N41) -> 0 | Q41: =K41-O41+L41+P41 -> -10.3873 | R41: =A41 -> №030
A42: №031\1 | B42: 7581.09 | C42: 3887.04 | D42: 11468.13 | E42: 7909.15 | F42: 3990.3 | G42: 11899.45 | H42: =E42-B42 -> 328.06 | I42: =F42-C42 -> 103.26 | J42: =SUM(H42:I42) -> 431.32 | K42: =[1]Оплата!BF40 -> -15249.781 | L42: =[1]Оплата!AD40 -> 4409.89 | M42: =H42*M$6 -> 2161.9154 | N42: =I42*N$6 -> 260.2152 | O42: =SUM(M42:N42) -> 2422.1306 | Q42: =K42-O42+L42+P42 -> -13262.022 | R42: =A42 -> №031\1
A43: №031\2 | B43: 4253.95 | C43: 1253.81 | D43: 5507.77 | E43: 4498.04 | F43: 1347.14 | G43: 5845.18 | H43: =E43-B43 -> 244.09 | I43: =F43-C43 -> 93.33 | J43: =SUM(H43:I43) -> 337.42 | K43: =[1]Оплата!BF41 -> 10839.887 | L43: =[1]Оплата!AD41 -> 0 | M43: =H43*M$6 -> 1608.5531 | N43: =I43*N$6 -> 235.1916 | O43: =SUM(M43:N43) -> 1843.7447 | Q43: =K43-O43+L43+P43 -> 8996.142 | R43: =A43 -> №031\2
A44: №032 | B44: 6988.24 | C44: 4181.51 | D44: 11169.84 | E44: 7194.12 | F44: 4245.39 | G44: 11439.61 | H44: =E44-B44 -> 205.88 | I44: =F44-C44 -> 63.88 | J44: =SUM(H44:I44) -> 269.76 | K44: =[1]Оплата!BF42 -> -5067.6631 | L44: =[1]Оплата!AD42 -> 0 | M44: =H44*M$6 -> 1356.7492 | N44: =I44*N$6 -> 160.9776 | O44: =SUM(M44:N44) -> 1517.7268 | Q44: =K44-O44+L44+P44 -> -6585.3899 | R44: =A44 -> №032
A45: №033 | B45: 8584.24 | C45: 2875.5 | D45: 11459.75 | E45: 8828.67 | F45: 2924.94 | G45: 11753.61 | H45: =E45-B45 -> 244.43 | I45: =F45-C45 -> 49.44 | J45: =SUM(H45:I45) -> 293.87 | K45: =[1]Оплата!BF43 -> 574.1936 | L45: =[1]Оплата!AD43 -> 3000 | M45: =H45*M$6 -> 1610.7937 | N45: =I45*N$6 -> 124.5888 | O45: =SUM(M45:N45) -> 1735.3825 | Q45: =K45-O45+L45+P45 -> 1838.8111 | R45: =A45 -> №033
...

Sheet Лист3
