Workbook

Sheet Лист2
J1: =SUM(J10:J275) -> 27782.727 | K1: =SUM(K10:K275) -> -404679.88 | L1: =SUM(L10:L275) -> 137795.86 | M1: =SUM(M10:M288) -> 118758.51 | N1: =SUM(N10:N288) -> 22166.385 | O1: =SUM(O10:O275) -> 140924.9 | P1: =SUM(P10:P275) -> 0 | Q1: =SUM(Q10:Q275) -> -407808.92
L3: ОПЛАТА по разноске платежей автомат | Q3: Остаток расчетный
K5: =SUM(K10:K275) -> -404679.88 | L5: =SUM(L10:L275) -> 137795.86 | O5: =SUM(O10:O275) -> 140924.9 | P5: =SUM(P10:P275) -> 0 | Q5: =SUM(Q10:Q275) -> -407808.92
D6: РАСЧЕТ ЭЛЕКТРОЭНЕРГИИ ПО ПОТРЕБИТЕЛЯМ | L6: ТАРИФ | M6: 6.39 | N6: 2.41
A7: =F7 -> 43854 | C7: 43824 | F7: 43854 | H7: За период | K7: Остаток средств на | L7: Оплата | M7: Сумма начислений | P7: Перерас- | Q7: Задолженность ( - )
A8: 2019г | B8: КВТ | E8: КВТ | H8: КВТ | M8: руб. | P8: чет
A9: Код_ | B9: АктЭн_M | C9: АктЭн_L | D9: СуммАктЭн | E9: АктЭн_M | F9: АктЭн_L | G9: СуммАктЭн | H9: АктЭн_M | I9: АктЭн_L | J9: Всего | K9: =C7 -> 43824 | L9: =F7 -> 43854 | M9: День | N9: Ночь | O9: Всего | P9: руб | Q9: =F7 -> 43854 | R9: Код
A10: №002 | B10: 2044.26 | C10: 571.21 | D10: 2615.48 | E10: 2047.13 | F10: 571.21 | G10: 2618.35 | H10: =E10-B10 -> 2.87 | I10: =F10-C10 -> 0 | J10: =SUM(H10:I10) -> 2.87 | K10: =[1]Оплата!AY8 -> -264.7389 | L10: =[1]Оплата!W8 -> 0 | M10: =H10*M$6 -> 18.3393 | N10: =I10*N$6 -> 0 | O10: =SUM(M10:N10) -> 18.3393 | Q10: =K10-O10+L10+P10 -> -283.0782 | R10: =A10 -> №002
A11: №003 | B11: 5287.05 | C11: 2331.54 | D11: 7618.6 | E11: 5287.07 | F11: 2331.54 | G11: 7618.62 | H11: =E11-B11 -> 0.02 | I11: =F11-C11 -> 0 | J11: =SUM(H11:I11) -> 0.02 | K11: =[1]Оплата!AY9 -> -333.6623 | L11: =[1]Оплата!W9 -> 0 | M11: =H11*M$6 -> 0.1278 | N11: =I11*N$6 -> 0 | O11: =SUM(M11:N11) -> 0.1278 | Q11: =K11-O11+L11+P11 -> -333.7901 | R11: =A11 -> №003
A12: №004 | B12: 5052.89 | C12: 1882.6 | D12: 6935.5 | E12: 5054.01 | F12: 1882.97 | G12: 6936.99 | H12: =E12-B12 -> 1.12 | I12: =F12-C12 -> 0.37 | J12: =SUM(H12:I12) -> 1.49 | K12: =[1]Оплата!AY10 -> 8.855 | L12: =[1]Оплата!W10 -> 0 | M12: =H12*M$6 -> 7.1568 | N12: =I12*N$6 -> 0.8917 | O12: =SUM(M12:N12) -> 8.0485 | Q12: =K12-O12+L12+P12 -> 0.8065 | R12: =A12 -> №004
A13: №005 | B13: 789.7 | C13: 1361.13 | D13: 2150.96 | E13: 789.7 | F13: 1361.13 | G13: 2150.96 | H13: =E13-B13 -> 0 | I13: =F13-C13 -> 0 | J13: =SUM(H13:I13) -> 0 | K13: =[1]Оплата!AY11 -> -859.2852 | L13: =[1]Оплата!W11 -> 0 | M13: =H13*M$6 -> 0 | N13: =I13*N$6 -> 0 | O13: =SUM(M13:N13) -> 0 | Q13: =K13-O13+L13+P13 -> -859.2852 | R13: =A13 -> №005
A14: №006 | B14: 3208.16 | C14: 1563.39 | D14: 4771.56 | E14: 3208.16 | F14: 1563.39 | G14: 4771.56 | H14: =E14-B14 -> 0 | I14: =F14-C14 -> 0 | J14: =SUM(H14:I14) -> 0 | K14: =[1]Оплата!AY12 -> -11638.657 | L14: =[1]Оплата!W12 -> 0 | M14: =H14*M$6 -> 0 | N14: =I14*N$6 -> 0 | O14: =SUM(M14:N14) -> 0 | Q14: =K14-O14+L14+P14 -> -11638.657 | R14: =A14 -> №006
A15: №007 | B15: 3479.46 | C15: 1982.27 | D15: 5461.75 | E15: 3479.46 | F15: 1982.27 | G15: 5461.75 | H15: =E15-B15 -> 0 | I15: =F15-C15 -> 0 | J15: =SUM(H15:I15) -> 0 | K15: =[1]Оплата!AY13 -> -6750.5345 | L15: =[1]Оплата!W13 -> 0 | M15: =H15*M$6 -> 0 | N15: =I15*N$6 -> 0 | O15: =SUM(M15:N15) -> 0 | Q15: =K15-O15+L15+P15 -> -6750.5345 | R15: =A15 -> №007
A16: №008 | B16: 2219.03 | C16: 465.94 | D16: 2684.98 | E16: 2219.03 | F16: 465.94 | G16: 2684.98 | H16: =E16-B16 -> 0 | I16: =F16-C16 -> 0 | J16: =SUM(H16:I16) -> 0 | K16: =[1]Оплата!AY14 -> 0.0003 | L16: =[1]Оплата!W14 -> 0 | M16: =H16*M$6 -> 0 | N16: =I16*N$6 -> 0 | O16: =SUM(M16:N16) -> 0 | Q16: =K16-O16+L16+P16 -> 0.0003 | R16: =A16 -> №008
A17: №009 сбыт | J17: =SUM(H17:I17) -> 0 | K17: =[1]Оплата!AY15 -> 153.4953 | L17: =[1]Оплата!W15 -> 0 | M17: =H17*M$6 -> 0 | N17: =I17*N$6 -> 0 | O17: =SUM(M17:N17) -> 0 | Q17: =K17-O17+L17 -> 153.4953 | R17: =A17 -> №009 сбыт
A18: №009а | B18: 4340.7 | C18: 2586.03 | D18: 6926.74 | E18: 4609.73 | F18: 2706.17 | G18: 7315.91 | H18: =E18-B18 -> 269.03 | I18: =F18-C18 -> 120.14 | J18: =SUM(H18:I18) -> 389.17 | K18: =[1]Оплата!AY16 -> -6064.6633 | L18: =[1]Оплата!W16 -> 0 | M18: =H18*M$6 -> 1719.1017 | N18: =I18*N$6 -> 289.5374 | O18: =SUM(M18:N18) -> 2008.6391 | Q18: =K18-O18+L18+P18 -> -8073.3024 | R18: =A18 -> №009а
A19: №010 | B19: 1097.27 | C19: 696.24 | D19: 1793.53 | E19: 1097.28 | F19: 696.24 | G19: 1793.54 | H19: =E19-B19 -> 0.01 | I19: =F19-C19 -> 0 | J19: =SUM(H19:I19) -> 0.01 | K19: =[1]Оплата!AY17 -> 3698.6806 | L19: =[1]Оплата!W17 -> 0 | M19: =H19*M$6 -> 0.0639 | N19: =I19*N$6 -> 0 | O19: =SUM(M19:N19) -> 0.0639 | Q19: =K19-O19+L19+P19 -> 3698.6167 | R19: =A19 -> №010
A20: №011 | B20: 2872.28 | C20: 497.9 | D20: 3370.2 | E20: 2872.28 | F20: 497.9 | G20: 3370.2 | H20: =E20-B20 -> 0 | I20: =F20-C20 -> 0 | J20: =SUM(H20:I20) -> 0 | K20: =[1]Оплата!AY18 -> 87.9912 | L20: =[1]Оплата!W18 -> 0 | M20: =H20*M$6 -> 0 | N20: =I20*N$6 -> 0 | O20: =SUM(M20:N20) -> 0 | Q20: =K20-O20+L20+P20 -> 87.9912 | R20: =A20 -> №011
A21: №012 | B21: 604.44 | C21: 134.67 | D21: 739.12 | E21: 604.49 | F21: 134.67 | G21: 739.17 | H21: =E21-B21 -> 0.05 | I21: =F21-C21 -> 0 | J21: =SUM(H21:I21) -> 0.05 | K21: =[1]Оплата!AY19 -> -282.4558 | L21: =[1]Оплата!W19 -> 0 | M21: =H21*M$6 -> 0.3195 | N21: =I21*N$6 -> 0 | O21: =SUM(M21:N21) -> 0.3195 | Q21: =K21-O21+L21+P21 -> -282.7753 | R21: =A21 -> №012
A22: №012а | B22: 7.84 | C22: 0.81 | D22: 8.66 | E22: 7.84 | F22: 0.81 | G22: 8.66 | H22: =E22-B22 -> 0 | I22: =F22-C22 -> 0 | J22: =SUM(H22:I22) -> 0 | K22: =[1]Оплата!AY20 -> 5.2282 | L22: =[1]Оплата!W20 -> 0 | M22: =H22*M$6 -> 0 | N22: =I22*N$6 -> 0 | O22: =SUM(M22:N22) -> 0 | Q22: =K22-O22+L22+P22 -> 5.2282 | R22: =A22 -> №012а
A23: №013 | B23: 8694.68 | C23: 2141.16 | D23: 10835.84 | E23: 8696.95 | F23: 2142.29 | G23: 10839.25 | H23: =E23-B23 -> 2.27 | I23: =F23-C23 -> 1.13 | J23: =SUM(H23:I23) -> 3.4 | K23: =[1]Оплата!AY21 -> 1524.9722 | L23: =[1]Оплата!W21 -> 0 | M23: =H23*M$6 -> 14.5053 | N23: =I23*N$6 -> 2.7233 | O23: =SUM(M23:N23) -> 17.2286 | Q23: =K23-O23+L23+P23 -> 1507.7436 | R23: =A23 -> №013
A24: №014 | B24: 2842.13 | C24: 7611.17 | D24: 10453.36 | E24: 2842.13 | F24: 7611.17 | G24: 10453.36 | H24: =E24-B24 -> 0 | I24: =F24-C24 -> 0 | J24: =SUM(H24:I24) -> 0 | K24: =[1]Оплата!AY22 -> -1015.568 | L24: =[1]Оплата!W22 -> 0 | M24: =H24*M$6 -> 0 | N24: =I24*N$6 -> 0 | O24: =SUM(M24:N24) -> 0 | Q24: =K24-O24+L24+P24 -> -1015.568 | R24: =A24 -> №014
A25: №015 | B25: 3647.35 | C25: 1976.46 | D25: 5623.81 | E25: 3647.35 | F25: 1976.46 | G25: 5623.81 | H25: =E25-B25 -> 0 | I25: =F25-C25 -> 0 | J25: =SUM(H25:I25) -> 0 | K25: =[1]Оплата!AY23 -> -901.1005 | L25: =[1]Оплата!W23 -> 0 | M25: =H25*M$6 -> 0 | N25: =I25*N$6 -> 0 | O25: =SUM(M25:N25) -> 0 | Q25: =K25-O25+L25+P25 -> -901.1005 | R25: =A25 -> №015
A26: №016\17 | B26: 6730.44 | C26: 6665.5 | D26: 13395.95 | E26: 6730.44 | F26: 6665.5 | G26: 13395.95 | H26: =E26-B26 -> 0 | I26: =F26-C26 -> 0 | J26: =SUM(H26:I26) -> 0 | K26: =[1]Оплата!AY24 -> -474.9786 | L26: =[1]Оплата!W24 -> 0 | M26: =H26*M$6 -> 0 | N26: =I26*N$6 -> 0 | O26: =SUM(M26:N26) -> 0 | Q26: =K26-O26+L26+P26 -> -474.9786 | R26: =A26 -> №016\17
A27: №018 | B27: 1784.19 | C27: 618.97 | D27: 2403.18 | E27: 1794.12 | F27: 626.7 | G27: 2420.83 | H27: =E27-B27 -> 9.93 | I27: =F27-C27 -> 7.73 | J27: =SUM(H27:I27) -> 17.66 | K27: =[1]Оплата!AY25 -> 4625.87 | L27: =[1]Оплата!W25 -> 0 | M27: =H27*M$6 -> 63.4527 | N27: =I27*N$6 -> 18.6293 | O27: =SUM(M27:N27) -> 82.082 | Q27: =K27-O27+L27+P27 -> 4543.788 | R27: =A27 -> №018
A28: №019 | B28: 6503.21 | C28: 3891.84 | D28: 10395.1 | E28: 6644.63 | F28: 3975.4 | G28: 10620.09 | H28: =E28-B28 -> 141.42 | I28: =F28-C28 -> 83.56 | J28: =SUM(H28:I28) -> 224.98 | K28: =[1]Оплата!AY26 -> -19615.548 | L28: =[1]Оплата!W26 -> 0 | M28: =H28*M$6 -> 903.6738 | N28: =I28*N$6 -> 201.3796 | O28: =SUM(M28:N28) -> 1105.0534 | Q28: =K28-O28+L28+P28 -> -20720.601 | R28: =A28 -> №019
A29: №020 | B29: 5006.35 | C29: 2499.22 | D29: 7506.22 | E29: 5006.35 | F29: 2499.22 | G29: 7506.22 | H29: =E29-B29 -> 0 | I29: =F29-C29 -> 0 | J29: =SUM(H29:I29) -> 0 | K29: =[1]Оплата!AY27 -> -549.8092 | L29: =[1]Оплата!W27 -> 0 | M29: =H29*M$6 -> 0 | N29: =I29*N$6 -> 0 | O29: =SUM(M29:N29) -> 0 | Q29: =K29-O29+L29+P29 -> -549.8092 | R29: =A29 -> №020
... A39: №028 | B39: 1330.52 | C39: 496.08 | D39: 1826.61 | E39: 1330.52 | F39: 496.08 | G39: 1826.61 | H39: =E39-B39 -> 0 | I39: =F39-C39 -> 0 | J39: =SUM(H39:I39) -> 0 | K39: =[1]Оплата!AY37 -> -4.3548 | L39: =[1]Оплата!W37 -> 0 | M39: =H39*M$6 -> 0 | N39: =I39*N$6 -> 0 | O39: =SUM(M39:N39) -> 0 | Q39: =K39-O39+L39+P39 -> -4.3548 | R39: =A39 -> №028
A40: №029 сбыт | H40: =E40-B40 -> 0 | I40: =F40-C40 -> 0 | J40: =SUM(H40:I40) -> 0 | K40: =[1]Оплата!AY38 -> 0.0048 | L40: =[1]Оплата!W38 -> 0 | M40: =H40*M$6 -> 0 | N40: =I40*N$6 -> 0 | O40: =SUM(M40:N40) -> 0 | Q40: =K40-O40+L40+P40 -> 0.0048 | R40: =A40 -> №029 сбыт
A41: №030 | B41: 1603.11 | C41: 584.95 | D41: 2188.11 | E41: 1603.11 | F41: 584.95 | G41: 2188.11 | H41: =E41-B41 -> 0 | I41: =F41-C41 -> 0 | J41: =SUM(H41:I41) -> 0 | K41: =[1]Оплата!AY39 -> -8.8057 | L41: =[1]Оплата!W39 -> 0 | M41: =H41*M$6 -> 0 | N41: =I41*N$6 -> 0 | O41: =SUM(M41:N41) -> 0 | Q41: =K41-O41+L41+P41 -> -8.8057 | R41: =A41 -> №030
A42: №031\1 | B42: 5470.29 | C42: 2732.08 | D42: 8202.37 | E42: 5485.98 | F42: 2740.76 | G42: 8226.75 | H42: =E42-B42 -> 15.69 | I42: =F42-C42 -> 8.68 | J42: =SUM(H42:I42) -> 24.37 | K42: =[1]Оплата!AY40 -> -3933.1982 | L42: =[1]Оплата!W40 -> 0 | M42: =H42*M$6 -> 100.2591 | N42: =I42*N$6 -> 20.9188 | O42: =SUM(M42:N42) -> 121.1779 | Q42: =K42-O42+L42+P42 -> -4054.3761 | R42: =A42 -> №031\1
A43: №031\2 | B43: 3152.22 | C43: 846.38 | D43: 3998.6 | E43: 3152.22 | F43: 846.38 | G43: 3998.6 | H43: =E43-B43 -> 0 | I43: =F43-C43 -> 0 | J43: =SUM(H43:I43) -> 0 | K43: =[1]Оплата!AY41 -> 4776.6876 | L43: =[1]Оплата!W41 -> 0 | M43: =H43*M$6 -> 0 | N43: =I43*N$6 -> 0 | O43: =SUM(M43:N43) -> 0 | Q43: =K43-O43+L43+P43 -> 4776.6876 | R43: =A43 -> №031\2
A44: №032 | B44: 6698.32 | C44: 4058.6 | D44: 10757.02 | E44: 6698.32 | F44: 4058.6 | G44: 10757.02 | H44: =E44-B44 -> 0 | I44: =F44-C44 -> 0 | J44: =SUM(H44:I44) -> 0 | K44: =[1]Оплата!AY42 -> -2876.7376 | L44: =[1]Оплата!W42 -> 0 | M44: =H44*M$6 -> 0 | N44: =I44*N$6 -> 0 | O44: =SUM(M44:N44) -> 0 | Q44: =K44-O44+L44+P44 -> -2876.7376 | R44: =A44 -> №032
A45: №033 | B45: 7635.06 | C45: 2518.06 | D45: 10153.12 | E45: 7641.05 | F45: 2518.06 | G45: 10159.11 | H45: =E45-B45 -> 5.99 | I45: =F45-C45 -> 0 | J45: =SUM(H45:I45) -> 5.99 | K45: =[1]Оплата!AY43 -> 546.5239 | L45: =[1]Оплата!W43 -> 0 | M45: =H45*M$6 -> 38.2761 | N45: =I45*N$6 -> 0 | O45: =SUM(M45:N45) -> 38.2761 | Q45: =K45-O45+L45+P45 -> 508.2478 | R45: =A45 -> №033
A46: №034 | B46: 1964.08 | C46: 436.75 | D46: 2400.84 | E46: 1964.08 | F46: 436.75 | G46: 2400.84 | H46: =E46-B46 -> 0 | I46: =F46-C46 -> 0 | J46: =SUM(H46:I46) -> 0 | K46: =[1]Оплата!AY44 -> -5.4783 | L46: =[1]Оплата!W44 -> 0 | M46: =H46*M$6 -> 0 | N46: =I46*N$6 -> 0 | O46: =SUM(M46:N46) -> 0 | Q46: =K46-O46+L46+P46 -> -5.4783 | R46: =A46 -> №034
A47: №035 | B47: 8850.36 | C47: 4397.66 | D47: 13248.02 | E47: 8850.36 | F47: 4397.66 | G47: 13248.02 | H47: =E47-B47 -> 0 | I47: =F47-C47 -> 0 | J47: =SUM(H47:I47) -> 0 | K47: =[1]Оплата!AY45 -> 59.6573 | L47: =[1]Оплата!W45 -> 0 | M47: =H47*M$6 -> 0 | N47: =I47*N$6 -> 0 | O47: =SUM(M47:N47) -> 0 | Q47: =K47-O47+L47+P47 -> 59.6573 | R47: =A47 -> №035
A48: №036 | B48: 6020.4 | C48: 1853.07 | D48: 7873.48 | E48: 6020.45 | F48: 1853.08 | G48: 7873.54 | H48: =E48-B48 -> 0.05 | I48: =F48-C48 -> 0.01 | J48: =SUM(H48:I48) -> 0.06 | K48: =[1]Оплата!AY46 -> -233.55 | L48: =[1]Оплата!W46 -> 0 | M48: =H48*M$6 -> 0.3195 | N48: =I48*N$6 -> 0.0241 | O48: =SUM(M48:N48) -> 0.3436 | Q48: =K48-O48+L48+P48 -> -233.8936 | R48: =A48 -> №036
A49: №037 | B49: 7111.09 | C49: 3435.44 | D49: 10546.59 | E49: 7340.29 | F49: 3547.57 | G49: 10887.91 | H49: =E49-B49 -> 229.2 | I49: =F49-C49 -> 112.13 | J49: =SUM(H49:I49) -> 341.33 | K49: =[1]Оплата!AY47 -> -2773.3755 | L49: =[1]Оплата!W47 -> 2773.38 | M49: =H49*M$6 -> 1464.588 | N49: =I49*N$6 -> 270.2333 | O49: =SUM(M49:N49) -> 1734.8213 | Q49: =K49-O49+L49+P49 -> -1734.8168 | R49: =A49 -> №037
A50: №038 | B50: 3613.06 | C50: 1770.64 | D50: 5383.72 | E50: 3613.06 | F50: 1770.64 | G50: 5383.72 | H50: =E50-B50 -> 0 | I50: =F50-C50 -> 0 | J50: =SUM(H50:I50) -> 0 | K50: =[1]Оплата!AY48 -> 1938.6636 | L50: =[1]Оплата!W48 -> 5000 | M50: =H50*M$6 -> 0 | N50: =I50*N$6 -> 0 | O50: =SUM(M50:N50) -> 0 | Q50: =K50-O50+L50+P50 -> 6938.6636 | R50: =A50 -> №038
A51: №039 сбыт | J51: =SUM(H51:I51) -> 0 | K51: =[1]Оплата!AY49 -> -582.5861 | L51: =[1]Оплата!W49 -> 0 | M51: =H51*M$6 -> 0 | N51: =I51*N$6 -> 0 | O51: =SUM(M51:N51) -> 0 | Q51: =K51-O51+L51+P51 -> -582.5861 | R51: =A51 -> №039 сбыт
A52: №040 | B52: 1372.33 | C52: 2550.53 | D52: 3922.88 | E52: 1372.33 | F52: 2550.53 | G52: 3922.88 | H52: =E52-B52 -> 0 | I52: =F52-C52 -> 0 | J52: =SUM(H52:I52) -> 0 | K52: =[1]Оплата!AY50 -> -0.4223 | L52: =[1]Оплата!W50 -> 0 | M52: =H52*M$6 -> 0 | N52: =I52*N$6 -> 0 | O52: =SUM(M52:N52) -> 0 | Q52: =K52-O52+L52+P52 -> -0.4223 | R52: =A52 -> №040
A53: №041 | B53: 5153.09 | C53: 2826.07 | D53: 7979.59 | E53: 5153.09 | F53: 2826.07 | G53: 7979.59 | H53: =E53-B53 -> 0 | I53: =F53-C53 -> 0 | J53: =SUM(H53:I53) -> 0 | K53: =[1]Оплата!AY51 -> 124.5977 | L53: =[1]Оплата!W51 -> 0 | M53: =H53*M$6 -> 0 | N53: =I53*N$6 -> 0 | O53: =SUM(M53:N53) -> 0 | Q53: =K53-O53+L53+P53 -> 124.5977 | R53: =A53 -> №041
A54: №041а | B54: 7910.68 | C54: 3591.35 | D54: 11502.03 | E54: 8107.18 | F54: 3674.22 | G54: 11781.41 | H54: =E54-B54 -> 196.5 | I54: =F54-C54 -> 82.87 | J54: =SUM(H54:I54) -> 279.37 | K54: =[1]Оплата!AY52 -> -1126.2404 | L54: =[1]Оплата!W52 -> 1500 | M54: =H54*M$6 -> 1255.635 | N54: =I54*N$6 -> 199.7167 | O54: =SUM(M54:N54) -> 1455.3517 | Q54: =K54-O54+L54+P54 -> -1081.5921 | R54: =A54 -> №041а
A55: №042 | B55: 3133.68 | C55: 2319.29 | D55: 5453 | E55: 3133.68 | F55: 2319.29 | G55: 5453.01 | H55: =E55-B55 -> 0 | I55: =F55-C55 -> 0 | J55: =SUM(H55:I55) -> 0 | K55: =[1]Оплата!AY53 -> -0.0663 | L55: =[1]Оплата!W53 -> 0 | M55: =H55*M$6 -> 0 | N55: =I55*N$6 -> 0 | O55: =SUM(M55:N55) -> 0 | Q55: =K55-O55+L55+P55 -> -0.0663 | R55: =A55 -> №042
A56: №043\1 | B56: 3535.41 | C56: 1417.66 | D56: 4953.08 | E56: 3627.21 | F56: 1463.44 | G56: 5090.65 | H56: =E56-B56 -> 91.8 | I56: =F56-C56 -> 45.78 | J56: =SUM(H56:I56) -> 137.58 | K56: =[1]Оплата!AY54 -> -489.4282 | L56: =[1]Оплата!W54 -> 650 | M56: =H56*M$6 -> 586.602 | N56: =I56*N$6 -> 110.3298 | O56: =SUM(M56:N56) -> 696.9318 | Q56: =K56-O56+L56+P56 -> -536.36 | R56: =A56 -> №043\1
A57: №043\2 | B57: 16524.98 | C57: 7456.95 | D57: 23981.94 | E57: 16926.04 | F57: 7666.74 | G57: 24592.79 | H57: =E57-B57 -> 401.06 | I57: =F57-C57 -> 209.79 | J57: =SUM(H57:I57) -> 610.85 | K57: =[1]Оплата!AY55 -> -151.3053 | L57: =[1]Оплата!W55 -> 0 | M57: =H57*M$6 -> 2562.7734 | N57: =I57*N$6 -> 505.5939 | O57: =SUM(M57:N57) -> 3068.3673 | Q57: =K57-O57+L57+P57 -> -3219.6726 | R57: =A57 -> №043\2
A58: №044 | B58: 4262.18 | C58: 2056.59 | D58: 6318.77 | E58: 4262.18 | F58: 2056.59 | G58: 6318.77 | H58: =E58-B58 -> 0 | I58: =F58-C58 -> 0 | J58: =SUM(H58:I58) -> 0 | K58: =[1]Оплата!AY56 -> -191.7052 | L58: =[1]Оплата!W56 -> 0 | M58: =H58*M$6 -> 0 | N58: =I58*N$6 -> 0 | O58: =SUM(M58:N58) -> 0 | Q58: =K58-O58+L58+P58 -> -191.7052 | R58: =A58 -> №044
A59: №045 не установлен | J59: =SUM(H59:I59) -> 0 | K59: =[1]Оплата!AY57 -> 0 | L59: =[1]Оплата!W57 -> 0 | Q59: =K59-O59+L59+P59 -> 0 | R59: =A59 -> №045 не установлен
A60: №046 | B60: 5294.18 | C60: 3715.37 | D60: 9009.57 | E60: 5294.18 | F60: 3715.37 | G60: 9009.57 | H60: =E60-B60 -> 0 | I60: =F60-C60 -> 0 | J60: =SUM(H60:I60) -> 0 | K60: =[1]Оплата!AY58 -> -5120.1097 | L60: =[1]Оплата!W58 -> 0 | M60: =H60*M$6 -> 0 | N60: =I60*N$6 -> 0 | O60: =SUM(M60:N60) -> 0 | Q60: =K60-O60+L60+P60 -> -5120.1097 | R60: =A60 -> №046
A61: №046а | B61: 6904.29 | C61: 2908.67 | D61: 9812.98 | E61: 6905.52 | F61: 2909.35 | G61: 9814.9 | H61: =E61-B61 -> 1.23 | I61: =F61-C61 -> 0.68 | J61: =SUM(H61:I61) -> 1.91 | K61: =[1]Оплата!AY59 -> -2727.842 | L61: =[1]Оплата!W59 -> 0 | M61: =H61*M$6 -> 7.8597 | N61: =I61*N$6 -> 1.6388 | O61: =SUM(M61:N61) -> 9.4985 | Q61: =K61-O61+L61+P61 -> -2737.3405 | R61: =A61 -> №046а
A62: №047 | B62: 314.78 | C62: 144.71 | D62: 459.5 | E62: 314.78 | F62: 144.71 | G62: 459.5 | H62: =E62-B62 -> 0 | I62: =F62-C62 -> 0 | J62: =SUM(H62:I62) -> 0 | K62: =[1]Оплата!AY60 -> -2071.5971 | L62: =[1]Оплата!W60 -> 0 | M62: =H62*M$6 -> 0 | N62: =I62*N$6 -> 0 | O62: =SUM(M62:N62) -> 0 | Q62: =K62-O62+L62+P62 -> -2071.5971 | R62: =A62 -> №047
A63: №048 | B63: 8961.59 | C63: 2569.44 | D63: 11531.03 | E63: 8961.7 | F63: 2569.46 | G63: 11531.16 | H63: =E63-B63 -> 0.11 | I63: =F63-C63 -> 0.02 | J63: =SUM(H63:I63) -> 0.13 | K63: =[1]Оплата!AY61 -> 43.7161 | L63: =[1]Оплата!W61 -> 0 | M63: =H63*M$6 -> 0.7029 | N63: =I63*N$6 -> 0.0482 | O63: =SUM(M63:N63) -> 0.7511 | Q63: =K63-O63+L63+P63 -> 42.965 | R63: =A63 -> №048
A64: №049 | B64: 7369.4 | C64: 2962.11 | D64: 10331.53 | E64: 7369.44 | F64: 2962.14 | G64: 10331.59 | H64: =E64-B64 -> 0.04 | I64: =F64-C64 -> 0.03 | J64: =SUM(H64:I64) -> 0.07 | K64: =[1]Оплата!AY62 -> -19.7062 | L64: =[1]Оплата!W62 -> 0 | M64: =H64*M$6 -> 0.2556 | N64: =I64*N$6 -> 0.0723 | O64: =SUM(M64:N64) -> 0.3279 | Q64: =K64-O64+L64+P64 -> -20.0341 | R64: =A64 -> №049
A65: №050 | B65: 9696.08 | C65: 3858.63 | D65: 13554.72 | E65: 9696.26 | F65: 3858.71 | G65: 13554.97 | H65: =E65-B65 -> 0.18 | I65: =F65-C65 -> 0.08 | J65: =SUM(H65:I65) -> 0.26 | K65: =[1]Оплата!AY63 -> -2069.476 | L65: =[1]Оплата!W63 -> 0 | M65: =H65*M$6 -> 1.1502 | N65: =I65*N$6 -> 0.1928 | O65: =SUM(M65:N65) -> 1.343 | Q65: =K65-O65+L65+P65 -> -2070.819 | R65: =A65 -> №050
A66: №051 | B66: 14043.4 | C66: 14220.18 | D66: 28263.58 | E66: 14548 | F66: 14475.71 | G66: 29023.72 | H66: =E66-B66 -> 504.6 | I66: =F66-C66 -> 255.53 | J66: =SUM(H66:I66) -> 760.13 | K66: =[1]Оплата!AY64 -> -11608.244 | L66: =[1]Оплата!W64 -> 0 | M66: =H66*M$6 -> 3224.394 | N66: =I66*N$6 -> 615.8273 | O66: =SUM(M66:N66) -> 3840.2213 | Q66: =K66-O66+L66+P66 -> -15448.465 | R66: =A66 -> №051
A67: №052 | B67: 5107.36 | C67: 1901.97 | D67: 7009.33 | E67: 5107.36 | F67: 1901.97 | G67: 7009.33 | H67: =E67-B67 -> 0 | I67: =F67-C67 -> 0 | J67: =SUM(H67:I67) -> 0 | K67: =[1]Оплата!AY65 -> -1907.4591 | L67: =[1]Оплата!W65 -> 0 | M67: =H67*M$6 -> 0 | N67: =I67*N$6 -> 0 | O67: =SUM(M67:N67) -> 0 | Q67: =K67-O67+L67+P67 -> -1907.4591 | R67: =A67 -> №052
A68: №052а | B68: 4050.92 | C68: 1442.96 | D68: 5493.92 | E68: 4165.69 | F68: 1478.46 | G68: 5644.19 | H68: =E68-B68 -> 114.77 | I68: =F68-C68 -> 35.5 | J68: =SUM(H68:I68) -> 150.27 | K68: =[1]Оплата!AY66 -> -455.1873 | L68: =[1]Оплата!W66 -> 0 | M68: =H68*M$6 -> 733.3803 | N68: =I68*N$6 -> 85.555 | O68: =SUM(M68:N68) -> 818.9353 | Q68: =K68-O68+L68+P68 -> -1274.1226 | R68: =A68 -> №052а
A69: №053 | B69: 127.07 | C69: 78.35 | D69: 205.42 | E69: 127.07 | F69: 78.35 | G69: 205.42 | H69: =E69-B69 -> 0 | I69: =F69-C69 -> 0 | J69: =SUM(H69:I69) -> 0 | K69: =[1]Оплата!AY67 -> 40.5525 | L69: =[1]Оплата!W67 -> 0 | M69: =H69*M$6 -> 0 | N69: =I69*N$6 -> 0 | O69: =SUM(M69:N69) -> 0 | Q69: =K69-O69+L69+P69 -> 40.5525 | R69: =A69 -> №053
A70: №054 | B70: 1313.03 | C70: 643.84 | D70: 1956.88 | E70: 1313.03 | F70: 643.84 | G70: 1956.88 | H70: =E70-B70 -> 0 | I70: =F70-C70 -> 0 | J70: =SUM(H70:I70) -> 0 | K70: =[1]Оплата!AY68 -> -345.6127 | L70: =[1]Оплата!W68 -> 0 | M70: =H70*M$6 -> 0 | N70: =I70*N$6 -> 0 | O70: =SUM(M70:N70) -> 0 | Q70: =K70-O70+L70+P70 -> -345.6127 | R70: =A70 -> №054
A71: №055 | B71: 8574.31 | C71: 3767.33 | D71: 12341.66 | E71: 8585.07 | F71: 3772.73 | G71: 12357.83 | H71: =E71-B71 -> 10.76 | I71: =F71-C71 -> 5.4 | J71: =SUM(H71:I71) -> 16.16 | K71: =[1]Оплата!AY69 -> -122.4576 | L71: =[1]Оплата!W69 -> 800 | M71: =H71*M$6 -> 68.7564 | N71: =I71*N$6 -> 13.014 | O71: =SUM(M71:N71) -> 81.7704 | Q71: =K71-O71+L71+P71 -> 595.772 | R71: =A71 -> №055
... A74: №058 | B74: 7422.98 | C74: 2491.19 | D74: 9914.18 | E74: 7423.63 | F74: 2491.45 | G74: 9915.09 | H74: =E74-B74 -> 0.65 | I74: =F74-C74 -> 0.26 | J74: =SUM(H74:I74) -> 0.91 | K74: =[1]Оплата!AY72 -> -30.5627 | L74: =[1]Оплата!W72 -> 0 | M74: =H74*M$6 -> 4.1535 | N74: =I74*N$6 -> 0.6266 | O74: =SUM(M74:N74) -> 4.7801 | Q74: =K74-O74+L74+P74 -> -35.3428 | R74: =A74 -> №058
A75: №059 | B75: 22277.91 | C75: 9723.54 | D75: 32001.46 | E75: 22297.04 | F75: 9733.1 | G75: 32030.15 | H75: =E75-B75 -> 19.13 | I75: =F75-C75 -> 9.56 | J75: =SUM(H75:I75) -> 28.69 | K75: =[1]Оплата!AY73 -> 5238.1611 | L75: =[1]Оплата!W73 -> 0 | M75: =H75*M$6 -> 122.2407 | N75: =I75*N$6 -> 23.0396 | O75: =SUM(M75:N75) -> 145.2803 | Q75: =K75-O75+L75 -> 5092.8808 | R75: =A75 -> №059
A76: №060 | B76: 924.3 | C76: 789.48 | D76: 1713.8 | E76: 1182.04 | F76: 843.08 | G76: 2025.13 | H76: =E76-B76 -> 257.74 | I76: =F76-C76 -> 53.6 | J76: =SUM(H76:I76) -> 311.34 | K76: =[1]Оплата!AY74 -> -4777.4124 | L76: =[1]Оплата!W74 -> 0 | M76: =H76*M$6 -> 1646.9586 | N76: =I76*N$6 -> 129.176 | O76: =SUM(M76:N76) -> 1776.1346 | Q76: =K76-O76+L76 -> -6553.547 | R76: =A76 -> №060
A77: №061 | B77: 5000.95 | C77: 2070.79 | D77: 7071.75 | E77: 5000.95 | F77: 2070.79 | G77: 7071.75 | H77: =E77-B77 -> 0 | I77: =F77-C77 -> 0 | J77: =SUM(H77:I77) -> 0 | K77: =[1]Оплата!AY75 -> -7054.0095 | L77: =[1]Оплата!W75 -> 0 | M77: =H77*M$6 -> 0 | N77: =I77*N$6 -> 0 | O77: =SUM(M77:N77) -> 0 | Q77: =K77-O77+L77+P77 -> -7054.0095 | R77: =A77 -> №061
A78: №062 | B78: 16588.21 | C78: 10099.24 | D78: 26687.99 | E78: 16588.21 | F78: 10099.24 | G78: 26687.99 | H78: =E78-B78 -> 0 | I78: =F78-C78 -> 0 | J78: =SUM(H78:I78) -> 0 | K78: =[1]Оплата!AY76 -> -1099.106 | L78: =[1]Оплата!W76 -> 0 | M78: =H78*M$6 -> 0 | N78: =I78*N$6 -> 0 | O78: =SUM(M78:N78) -> 0 | Q78: =K78-O78+L78+P78 -> -1099.106 | R78: =A78 -> №062
A79: №062а | B79: 4433.87 | C79: 1803.37 | D79: 6237.26 | E79: 4433.87 | F79: 1803.37 | G79: 6237.26 | H79: =E79-B79 -> 0 | I79: =F79-C79 -> 0 | J79: =SUM(H79:I79) -> 0 | K79: =[1]Оплата!AY77 -> -0.8903 | L79: =[1]Оплата!W77 -> 0 | M79: =H79*M$6 -> 0 | N79: =I79*N$6 -> 0 | O79: =SUM(M79:N79) -> 0 | Q79: =K79-O79+L79+P79 -> -0.8903 | R79: =A79 -> №062а
A80: №063 | B80: 870.81 | C80: 526.34 | D80: 1397.16 | E80: 870.91 | F80: 526.39 | G80: 1397.3 | H80: =E80-B80 -> 0.1 | I80: =F80-C80 -> 0.05 | J80: =SUM(H80:I80) -> 0.15 | K80: =[1]Оплата!AY78 -> -1179.9848 | L80: =[1]Оплата!W78 -> 0 | M80: =H80*M$6 -> 0.639 | N80: =I80*N$6 -> 0.1205 | O80: =SUM(M80:N80) -> 0.7595 | Q80: =K80-O80+L80+P80 -> -1180.7443 | R80: =A80 -> №063
A81: №064\1 | B81: 68.18 | C81: 18.42 | D81: 86.62 | E81: 68.18 | F81: 18.42 | G81: 86.62 | H81: =E81-B81 -> 0 | I81: =F81-C81 -> 0 | J81: =SUM(H81:I81) -> 0 | K81: =[1]Оплата!AY79 -> 31501.935 | L81: =[1]Оплата!W79 -> 0 | M81: =H81*M$6 -> 0 | N81: =I81*N$6 -> 0 | O81: =SUM(M81:N81) -> 0 | Q81: =K81-O81+L81+P81 -> 31501.935 | R81: =A81 -> №064\1
A82: №064\2 | B82: 6198.73 | C82: 2246.81 | D82: 8445.55 | E82: 6198.74 | F82: 2246.82 | G82: 8445.57 | H82: =E82-B82 -> 0.01 | I82: =F82-C82 -> 0.01 | J82: =SUM(H82:I82) -> 0.02 | K82: =[1]Оплата!AY80 -> -35644.966 | L82: =[1]Оплата!W80 -> 0 | M82: =H82*M$6 -> 0.0639 | N82: =I82*N$6 -> 0.0241 | O82: =SUM(M82:N82) -> 0.088 | Q82: =K82-O82+L82+P82 -> -35645.054 | R82: =A82 -> №064\2
A83: №065 | B83: 26368.08 | C83: 9654.47 | D83: 36022.56 | E83: 26816.26 | F83: 9879.37 | G83: 36695.64 | H83: =E83-B83 -> 448.18 | I83: =F83-C83 -> 224.9 | J83: =SUM(H83:I83) -> 673.08 | K83: =[1]Оплата!AY81 -> -27263.915 | L83: =[1]Оплата!W81 -> 27000 | M83: =H83*M$6 -> 2863.8702 | N83: =I83*N$6 -> 542.009 | O83: =SUM(M83:N83) -> 3405.8792 | Q83: =K83-O83+L83+P83 -> -3669.794 | R83: =A83 -> №065
A84: №066 | B84: 10268.75 | C84: 4683.59 | D84: 14952.35 | E84: 10652.21 | F84: 4879.78 | G84: 15532 | H84: =E84-B84 -> 383.46 | I84: =F84-C84 -> 196.19 | J84: =SUM(H84:I84) -> 579.65 | K84: =[1]Оплата!AY82 -> -11449.153 | L84: =[1]Оплата!W82 -> 11449.51 | M84: =H84*M$6 -> 2450.3094 | N84: =I84*N$6 -> 472.8179 | O84: =SUM(M84:N84) -> 2923.1273 | Q84: =K84-O84+L84+P84 -> -2922.7704 | R84: =A84 -> №066
A85: №067 | D85: 4812 | G85: 4817.68 | H85: =E85-B85 -> 0 | I85: =F85-C85 -> 0 | J85: =SUM(H85:I85) -> 0 | K85: =[1]Оплата!AY83 -> 3099.6849 | L85: =[1]Оплата!W83 -> 0 | M85: =H85*M$6 -> 0 | N85: =I85*N$6 -> 0 | O85: =SUM(M85:N85) -> 0 | Q85: =K85-O85+L85+P85 -> 3099.6849 | R85: =A85 -> №067
A86: №068 | B86: 5875.03 | C86: 4491.1 | D86: 10366.14 | E86: 5875.03 | F86: 4491.1 | G86: 10366.16 | H86: =E86-B86 -> 0 | I86: =F86-C86 -> 0 | J86: =SUM(H86:I86) -> 0 | K86: =[1]Оплата!AY84 -> -1583.2865 | L86: =[1]Оплата!W84 -> 0 | M86: =H86*M$6 -> 0 | N86: =I86*N$6 -> 0 | O86: =SUM(M86:N86) -> 0 | Q86: =K86-O86+L86+P86 -> -1583.2865 | R86: =A86 -> №068
A87: №069 | B87: 5528.73 | C87: 2587.34 | D87: 8116.1 | E87: 5528.73 | F87: 2587.34 | G87: 8116.11 | H87: =E87-B87 -> 0 | I87: =F87-C87 -> 0 | J87: =SUM(H87:I87) -> 0 | K87: =[1]Оплата!AY85 -> -857.6013 | L87: =[1]Оплата!W85 -> 0 | M87: =H87*M$6 -> 0 | N87: =I87*N$6 -> 0 | O87: =SUM(M87:N87) -> 0 | Q87: =K87-O87+L87+P87 -> -857.6013 | R87: =A87 -> №069
A88: №070 | B88: 5361.27 | C88: 2898.78 | D88: 8260.07 | E88: 5361.77 | F88: 2899.05 | G88: 8260.83 | H88: =E88-B88 -> 0.5 | I88: =F88-C88 -> 0.27 | J88: =SUM(H88:I88) -> 0.77 | K88: =[1]Оплата!AY86 -> -563.1629 | L88: =[1]Оплата!W86 -> 0 | M88: =H88*M$6 -> 3.195 | N88: =I88*N$6 -> 0.6507 | O88: =SUM(M88:N88) -> 3.8457 | Q88: =K88-O88+L88+P88 -> -567.0086 | R88: =A88 -> №070
A89: №071 | B89: 1467.6 | C89: 690.38 | D89: 2158 | E89: 1467.6 | F89: 690.38 | G89: 2158 | H89: =E89-B89 -> 0 | I89: =F89-C89 -> 0 | J89: =SUM(H89:I89) -> 0 | K89: =[1]Оплата!AY87 -> -1307.9709 | L89: =[1]Оплата!W87 -> 0 | M89: =H89*M$6 -> 0 | N89: =I89*N$6 -> 0 | O89: =SUM(M89:N89) -> 0 | Q89: =K89-O89+L89+P89 -> -1307.9709 | R89: =A89 -> №071
A90: №072 | B90: 3364.4 | C90: 3528.8 | D90: 6893.23 | E90: 3364.4 | F90: 3528.8 | G90: 6893.23 | H90: =E90-B90 -> 0 | I90: =F90-C90 -> 0 | J90: =SUM(H90:I90) -> 0 | K90: =[1]Оплата!AY88 -> 896.3158 | L90: =[1]Оплата!W88 -> 0 | M90: =H90*M$6 -> 0 | N90: =I90*N$6 -> 0 | O90: =SUM(M90:N90) -> 0 | Q90: =K90-O90+L90+P90 -> 896.3158 | R90: =A90 -> №072
A91: №073 | B91: 4045.83 | C91: 1348.8 | D91: 5394.64 | E91: 4045.83 | F91: 1348.8 | G91: 5394.64 | H91: =E91-B91 -> 0 | I91: =F91-C91 -> 0 | J91: =SUM(H91:I91) -> 0 | K91: =[1]Оплата!AY89 -> -5555.117 | L91: =[1]Оплата!W89 -> 0 | M91: =H91*M$6 -> 0 | N91: =I91*N$6 -> 0 | O91: =SUM(M91:N91) -> 0 | Q91: =K91-O91+L91+P91 -> -5555.117 | R91: =A91 -> №073
A92: №074 | B92: 22318.48 | C92: 10446.74 | D92: 32765.35 | E92: 23213.08 | F92: 10847.39 | G92: 34060.6 | H92: =E92-B92 -> 894.6 | I92: =F92-C92 -> 400.65 | J92: =SUM(H92:I92) -> 1295.25 | K92: =[1]Оплата!AY90 -> -4773.8842 | L92: =[1]Оплата!W90 -> 4048.52 | M92: =H92*M$6 -> 5716.494 | N92: =I92*N$6 -> 965.5665 | O92: =SUM(M92:N92) -> 6682.0605 | Q92: =K92-O92+L92+P92 -> -7407.4247 | R92: =A92 -> №074
A93: №075 | B93: 926.23 | C93: 365.26 | D93: 1291.51 | E93: 926.23 | F93: 365.26 | G93: 1291.51 | H93: =E93-B93 -> 0 | I93: =F93-C93 -> 0 | J93: =SUM(H93:I93) -> 0 | K93: =[1]Оплата!AY91 -> -1843.4298 | L93: =[1]Оплата!W91 -> 0 | M93: =H93*M$6 -> 0 | N93: =I93*N$6 -> 0 | O93: =SUM(M93:N93) -> 0 | Q93: =K93-O93+L93+P93 -> -1843.4298 | R93: =A93 -> №075
A94: №076 | B94: 29026.256 | C94: 21800.677 | D94: 50826.933 | E94: 29537.855 | F94: 22415.741 | G94: 51953.596 | H94: =E94-B94 -> 511.599 | I94: =F94-C94 -> 615.064 | J94: =SUM(H94:I94) -> 1126.663 | K94: =[1]Оплата!AY92 -> -3913.4113 | L94: =[1]Оплата!W92 -> 3914 | M94: =H94*M$6 -> 3269.1176 | N94: =I94*N$6 -> 1482.3042 | O94: =SUM(M94:N94) -> 4751.4218 | Q94: =K94-O94+L94+P94 -> -4750.8331 | R94: =A94 -> №076
A95: №077 | B95: 3166.4 | C95: 687.4 | D95: 3853.81 | E95: 3166.4 | F95: 687.4 | G95: 3853.81 | H95: =E95-B95 -> 0 | I95: =F95-C95 -> 0 | J95: =SUM(H95:I95) -> 0 | K95: =[1]Оплата!AY93 -> -4187.8621 | L95: =[1]Оплата!W93 -> 0 | M95: =H95*M$6 -> 0 | N95: =I95*N$6 -> 0 | O95: =SUM(M95:N95) -> 0 | Q95: =K95-O95+L95+P95 -> -4187.8621 | R95: =A95 -> №077
A96: №078 | B96: 6872.08 | C96: 16760.42 | D96: 23632.59 | E96: 6877.16 | F96: 16762.95 | G96: 23640.19 | H96: =E96-B96 -> 5.08 | I96: =F96-C96 -> 2.53 | J96: =SUM(H96:I96) -> 7.61 | K96: =[1]Оплата!AY94 -> -4303.4404 | L96: =[1]Оплата!W94 -> 4500 | M96: =H96*M$6 -> 32.4612 | N96: =I96*N$6 -> 6.0973 | O96: =SUM(M96:N96) -> 38.5585 | Q96: =K96-O96+L96+P96 -> 158.0011 | R96: =A96 -> №078
A97: №079 | B97: 1846.17 | C97: 310.28 | D97: 2156.46 | E97: 1846.17 | F97: 310.28 | G97: 2156.46 | H97: =E97-B97 -> 0 | I97: =F97-C97 -> 0 | J97: =SUM(H97:I97) -> 0 | K97: =[1]Оплата!AY95 -> 4319.7781 | L97: =[1]Оплата!W95 -> 0 | M97: =H97*M$6 -> 0 | N97: =I97*N$6 -> 0 | O97: =SUM(M97:N97) -> 0 | Q97: =K97-O97+L97+P97 -> 4319.7781 | R97: =A97 -> №079
... A138: №118 | B138: 3782.84 | C138: 1897.42 | D138: 5680.27 | E138: 3782.84 | F138: 1897.42 | G138: 5680.27 | H138: =E138-B138 -> 0 | I138: =F138-C138 -> 0 | J138: =SUM(H138:I138) -> 0 | K138: =[1]Оплата!AY136 -> 1100.3026 | L138: =[1]Оплата!W136 -> 0 | M138: =H138*M$6 -> 0 | N138: =I138*N$6 -> 0 | O138: =SUM(M138:N138) -> 0 | Q138: =K138-O138+L138+P138 -> 1100.3026 | R138: =A138 -> №118
A139: №118а не установлен | J139: =SUM(H139:I139) -> 0 | K139: =[1]Оплата!AY137 -> 0 | L139: =[1]Оплата!W137 -> 0 | Q139: =K139-O139+L139+P139 -> 0 | R139: =A139 -> №118а не установлен
A140: №119 | B140: 2540.01 | C140: 4026.57 | D140: 6566.59 | E140: 2540.23 | F140: 4026.7 | G140: 6566.93 | H140: =E140-B140 -> 0.22 | I140: =F140-C140 -> 0.13 | J140: =SUM(H140:I140) -> 0.35 | K140: =[1]Оплата!AY138 -> -3449.5721 | L140: =[1]Оплата!W138 -> 0 | M140: =H140*M$6 -> 1.4058 | N140: =I140*N$6 -> 0.3133 | O140: =SUM(M140:N140) -> 1.7191 | Q140: =K140-O140+L140+P140 -> -3451.2912 | R140: =A140 -> №119
A141: №120 снят | J141: =SUM(H141:I141) -> 0 | K141: =[1]Оплата!AY139 -> 0 | L141: =[1]Оплата!W139 -> 0 | Q141: =K141-O141+L141+P141 -> 0 | R141: =A141 -> №120 снят
A142: №121 | B142: 8100.06 | C142: 3334.37 | D142: 11434.43 | E142: 8100.07 | F142: 3334.37 | G142: 11434.44 | H142: =E142-B142 -> 0.01 | I142: =F142-C142 -> 0 | J142: =SUM(H142:I142) -> 0.01 | K142: =[1]Оплата!AY140 -> -9606.259 | L142: =[1]Оплата!W140 -> 0 | M142: =H142*M$6 -> 0.0639 | N142: =I142*N$6 -> 0 | O142: =SUM(M142:N142) -> 0.0639 | Q142: =K142-O142+L142+P142 -> -9606.3229 | R142: =A142 -> №121
A143: №122 | B143: 1612.69 | C143: 336.65 | D143: 1949.34 | E143: 1612.7 | F143: 336.65 | G143: 1949.35 | H143: =E143-B143 -> 0.01 | I143: =F143-C143 -> 0 | J143: =SUM(H143:I143) -> 0.01 | K143: =[1]Оплата!AY141 -> -2739.5037 | L143: =[1]Оплата!W141 -> 0 | M143: =H143*M$6 -> 0.0639 | N143: =I143*N$6 -> 0 | O143: =SUM(M143:N143) -> 0.0639 | Q143: =K143-O143+L143+P143 -> -2739.5676 | R143: =A143 -> №122
A144: №123 | B144: 1147.4 | C144: 243.88 | D144: 1391.29 | E144: 1147.4 | F144: 243.88 | G144: 1391.29 | H144: =E144-B144 -> 0 | I144: =F144-C144 -> 0 | J144: =SUM(H144:I144) -> 0 | K144: =[1]Оплата!AY142 -> 111.657 | L144: =[1]Оплата!W142 -> 0 | M144: =H144*M$6 -> 0 | N144: =I144*N$6 -> 0 | O144: =SUM(M144:N144) -> 0 | Q144: =K144-O144+L144+P144 -> 111.657 | R144: =A144 -> №123
A145: №123а | B145: 6406.79 | C145: 1443.93 | D145: 7850.73 | E145: 6406.79 | F145: 1443.93 | G145: 7850.73 | H145: =E145-B145 -> 0 | I145: =F145-C145 -> 0 | J145: =SUM(H145:I145) -> 0 | K145: =[1]Оплата!AY143 -> -8551.9922 | L145: =[1]Оплата!W143 -> 10000 | M145: =H145*M$6 -> 0 | N145: =I145*N$6 -> 0 | O145: =SUM(M145:N145) -> 0 | Q145: =K145-O145+L145+P145 -> 1448.0078 | R145: =A145 -> №123а
A146: №124 сбыт | B146: 0.66 | C146: 1.21 | D146: 1.87 | E146: 0.66 | F146: 1.22 | G146: 1.88 | H146: =E146-B146 -> 0 | I146: =F146-C146 -> 0.01 | J146: =SUM(H146:I146) -> 0.01 | K146: =[1]Оплата!AY144 -> 98.1849 | L146: =[1]Оплата!W144 -> 100 | M146: =H146*M$6 -> 0 | N146: =I146*N$6 -> 0.0241 | O146: =SUM(M146:N146) -> 0.0241 | Q146: =K146-O146+L146+P146 -> 198.1608 | R146: =A146 -> №124 сбыт
A147: №125 | B147: 3317.09 | C147: 1479.6 | D147: 4796.78 | E147: 3317.09 | F147: 1479.6 | G147: 4796.78 | H147: =E147-B147 -> 0 | I147: =F147-C147 -> 0 | J147: =SUM(H147:I147) -> 0 | K147: =[1]Оплата!AY145 -> 2664.2358 | L147: =[1]Оплата!W145 -> 0 | M147: =H147*M$6 -> 0 | N147: =I147*N$6 -> 0 | O147: =SUM(M147:N147) -> 0 | Q147: =K147-O147+L147+P147 -> 2664.2358 | R147: =A147 -> №125
A148: №126\1 | B148: 2758.44 | C148: 807.96 | D148: 3566.41 | E148: 2758.45 | F148: 807.97 | G148: 3566.42 | H148: =E148-B148 -> 0.01 | I148: =F148-C148 -> 0.01 | J148: =SUM(H148:I148) -> 0.02 | K148: =[1]Оплата!AY146 -> 18192.601 | L148: =[1]Оплата!W146 -> 0 | M148: =H148*M$6 -> 0.0639 | N148: =I148*N$6 -> 0.0241 | O148: =SUM(M148:N148) -> 0.088 | Q148: =K148-O148+L148+P148 -> 18192.513 | R148: =A148 -> №126\1
A149: №126\2 | B149: 4742.87 | C149: 2484.1 | D149: 7227.11 | E149: 4742.87 | F149: 2484.1 | G149: 7227.11 | H149: =E149-B149 -> 0 | I149: =F149-C149 -> 0 | J149: =SUM(H149:I149) -> 0 | K149: =[1]Оплата!AY147 -> -19983.935 | L149: =[1]Оплата!W147 -> 0 | M149: =H149*M$6 -> 0 | N149: =I149*N$6 -> 0 | O149: =SUM(M149:N149) -> 0 | Q149: =K149-O149+L149+P149 -> -19983.935 | R149: =A149 -> №126\2
A150: №127 | B150: 88.37 | C150: 506.48 | D150: 594.87 | E150: 88.41 | F150: 506.49 | G150: 594.92 | H150: =E150-B150 -> 0.04 | I150: =F150-C150 -> 0.01 | J150: =SUM(H150:I150) -> 0.05 | K150: =[1]Оплата!AY148 -> 946.3249 | L150: =[1]Оплата!W148 -> 0 | M150: =H150*M$6 -> 0.2556 | N150: =I150*N$6 -> 0.0241 | O150: =SUM(M150:N150) -> 0.2797 | Q150: =K150-O150+L150+P150 -> 946.0452 | R150: =A150 -> №127
A151: №128 сбыт | B151: 1395.82 | C151: 396.7 | D151: 1792.52 | E151: 1395.82 | F151: 396.7 | G151: 1792.52 | H151: =E151-B151 -> 0 | I151: =F151-C151 -> 0 | J151: =SUM(H151:I151) -> 0 | K151: =[1]Оплата!AY149 -> 711.49491 | L151: =[1]Оплата!W149 -> 0 | M151: =H151*M$6 -> 0 | N151: =I151*N$6 -> 0 | O151: =SUM(M151:N151) -> 0 | Q151: =K151-O151+L151+P151 -> 711.49491 | R151: =A151 -> №128 сбыт
A152: №129 | B152: 22065.676 | C152: 8357.086 | D152: 30422.762 | E152: 22702.732 | F152: 8681.365 | G152: 31384.097 | H152: =E152-B152 -> 637.056 | I152: =F152-C152 -> 324.279 | J152: =SUM(H152:I152) -> 961.335 | K152: =[1]Оплата!AY150 -> -2986.4256 | L152: =[1]Оплата!W150 -> 0 | M152: =H152*M$6 -> 4070.7878 | N152: =I152*N$6 -> 781.51239 | O152: =SUM(M152:N152) -> 4852.3002 | Q152: =K152-O152+L152+P152 -> -7838.7258 | R152: =A152 -> №129
A153: №130 | B153: 6418.29 | C153: 2014.27 | D153: 8432.57 | E153: 6421.48 | F153: 2015.83 | G153: 8437.32 | H153: =E153-B153 -> 3.19 | I153: =F153-C153 -> 1.56 | J153: =SUM(H153:I153) -> 4.75 | K153: =[1]Оплата!AY151 -> 483.1657 | L153: =[1]Оплата!W151 -> 0 | M153: =H153*M$6 -> 20.3841 | N153: =I153*N$6 -> 3.7596 | O153: =SUM(M153:N153) -> 24.1437 | Q153: =K153-O153+L153+P153 -> 459.022 | R153: =A153 -> №130
...

Sheet Лист3
