Workbook

Sheet Лист2
J1: =SUM(J10:J275) -> 27782.727 | K1: =SUM(K10:K275) -> -404679.88 | L1: =SUM(L10:L275) -> 137795.86 | M1: =SUM(M10:M288) -> 118758.51 | N1: =SUM(N10:N288) -> 22166.385 | O1: =SUM(O10:O275) -> 140924.9 | P1: =SUM(P10:P275) -> 0 | Q1: =SUM(Q10:Q275) -> -407808.92
L3: ОПЛАТА по разноске платежей автомат | Q3: Остаток расчетный
K5: =SUM(K10:K275) -> -404679.88 | L5: =SUM(L10:L275) -> 137795.86 | O5: =SUM(O10:O275) -> 140924.9 | P5: =SUM(P10:P275) -> 0 | Q5: =SUM(Q10:Q275) -> -407808.92
D6: РАСЧЕТ ЭЛЕКТРОЭНЕРГИИ ПО ПОТРЕБИТЕЛЯМ | L6: ТАРИФ | M6: 6.39 | N6: 2.41
A7: =F7 -> 43854 | C7: 43824 | F7: 43854 | H7: За период | K7: Остаток средств на | L7: Оплата | M7: Сумма начислений | P7: Перерас- | Q7: Задолженность ( - )
A8: 2019г | B8: КВТ | E8: КВТ | H8: КВТ | M8: руб. | P8: чет
A9: Код_ | B9: АктЭн_M | C9: АктЭн_L | D9: СуммАктЭн | E9: АктЭн_M | F9: АктЭн_L | G9: СуммАктЭн | H9: АктЭн_M | I9: АктЭн_L | J9: Всего | K9: =C7 -> 43824 | L9: =F7 -> 43854 | M9: День | N9: Ночь | O9: Всего | P9: руб | Q9: =F7 -> 43854 | R9: Код
A10: №002 | B10: 2044.26 | C10: 571.21 | D10: 2615.48 | E10: 2047.13 | F10: 571.21 | G10: 2618.35 | H10: =E10-B10 -> 2.87 | I10: =F10-C10 -> 0 | J10: =SUM(H10:I10) -> 2.87 | K10: =[1]Оплата!AY8 -> -264.7389 | L10: =[1]Оплата!W8 -> 0 | M10: =H10*M$6 -> 18.3393 | N10: =I10*N$6 -> 0 | O10: =SUM(M10:N10) -> 18.3393 | Q10: =K10-O10+L10+P10 -> -283.0782 | R10: =A10 -> №002
A11: №003 | B11: 5287.05 | C11: 2331.54 | D11: 7618.6 | E11: 5287.07 | F11: 2331.54 | G11: 7618.62 | H11: =E11-B11 -> 0.02 | I11: =F11-C11 -> 0 | J11: =SUM(H11:I11) -> 0.02 | K11: =[1]Оплата!AY9 -> -333.6623 | L11: =[1]Оплата!W9 -> 0 | M11: =H11*M$6 -> 0.1278 | N11: =I11*N$6 -> 0 | O11: =SUM(M11:N11) -> 0.1278 | Q11: =K11-O11+L11+P11 -> -333.7901 | R11: =A11 -> №003
A12: №004 | B12: 5052.89 | C12: 1882.6 | D12: 6935.5 | E12: 5054.01 | F12: 1882.97 | G12: 6936.99 | H12: =E12-B12 -> 1.12 | I12: =F12-C12 -> 0.37 | J12: =SUM(H12:I12) -> 1.49 | K12: =[1]Оплата!AY10 -> 8.855 | L12: =[1]Оплата!W10 -> 0 | M12: =H12*M$6 -> 7.1568 | N12: =I12*N$6 -> 0.8917 | O12: =SUM(M12:N12) -> 8.0485 | Q12: =K12-O12+L12+P12 -> 0.8065 | R12: =A12 -> №004
A13: №005 | B13: 789.7 | C13: 1361.13 | D13: 2150.96 | E13: 789.7 | F13: 1361.13 | G13: 2150.96 | H13: =E13-B13 -> 0 | I13: =F13-C13 -> 0 | J13: =SUM(H13:I13) -> 0 | K13: =[1]Оплата!AY11 -> -859.2852 | L13: =[1]Оплата!W11 -> 0 | M13: =H13*M$6 -> 0 | N13: =I13*N$6 -> 0 | O13: =SUM(M13:N13) -> 0 | Q13: =K13-O13+L13+P13 -> -859.2852 | R13: =A13 -> №005
A14: №006 | B14: 3208.16 | C14: 1563.39 | D14: 4771.56 | E14: 3208.16 | F14: 1563.39 | G14: 4771.56 | H14: =E14-B14 -> 0 | I14: =F14-C14 -> 0 | J14: =SUM(H14:I14) -> 0 | K14: =[1]Оплата!AY12 -> -11638.657 | L14: =[1]Оплата!W12 -> 0 | M14: =H14*M$6 -> 0 | N14: =I14*N$6 -> 0 | O14: =SUM(M14:N14) -> 0 | Q14: =K14-O14+L14+P14 -> -11638.657 | R14: =A14 -> №006
A15: №007 | B15: 3479.46 | C15: 1982.27 | D15: 5461.75 | E15: 3479.46 | F15: 1982.27 | G15: 5461.75 | H15: =E15-B15 -> 0 | I15: =F15-C15 -> 0 | J15: =SUM(H15:I15) -> 0 | K15: =[1]Оплата!AY13 -> -6750.5345 | L15: =[1]Оплата!W13 -> 0 | M15: =H15*M$6 -> 0 | N15: =I15*N$6 -> 0 | O15: =SUM(M15:N15) -> 0 | Q15: =K15-O15+L15+P15 -> -6750.5345 | R15: =A15 -> №007
A16: №008 | B16: 2219.03 | C16: 465.94 | D16: 2684.98 | E16: 2219.03 | F16: 465.94 | G16: 2684.98 | H16: =E16-B16 -> 0 | I16: =F16-C16 -> 0 | J16: =SUM(H16:I16) -> 0 | K16: =[1]Оплата!AY14 -> 0.0003 | L16: =[1]Оплата!W14 -> 0 | M16: =H16*M$6 -> 0 | N16: =I16*N$6 -> 0 | O16: =SUM(M16:N16) -> 0 | Q16: =K16-O16+L16+P16 -> 0.0003 | R16: =A16 -> №008
A17: №009 сбыт | J17: =SUM(H17:I17) -> 0 | K17: =[1]Оплата!AY15 -> 153.4953 | L17: =[1]Оплата!W15 -> 0 | M17: =H17*M$6 -> 0 | N17: =I17*N$6 -> 0 | O17: =SUM(M17:N17) -> 0 | Q17: =K17-O17+L17 -> 153.4953 | R17: =A17 -> №009 сбыт
A18: №009а | B18: 4340.7 | C18: 2586.03 | D18: 6926.74 | E18: 4609.73 | F18: 2706.17 | G18: 7315.91 | H18: =E18-B18 -> 269.03 | I18: =F18-C18 -> 120.14 | J18: =SUM(H18:I18) -> 389.17 | K18: =[1]Оплата!AY16 -> -6064.6633 | L18: =[1]Оплата!W16 -> 0 | M18: =H18*M$6 -> 1719.1017 | N18: =I18*N$6 -> 289.5374 | O18: =SUM(M18:N18) -> 2008.6391 | Q18: =K18-O18+L18+P18 -> -8073.3024 | R18: =A18 -> №009а
A19: №010 | B19: 1097.27 | C19: 696.24 | D19: 1793.53 | E19: 1097.28 | F19: 696.24 | G19: 1793.54 | H19: =E19-B19 -> 0.01 | I19: =F19-C19 -> 0 | J19: =SUM(H19:I19) -> 0.01 | K19: =[1]Оплата!AY17 -> 3698.6806 | L19: =[1]Оплата!W17 -> 0 | M19: =H19*M$6 -> 0.0639 | N19: =I19*N$6 -> 0 | O19: =SUM(M19:N19) -> 0.0639 | Q19: =K19-O19+L19+P19 -> 3698.6167 | R19: =A19 -> №010
A20: №011 | B20: 2872.28 | C20: 497.9 | D20: 3370.2 | E20: 2872.28 | F20: 497.9 | G20: 3370.2 | H20: =E20-B20 -> 0 | I20: =F20-C20 -> 0 | J20: =SUM(H20:I20) -> 0 | K20: =[1]Оплата!AY18 -> 87.9912 | L20: =[1]Оплата!W18 -> 0 | M20: =H20*M$6 -> 0 | N20: =I20*N$6 -> 0 | O20: =SUM(M20:N20) -> 0 | Q20: =K20-O20+L20+P20 -> 87.9912 | R20: =A20 -> №011
A21: №012 | B21: 604.44 | C21: 134.67 | D21: 739.12 | E21: 604.49 | F21: 134.67 | G21: 739.17 | H21: =E21-B21 -> 0.05 | I21: =F21-C21 -> 0 | J21: =SUM(H21:I21) -> 0.05 | K21: =[1]Оплата!AY19 -> -282.4558 | L21: =[1]Оплата!W19 -> 0 | M21: =H21*M$6 -> 0.3195 | N21: =I21*N$6 -> 0 | O21: =SUM(M21:N21) -> 0.3195 | Q21: =K21-O21+L21+P21 -> -282.7753 | R21: =A21 -> №012
A22: №012а | B22: 7.84 | C22: 0.81 | D22: 8.66 | E22: 7.84 | F22: 0.81 | G22: 8.66 | H22: =E22-B22 -> 0 | I22: =F22-C22 -> 0 | J22: =SUM(H22:I22) -> 0 | K22: =[1]Оплата!AY20 -> 5.2282 | L22: =[1]Оплата!W20 -> 0 | M22: =H22*M$6 -> 0 | N22: =I22*N$6 -> 0 | O22: =SUM(M22:N22) -> 0 | Q22: =K22-O22+L22+P22 -> 5.2282 | R22: =A22 -> №012а
A23: №013 | B23: 8694.68 | C23: 2141.16 | D23: 10835.84 | E23: 8696.95 | F23: 2142.29 | G23: 10839.25 | H23: =E23-B23 -> 2.27 | I23: =F23-C23 -> 1.13 | J23: =SUM(H23:I23) -> 3.4 | K23: =[1]Оплата!AY21 -> 1524.9722 | L23: =[1]Оплата!W21 -> 0 | M23: =H23*M$6 -> 14.5053 | N23: =I23*N$6 -> 2.7233 | O23: =SUM(M23:N23) -> 17.2286 | Q23: =K23-O23+L23+P23 -> 1507.7436 | R23: =A23 -> №013
A24: №014 | B24: 2842.13 | C24: 7611.17 | D24: 10453.36 | E24: 2842.13 | F24: 7611.17 | G24: 10453.36 | H24: =E24-B24 -> 0 | I24: =F24-C24 -> 0 | J24: =SUM(H24:I24) -> 0 | K24: =[1]Оплата!AY22 -> -1015.568 | L24: =[1]Оплата!W22 -> 0 | M24: =H24*M$6 -> 0 | N24: =I24*N$6 -> 0 | O24: =SUM(M24:N24) -> 0 | Q24: =K24-O24+L24+P24 -> -1015.568 | R24: =A24 -> №014
A25: №015 | B25: 3647.35 | C25: 1976.46 | D25: 5623.81 | E25: 3647.35 | F25: 1976.46 | G25: 5623.81 | H25: =E25-B25 -> 0 | I25: =F25-C25 -> 0 | J25: =SUM(H25:I25) -> 0 | K25: =[1]Оплата!AY23 -> -901.1005 | L25: =[1]Оплата!W23 -> 0 | M25: =H25*M$6 -> 0 | N25: =I25*N$6 -> 0 | O25: =SUM(M25:N25) -> 0 | Q25: =K25-O25+L25+P25 -> -901.1005 | R25: =A25 -> №015
A26: №016\17 | B26: 6730.44 | C26: 6665.5 | D26: 13395.95 | E26: 6730.44 | F26: 6665.5 | G26: 13395.95 | H26: =E26-B26 -> 0 | I26: =F26-C26 -> 0 | J26: =SUM(H26:I26) -> 0 | K26: =[1]Оплата!AY24 -> -474.9786 | L26: =[1]Оплата!W24 -> 0 | M26: =H26*M$6 -> 0 | N26: =I26*N$6 -> 0 | O26: =SUM(M26:N26) -> 0 | Q26: =K26-O26+L26+P26 -> -474.9786 | R26: =A26 -> №016\17
A27: №018 | B27: 1784.19 | C27: 618.97 | D27: 2403.18 | E27: 1794.12 | F27: 626.7 | G27: 2420.83 | H27: =E27-B27 -> 9.93 | I27: =F27-C27 -> 7.73 | J27: =SUM(H27:I27) -> 17.66 | K27: =[1]Оплата!AY25 -> 4625.87 | L27: =[1]Оплата!W25 -> 0 | M27: =H27*M$6 -> 63.4527 | N27: =I27*N$6 -> 18.6293 | O27: =SUM(M27:N27) -> 82.082 | Q27: =K27-O27+L27+P27 -> 4543.788 | R27: =A27 -> №018
A28: №019 | B28: 6503.21 | C28: 3891.84 | D28: 10395.1 | E28: 6644.63 | F28: 3975.4 | G28: 10620.09 | H28: =E28-B28 -> 141.42 | I28: =F28-C28 -> 83.56 | J28: =SUM(H28:I28) -> 224.98 | K28: =[1]Оплата!AY26 -> -19615.548 | L28: =[1]Оплата!W26 -> 0 | M28: =H28*M$6 -> 903.6738 | N28: =I28*N$6 -> 201.3796 | O28: =SUM(M28:N28) -> 1105.0534 | Q28: =K28-O28+L28+P28 -> -20720.601 | R28: =A28 -> №019
A29: №020 | B29: 5006.35 | C29: 2499.22 | D29: 7506.22 | E29: 5006.35 | F29: 2499.22 | G29: 7506.22 | H29: =E29-B29 -> 0 | I29: =F29-C29 -> 0 | J29: =SUM(H29:I29) -> 0 | K29: =[1]Оплата!AY27 -> -549.8092 | L29: =[1]Оплата!W27 -> 0 | M29: =H29*M$6 -> 0 | N29: =I29*N$6 -> 0 | O29: =SUM(M29:N29) -> 0 | Q29: =K29-O29+L29+P29 -> -549.8092 | R29: =A29 -> №020
... A39: №028 | B39: 1330.52 | C39: 496.08 | D39: 1826.61 | E39: 1330.52 | F39: 496.08 | G39: 1826.61 | H39: =E39-B39 -> 0 | I39: =F39-C39 -> 0 | J39: =SUM(H39:I39) -> 0 | K39: =[1]Оплата!AY37 -> -4.3548 | L39: =[1]Оплата!W37 -> 0 | M39: =H39*M$6 -> 0 | N39: =I39*N$6 -> 0 | O39: =SUM(M39:N39) -> 0 | Q39: =K39-O39+L39+P39 -> -4.3548 | R39: =A39 -> №028
A40: №029 сбыт | H40: =E40-B40 -> 0 | I40: =F40-C40 -> 0 | J40: =SUM(H40:I40) -> 0 | K40: =[1]Оплата!AY38 -> 0.0048 | L40: =[1]Оплата!W38 -> 0 | M40: =H40*M$6 -> 0 | N40: =I40*N$6 -> 0 | O40: =SUM(M40:N40) -> 0 | Q40: =K40-O40+L40+P40 -> 0.0048 | R40: =A40 -> №029 сбыт
A41: №030 | B41: 1603.11 | C41: 584.95 | D41: 2188.11 | E41: 1603.11 | F41: 584.95 | G41: 2188.11 | H41: =E41-B41 -> 0 | I41: =F41-C41 -> 0 | J41: =SUM(H41:I41) -> 0 | K41: =[1]Оплата!AY39 -> -8.8057 | L41: =[1]Оплата!W39 -> 0 | M41: =H41*M$6 -> 0 | N41: =I41*N$6 -> 0 | O41: =SUM(M41:N41) -> 0 | Q41: =K41-O41+L41+P41 -> -8.8057 | R41: =A41 -> №030
A42: №031\1 | B42: 5470.29 | C42: 2732.08 | D42: 8202.37 | E42: 5485.98 | F42: 2740.76 | G42: 8226.75 | H42: =E42-B42 -> 15.69 | I42: =F42-C42 -> 8.68 | J42: =SUM(H42:I42) -> 24.37 | K42: =[1]Оплата!AY40 -> -3933.1982 | L42: =[1]Оплата!W40 -> 0 | M42: =H42*M$6 -> 100.2591 | N42: =I42*N$6 -> 20.9188 | O42: =SUM(M42:N42) -> 121.1779 | Q42: =K42-O42+L42+P42 -> -4054.3761 | R42: =A42 -> №031\1
A43: №031\2 | B43: 3152.22 | C43: 846.38 | D43: 3998.6 | E43: 3152.22 | F43: 846.38 | G43: 3998.6 | H43: =E43-B43 -> 0 | I43: =F43-C43 -> 0 | J43: =SUM(H43:I43) -> 0 | K43: =[1]Оплата!AY41 -> 4776.6876 | L43: =[1]Оплата!W41 -> 0 | M43: =H43*M$6 -> 0 | N43: =I43*N$6 -> 0 | O43: =SUM(M43:N43) -> 0 | Q43: =K43-O43+L43+P43 -> 4776.6876 | R43: =A43 -> №031\2
A44: №032 | B44: 6698.32 | C44: 4058.6 | D44: 10757.02 | E44: 6698.32 | F44: 4058.6 | G44: 10757.02 | H44: =E44-B44 -> 0 | I44: =F44-C44 -> 0 | J44: =SUM(H44:I44) -> 0 | K44: =[1]Оплата!AY42 -> -2876.7376 | L44: =[1]Оплата!W42 -> 0 | M44: =H44*M$6 -> 0 | N44: =I44*N$6 -> 0 | O44: =SUM(M44:N44) -> 0 | Q44: =K44-O44+L44+P44 -> -2876.7376 | R44: =A44 -> №032
A45: №033 | B45: 7635.06 | C45: 2518.06 | D45: 10153.12 | E45: 7641.05 | F45: 2518.06 | G45: 10159.11 | H45: =E45-B45 -> 5.99 | I45: =F45-C45 -> 0 | J45: =SUM(H45:I45) -> 5.99 | K45: =[1]Оплата!AY43 -> 546.5239 | L45: =[1]Оплата!W43 -> 0 | M45: =H45*M$6 -> 38.2761 | N45: =I45*N$6 -> 0 | O45: =SUM(M45:N45) -> 38.2761 | Q45: =K45-O45+L45+P45 -> 508.2478 | R45: =A45 -> №033
A46: №034 | B46: 1964.08 | C46: 436.75 | D46: 2400.84 | E46: 1964.08 | F46: 436.75 | G46: 2400.84 | H46: =E46-B46 -> 0 | I46: =F46-C46 -> 0 | J46: =SUM(H46:I46) -> 0 | K46: =[1]Оплата!AY44 -> -5.4783 | L46: =[1]Оплата!W44 -> 0 | M46: =H46*M$6 -> 0 | N46: =I46*N$6 -> 0 | O46: =SUM(M46:N46) -> 0 | Q46: =K46-O46+L46+P46 -> -5.4783 | R46: =A46 -> №034
A47: №035 | B47: 8850.36 | C47: 4397.66 | D47: 13248.02 | E47: 8850.36 | F47: 4397.66 | G47: 13248.02 | H47: =E47-B47 -> 0 | I47: =F47-C47 -> 0 | J47: =SUM(H47:I47) -> 0 | K47: =[1]Оплата!AY45 -> 59.6573 | L47: =[1]Оплата!W45 -> 0 | M47: =H47*M$6 -> 0 | N47: =I47*N$6 -> 0 | O47: =SUM(M47:N47) -> 0 | Q47: =K47-O47+L47+P47 -> 59.6573 | R47: =A47 -> №035
A48: №036 | B48: 6020.4 | C48: 1853.07 | D48: 7873.48 | E48: 6020.45 | F48: 1853.08 | G48: 7873.54 | H48: =E48-B48 -> 0.05 | I48: =F48-C48 -> 0.01 | J48: =SUM(H48:I48) -> 0.06 | K48: =[1]Оплата!AY46 -> -233.55 | L48: =[1]Оплата!W46 -> 0 | M48: =H48*M$6 -> 0.3195 | N48: =I48*N$6 -> 0.0241 | O48: =SUM(M48:N48) -> 0.3436 | Q48: =K48-O48+L48+P48 -> -233.8936 | R48: =A48 -> №036
A49: №037 | B49: 7111.09 | C49: 3435.44 | D49: 10546.59 | E49: 7340.29 | F49: 3547.57 | G49: 10887.91 | H49: =E49-B49 -> 229.2 | I49: =F49-C49 -> 112.13 | J49: =SUM(H49:I49) -> 341.33 | K49: =[1]Оплата!AY47 -> -2773.3755 | L49: =[1]Оплата!W47 -> 2773.38 | M49: =H49*M$6 -> 1464.588 | N49: =I49*N$6 -> 270.2333 | O49: =SUM(M49:N49) -> 1734.8213 | Q49: =K49-O49+L49+P49 -> -1734.8168 | R49: =A49 -> №037
A50: №038 | B50: 3613.06 | C50: 1770.64 | D50: 5383.72 | E50: 3613.06 | F50: 1770.64 | G50: 5383.72 | H50: =E50-B50 -> 0 | I50: =F50-C50 -> 0 | J50: =SUM(H50:I50) -> 0 | K50: =[1]Оплата!AY48 -> 1938.6636 | L50: =[1]Оплата!W48 -> 5000 | M50: =H50*M$6 -> 0 | N50: =I50*N$6 -> 0 | O50: =SUM(M50:N50) -> 0 | Q50: =K50-O50+L50+P50 -> 6938.6636 | R50: =A50 -> №038
A51: №039 сбыт | J51: =SUM(H51:I51) -> 0 | K51: =[1]Оплата!AY49 -> -582.5861 | L51: =[1]Оплата!W49 -> 0 | M51: =H51*M$6 -> 0 | N51: =I51*N$6 -> 0 | O51: =SUM(M51:N51) -> 0 | Q51: =K51-O51+L51+P51 -> -582.5861 | R51: =A51 -> №039 сбыт
...

Sheet Лист3
