Workbook

Sheet Лист2

Sheet Лист1
J1: =SUM(J9:J274) -> 51872.458 | K1: =SUM(K9:K274) -> -207789.34 | L1: =SUM(L9:L274) -> 99850.11 | M1: =SUM(M9:M287) -> 192118.02 | N1: =SUM(N9:N287) -> 32471.328 | O1: =SUM(O9:O274) -> 224589.35 | P1: =SUM(P9:P274) -> 0 | Q1: =SUM(Q9:Q274) -> -332528.59 | R1: =SUM(R9:R274) -> -335883.62
L3: ОПЛАТА по разноске платежей автомат | Q3: Остаток расчетный
M5: 6.18 | N5: 2.29
A6: =F6 -> 43613 | C6: 43581 | F6: 43613 | H6: За период | K6: Остаток средств на | L6: Оплата | M6: Сумма начислений | P6: Перерас- | Q6: Задолженность ( - ) на | T6: =A6 -> 43613
A7: 2019г | B7: КВТ | E7: КВТ | H7: КВТ | M7: руб. | P7: чет | T7: =A7 -> 2019г
A8: Код_ | B8: АктЭн_M | C8: АктЭн_L | D8: СуммАктЭн | E8: АктЭн_M | F8: АктЭн_L | G8: СуммАктЭн | H8: АктЭн_M | I8: АктЭн_L | J8: Всего | K8: =C6 -> 43581 | L8: =F6 -> 43613 | M8: День | N8: Ночь | O8: Всего | P8: руб | Q8: =F6 -> 43613 | T8: Код
A9: №002 | B9: 1431.57 | C9: 384.64 | D9: 1816.22 | E9: 1654.13 | F9: 459.33 | G9: 2113.46 | H9: =E9-B9 -> 222.56 | I9: =F9-C9 -> 74.69 | J9: =G9-D9 -> 297.24 | K9: =[1]Оплата!BC8 -> -1910.131 | L9: =[1]Оплата!AA8 -> 0 | M9: =H9*M$5 -> 1375.4208 | N9: =I9*N$5 -> 171.0401 | O9: =SUM(M9:N9) -> 1546.4609 | Q9: =K9-O9+L9+P9 -> -3456.5919 | R9: =[1]Оплата!BD8 -> -3456.5919 | S9: =IF(Q9=R9,"",1) | T9: =A9 -> №002
A10: №003 | B10: 4018.35 | C10: 1529.12 | D10: 5547.48 | E10: 4237.23 | F10: 1692.38 | G10: 5929.62 | H10: =E10-B10 -> 218.88 | I10: =F10-C10 -> 163.26 | J10: =G10-D10 -> 382.14 | K10: =[1]Оплата!BC9 -> -503.1906 | L10: =[1]Оплата!AA9 -> 600 | M10: =H10*M$5 -> 1352.6784 | N10: =I10*N$5 -> 373.8654 | O10: =SUM(M10:N10) -> 1726.5438 | Q10: =K10-O10+L10+P10 -> -1629.7344 | R10: =[1]Оплата!BD9 -> -1629.7344 | S10: =IF(Q10=R10,"",1) | T10: =A10 -> №003
A11: №004 | B11: 4184.91 | C11: 1629.29 | D11: 5814.2 | E11: 4349.98 | F11: 1673.63 | G11: 6023.62 | H11: =E11-B11 -> 165.07 | I11: =F11-C11 -> 44.34 | J11: =G11-D11 -> 209.42 | K11: =[1]Оплата!BC10 -> 62.9361 | L11: =[1]Оплата!AA10 -> 0 | M11: =H11*M$5 -> 1020.1326 | N11: =I11*N$5 -> 101.5386 | O11: =SUM(M11:N11) -> 1121.6712 | Q11: =K11-O11+L11+P11 -> -1058.7351 | R11: =[1]Оплата!BD10 -> -1058.7351 | S11: =IF(Q11=R11,"",1) | T11: =A11 -> №004
A12: №005 | B12: 699.45 | C12: 1334.64 | D12: 2034.22 | E12: 708.04 | F12: 1338.41 | G12: 2046.59 | H12: =E12-B12 -> 8.59 | I12: =F12-C12 -> 3.77 | J12: =G12-D12 -> 12.37 | K12: =[1]Оплата!BC11 -> -224.9631 | L12: =[1]Оплата!AA11 -> 0 | M12: =H12*M$5 -> 53.0862 | N12: =I12*N$5 -> 8.6333 | O12: =SUM(M12:N12) -> 61.7195 | Q12: =K12-O12+L12+P12 -> -286.6826 | R12: =[1]Оплата!BD11 -> -286.6826 | S12: =IF(Q12=R12,"",1) | T12: =A12 -> №005
A13: №006 | B13: 1792.76 | C13: 834.92 | D13: 2627.69 | E13: 1792.76 | F13: 834.92 | G13: 2627.69 | H13: =E13-B13 -> 0 | I13: =F13-C13 -> 0 | J13: =G13-D13 -> 0 | K13: =[1]Оплата!BC12 -> -859.8963 | L13: =[1]Оплата!AA12 -> 0 | M13: =H13*M$5 -> 0 | N13: =I13*N$5 -> 0 | O13: =SUM(M13:N13) -> 0 | Q13: =K13-O13+L13+P13 -> -859.8963 | R13: =[1]Оплата!BD12 -> -859.8963 | S13: =IF(Q13=R13,"",1) | T13: =A13 -> №006
A14: №007 | B14: 2819.09 | C14: 1746.02 | D14: 4565.12 | E14: 2950.97 | F14: 1804.05 | G14: 4755.03 | H14: =E14-B14 -> 131.88 | I14: =F14-C14 -> 58.03 | J14: =G14-D14 -> 189.91 | K14: =[1]Оплата!BC13 -> -2029.8848 | L14: =[1]Оплата!AA13 -> 0 | M14: =H14*M$5 -> 815.0184 | N14: =I14*N$5 -> 132.8887 | O14: =SUM(M14:N14) -> 947.9071 | Q14: =K14-O14+L14+P14 -> -2977.7919 | R14: =[1]Оплата!BD13 -> -2977.7919 | S14: =IF(Q14=R14,"",1) | T14: =A14 -> №007
A15: №008 | B15: 1675.02 | C15: 345.19 | D15: 2020.22 | E15: 1675.26 | F15: 345.19 | G15: 2020.46 | H15: =E15-B15 -> 0.24 | I15: =F15-C15 -> 0 | J15: =G15-D15 -> 0.24 | K15: =[1]Оплата!BC14 -> -475.8169 | L15: =[1]Оплата!AA14 -> 0 | M15: =H15*M$5 -> 1.4832 | N15: =I15*N$5 -> 0 | O15: =SUM(M15:N15) -> 1.4832 | Q15: =K15-O15+L15+P15 -> -477.3001 | R15: =[1]Оплата!BD14 -> -477.3001 | S15: =IF(Q15=R15,"",1) | T15: =A15 -> №008
A16: №009 | K16: =[1]Оплата!BC15 -> 153.4953 | L16: =[1]Оплата!AA15 -> 0 | M16: =H16*M$5 -> 0 | N16: =I16*N$5 -> 0 | O16: =SUM(M16:N16) -> 0 | P16: снят счет-к | Q16: =K16-O16+L16 -> 153.4953 | R16: =[1]Оплата!BD15 -> 153.4953 | S16: =IF(Q16=R16,"",1) | T16: =A16 -> №009
A17: №009а | B17: 3205.09 | C17: 1875.89 | D17: 5080.99 | E17: 3287.96 | F17: 1982.39 | G17: 5270.35 | H17: =E17-B17 -> 82.87 | I17: =F17-C17 -> 106.5 | J17: =G17-D17 -> 189.36 | K17: =[1]Оплата!BC16 -> 82.341 | L17: =[1]Оплата!AA16 -> 0 | M17: =H17*M$5 -> 512.1366 | N17: =I17*N$5 -> 243.885 | O17: =SUM(M17:N17) -> 756.0216 | Q17: =K17-O17+L17+P17 -> -673.6806 | R17: =[1]Оплата!BD16 -> -673.6806 | S17: =IF(Q17=R17,"",1) | T17: =A17 -> №009а
A18: №010 | B18: 972.52 | C18: 675.87 | D18: 1648.41 | E18: 986.15 | F18: 681.04 | G18: 1667.21 | H18: =E18-B18 -> 13.63 | I18: =F18-C18 -> 5.17 | J18: =G18-D18 -> 18.8 | K18: =[1]Оплата!BC17 -> 2532.6692 | L18: =[1]Оплата!AA17 -> 0 | M18: =H18*M$5 -> 84.2334 | N18: =I18*N$5 -> 11.8393 | O18: =SUM(M18:N18) -> 96.0727 | Q18: =K18-O18+L18+P18 -> 2436.5965 | R18: =[1]Оплата!BD17 -> 2436.5965 | S18: =IF(Q18=R18,"",1) | T18: =A18 -> №010
A19: №011 | B19: 2543.88 | C19: 440.33 | D19: 2984.23 | E19: 2543.88 | F19: 440.33 | G19: 2984.23 | H19: =E19-B19 -> 0 | I19: =F19-C19 -> 0 | J19: =G19-D19 -> 0 | K19: =[1]Оплата!BC18 -> 2310.2802 | L19: =[1]Оплата!AA18 -> 0 | M19: =H19*M$5 -> 0 | N19: =I19*N$5 -> 0 | O19: =SUM(M19:N19) -> 0 | Q19: =K19-O19+L19+P19 -> 2310.2802 | R19: =[1]Оплата!BD18 -> 2310.2802 | S19: =IF(Q19=R19,"",1) | T19: =A19 -> №011
A20: №012 | B20: 561.25 | C20: 126.38 | D20: 687.64 | E20: 561.49 | F20: 126.43 | G20: 687.93 | H20: =E20-B20 -> 0.24 | I20: =F20-C20 -> 0.05 | J20: =G20-D20 -> 0.29 | K20: =[1]Оплата!BC19 -> 13.4217 | L20: =[1]Оплата!AA19 -> 0 | M20: =H20*M$5 -> 1.4832 | N20: =I20*N$5 -> 0.1145 | O20: =SUM(M20:N20) -> 1.5977 | Q20: =K20-O20+L20+P20 -> 11.824 | R20: =[1]Оплата!BD19 -> 11.824 | S20: =IF(Q20=R20,"",1) | T20: =A20 -> №012
A21: №012а | B21: 6.45 | C21: 0.8 | D21: 7.26 | E21: 6.46 | F21: 0.8 | G21: 7.27 | H21: =E21-B21 -> 0.01 | I21: =F21-C21 -> 0 | J21: =G21-D21 -> 0.01 | K21: =[1]Оплата!BC20 -> 14.1311 | L21: =[1]Оплата!AA20 -> 0 | M21: =H21*M$5 -> 0.0618 | N21: =I21*N$5 -> 0 | O21: =SUM(M21:N21) -> 0.0618 | Q21: =K21-O21+L21+P21 -> 14.0693 | R21: =[1]Оплата!BD20 -> 14.0693 | S21: =IF(Q21=R21,"",1) | T21: =A21 -> №012а
A22: №013 | B22: 6391.54 | C22: 1658.66 | D22: 8050.2 | E22: 6747.25 | F22: 1741.21 | G22: 8488.46 | H22: =E22-B22 -> 355.71 | I22: =F22-C22 -> 82.55 | J22: =G22-D22 -> 438.26 | K22: =[1]Оплата!BC21 -> -761.7711 | L22: =[1]Оплата!AA21 -> 5000 | M22: =H22*M$5 -> 2198.2878 | N22: =I22*N$5 -> 189.0395 | O22: =SUM(M22:N22) -> 2387.3273 | Q22: =K22-O22+L22+P22 -> 1850.9016 | R22: =[1]Оплата!BD21 -> 1850.9016 | S22: =IF(Q22=R22,"",1) | T22: =A22 -> №013
A23: №014 | B23: 2205.58 | C23: 7405.72 | D23: 9611.35 | E23: 2260.74 | F23: 7425.37 | G23: 9686.16 | H23: =E23-B23 -> 55.16 | I23: =F23-C23 -> 19.65 | J23: =G23-D23 -> 74.81 | K23: =[1]Оплата!BC22 -> 1.6719 | L23: =[1]Оплата!AA22 -> 0 | M23: =H23*M$5 -> 340.8888 | N23: =I23*N$5 -> 44.9985 | O23: =SUM(M23:N23) -> 385.8873 | Q23: =K23-O23+L23+P23 -> -384.2154 | R23: =[1]Оплата!BD22 -> -384.2154 | S23: =IF(Q23=R23,"",1) | T23: =A23 -> №014
A24: №015 | B24: 3455.66 | C24: 1895.6 | D24: 5351.27 | E24: 3457.42 | F24: 1895.6 | G24: 5353.02 | H24: =E24-B24 -> 1.76 | I24: =F24-C24 -> 0 | J24: =G24-D24 -> 1.75 | K24: =[1]Оплата!BC23 -> -486.4348 | L24: =[1]Оплата!AA23 -> 0 | M24: =H24*M$5 -> 10.8768 | N24: =I24*N$5 -> 0 | O24: =SUM(M24:N24) -> 10.8768 | Q24: =K24-O24+L24+P24 -> -497.3116 | R24: =[1]Оплата!BD23 -> -497.3116 | S24: =IF(Q24=R24,"",1) | T24: =A24 -> №015
A25: №016\17 | B25: 6648.18 | C25: 6623.37 | D25: 13271.56 | E25: 6663.99 | F25: 6642.17 | G25: 13306.16 | H25: =E25-B25 -> 15.81 | I25: =F25-C25 -> 18.8 | J25: =G25-D25 -> 34.6 | K25: =[1]Оплата!BC24 -> -5956.2045 | L25: =[1]Оплата!AA24 -> 0 | M25: =H25*M$5 -> 97.7058 | N25: =I25*N$5 -> 43.052 | O25: =SUM(M25:N25) -> 140.7578 | Q25: =K25-O25+L25+P25 -> -6096.9623 | R25: =[1]Оплата!BD24 -> -6096.9623 | S25: =IF(Q25=R25,"",1) | T25: =A25 -> №016\17
A26: №018 | B26: 2178.18 | C26: 940.72 | D26: 3118.9 | E26: 2419.75 | F26: 1036.28 | G26: 3456.04 | H26: =E26-B26 -> 241.57 | I26: =F26-C26 -> 95.56 | J26: =G26-D26 -> 337.14 | K26: =[1]Оплата!BC25 -> -10.7047 | L26: =[1]Оплата!AA25 -> 0 | M26: =H26*M$5 -> 1492.9026 | N26: =I26*N$5 -> 218.8324 | O26: =SUM(M26:N26) -> 1711.735 | Q26: =K26-O26+L26+P26 -> -1722.4397 | R26: =[1]Оплата!BD25 -> -1722.4397 | S26: =IF(Q26=R26,"",1) | T26: =A26 -> №018
A27: №019 | B27: 4355.92 | C27: 2711.46 | D27: 7067.39 | E27: 4355.92 | F27: 2711.46 | G27: 7067.39 | H27: =E27-B27 -> 0 | I27: =F27-C27 -> 0 | J27: =G27-D27 -> 0 | K27: =[1]Оплата!BC26 -> -3049.8906 | L27: =[1]Оплата!AA26 -> 0 | M27: =H27*M$5 -> 0 | N27: =I27*N$5 -> 0 | O27: =SUM(M27:N27) -> 0 | Q27: =K27-O27+L27+P27 -> -3049.8906 | R27: =[1]Оплата!BD26 -> -3049.8906 | S27: =IF(Q27=R27,"",1) | T27: =A27 -> №019
A28: №020 | B28: 4060.47 | C28: 2241.39 | D28: 6302.5 | E28: 4248.76 | F28: 2324.38 | G28: 6573.79 | H28: =E28-B28 -> 188.29 | I28: =F28-C28 -> 82.99 | J28: =G28-D28 -> 271.29 | K28: =[1]Оплата!BC27 -> -4855.795 | L28: =[1]Оплата!AA27 -> 0 | M28: =H28*M$5 -> 1163.6322 | N28: =I28*N$5 -> 190.0471 | O28: =SUM(M28:N28) -> 1353.6793 | Q28: =K28-O28+L28+P28 -> -6209.4743 | R28: =[1]Оплата!BD27 -> -6209.4743 | S28: =IF(Q28=R28,"",1) | T28: =A28 -> №020
... A37: №027 | B37: 2305.98 | C37: 754.82 | D37: 3060.87 | E37: 2397.76 | F37: 815.32 | G37: 3213.15 | H37: =E37-B37 -> 91.78 | I37: =F37-C37 -> 60.5 | J37: =G37-D37 -> 152.28 | K37: =[1]Оплата!BC36 -> 603.2251 | L37: =[1]Оплата!AA36 -> 0 | M37: =H37*M$5 -> 567.2004 | N37: =I37*N$5 -> 138.545 | O37: =SUM(M37:N37) -> 705.7454 | Q37: =K37-O37+L37+P37 -> -102.5203 | R37: =[1]Оплата!BD36 -> -102.5203 | S37: =IF(Q37=R37,"",1) | T37: =A37 -> №027
A38: №028снят | E38: 1330.52 | F38: 496.08 | G38: 1826.61 | K38: =[1]Оплата!BC37 -> -4.3548 | L38: =[1]Оплата!AA37 -> 0 | M38: =H38*M$5 -> 0 | N38: =I38*N$5 -> 0 | O38: =SUM(M38:N38) -> 0 | Q38: =K38-O38+L38+P38 -> -4.3548 | R38: =[1]Оплата!BD37 -> -4.3548 | S38: =IF(Q38=R38,"",1) | T38: =A38 -> №028снят
A39: №029 | B39: 9172.99 | C39: 10817.08 | D39: 19990.09 | E39: 9264.29 | F39: 10852.3 | G39: 20116.62 | H39: =E39-B39 -> 91.3 | I39: =F39-C39 -> 35.22 | J39: =G39-D39 -> 126.53 | K39: =[1]Оплата!BC38 -> -881.1287 | L39: =[1]Оплата!AA38 -> 0 | M39: =H39*M$5 -> 564.234 | N39: =I39*N$5 -> 80.6538 | O39: =SUM(M39:N39) -> 644.8878 | Q39: =K39-O39+L39+P39 -> -1526.0165 | R39: =[1]Оплата!BD38 -> -1526.0165 | S39: =IF(Q39=R39,"",1) | T39: =A39 -> №029
A40: №030 | B40: 1603.11 | C40: 584.95 | D40: 2188.11 | E40: 1603.11 | F40: 584.95 | G40: 2188.11 | H40: =E40-B40 -> 0 | I40: =F40-C40 -> 0 | J40: =G40-D40 -> 0 | K40: =[1]Оплата!BC39 -> -8.8057 | L40: =[1]Оплата!AA39 -> 0 | M40: =H40*M$5 -> 0 | N40: =I40*N$5 -> 0 | O40: =SUM(M40:N40) -> 0 | Q40: =K40-O40+L40+P40 -> -8.8057 | R40: =[1]Оплата!BD39 -> -8.8057 | S40: =IF(Q40=R40,"",1) | T40: =A40 -> №030
A41: №031\1 | B41: 2828.53 | C41: 1481.6 | D41: 4310.14 | E41: 3212.21 | F41: 1651.15 | G41: 4863.37 | H41: =E41-B41 -> 383.68 | I41: =F41-C41 -> 169.55 | J41: =G41-D41 -> 553.23 | K41: =[1]Оплата!BC40 -> -965.1365 | L41: =[1]Оплата!AA40 -> 0 | M41: =H41*M$5 -> 2371.1424 | N41: =I41*N$5 -> 388.2695 | O41: =SUM(M41:N41) -> 2759.4119 | Q41: =K41-O41+L41+P41 -> -3724.5484 | R41: =[1]Оплата!BD40 -> -3724.5484 | S41: =IF(Q41=R41,"",1) | T41: =A41 -> №031\1
A42: №031\2 | B42: 1771.95 | C42: 548.23 | D42: 2320.19 | E42: 2016.84 | F42: 596.49 | G42: 2613.34 | H42: =E42-B42 -> 244.89 | I42: =F42-C42 -> 48.26 | J42: =G42-D42 -> 293.15 | K42: =[1]Оплата!BC41 -> 599.6046 | L42: =[1]Оплата!AA41 -> 0 | M42: =H42*M$5 -> 1513.4202 | N42: =I42*N$5 -> 110.5154 | O42: =SUM(M42:N42) -> 1623.9356 | Q42: =K42-O42+L42+P42 -> -1024.331 | R42: =[1]Оплата!BD41 -> -1024.331 | S42: =IF(Q42=R42,"",1) | T42: =A42 -> №031\2
A43: №032 | G43: 10203.28 | K43: =[1]Оплата!BC42 -> -3869.8428 | L43: =[1]Оплата!AA42 -> 3700 | M43: =H43*M$5 -> 0 | N43: =I43*N$5 -> 0 | O43: =SUM(M43:N43) -> 0 | Q43: =K43-O43+L43+P43 -> -169.8428 | R43: =[1]Оплата!BD42 -> -169.8428 | S43: =IF(Q43=R43,"",1) | T43: =A43 -> №032
A44: №033 | B44: 6194.75 | C44: 2037.22 | D44: 8231.98 | E44: 6386.88 | F44: 2133.83 | G44: 8520.72 | H44: =E44-B44 -> 192.13 | I44: =F44-C44 -> 96.61 | J44: =G44-D44 -> 288.74 | K44: =[1]Оплата!BC43 -> -170.4172 | L44: =[1]Оплата!AA43 -> 0 | M44: =H44*M$5 -> 1187.3634 | N44: =I44*N$5 -> 221.2369 | O44: =SUM(M44:N44) -> 1408.6003 | Q44: =K44-O44+L44+P44 -> -1579.0175 | R44: =[1]Оплата!BD43 -> -1579.0175 | S44: =IF(Q44=R44,"",1) | T44: =A44 -> №033
A45: №034 | B45: 0.68 | C45: 0.79 | D45: 1.48 | K45: =[1]Оплата!BC44 -> -4.4475 | L45: =[1]Оплата!AA44 -> 0 | M45: =H45*M$5 -> 0 | N45: =I45*N$5 -> 0 | O45: =SUM(M45:N45) -> 0 | Q45: =K45-O45+L45+P45 -> -4.4475 | R45: =[1]Оплата!BD44 -> -4.4475 | S45: =IF(Q45=R45,"",1) | T45: =A45 -> №034
A46: №035 | B46: 7045.42 | C46: 3553.22 | D46: 10598.65 | E46: 7373.59 | F46: 3782.86 | G46: 11156.46 | H46: =E46-B46 -> 328.17 | I46: =F46-C46 -> 229.64 | J46: =G46-D46 -> 557.81 | K46: =[1]Оплата!BC45 -> -3001.1671 | L46: =[1]Оплата!AA45 -> 0 | M46: =H46*M$5 -> 2028.0906 | N46: =I46*N$5 -> 525.8756 | O46: =SUM(M46:N46) -> 2553.9662 | Q46: =K46-O46+L46+P46 -> -5555.1333 | R46: =[1]Оплата!BD45 -> -5555.1333 | S46: =IF(Q46=R46,"",1) | T46: =A46 -> №035
A47: №036 | B47: 5004.81 | C47: 1599.11 | D47: 6603.93 | E47: 5125.36 | F47: 1633.98 | G47: 6759.35 | H47: =E47-B47 -> 120.55 | I47: =F47-C47 -> 34.87 | J47: =G47-D47 -> 155.42 | K47: =[1]Оплата!BC46 -> 806.7757 | L47: =[1]Оплата!AA46 -> 0 | M47: =H47*M$5 -> 744.999 | N47: =I47*N$5 -> 79.8523 | O47: =SUM(M47:N47) -> 824.8513 | Q47: =K47-O47+L47+P47 -> -18.0756 | R47: =[1]Оплата!BD46 -> -18.0756 | S47: =IF(Q47=R47,"",1) | T47: =A47 -> №036
A48: №037 | B48: 4756.54 | C48: 2402.14 | D48: 7158.74 | E48: 5060.45 | F48: 2541.28 | G48: 7601.79 | H48: =E48-B48 -> 303.91 | I48: =F48-C48 -> 139.14 | J48: =G48-D48 -> 443.05 | K48: =[1]Оплата!BC47 -> -4581.6277 | L48: =[1]Оплата!AA47 -> 1676.72 | M48: =H48*M$5 -> 1878.1638 | N48: =I48*N$5 -> 318.6306 | O48: =SUM(M48:N48) -> 2196.7944 | Q48: =K48-O48+L48+P48 -> -5101.7021 | R48: =[1]Оплата!BD47 -> -5101.7021 | S48: =IF(Q48=R48,"",1) | T48: =A48 -> №037
A49: №038 | B49: 2647.17 | C49: 1469.62 | D49: 4116.81 | E49: 2705.85 | F49: 1488.62 | G49: 4194.48 | H49: =E49-B49 -> 58.68 | I49: =F49-C49 -> 19 | J49: =G49-D49 -> 77.67 | K49: =[1]Оплата!BC48 -> -1198.8661 | L49: =[1]Оплата!AA48 -> 5000 | M49: =H49*M$5 -> 362.6424 | N49: =I49*N$5 -> 43.51 | O49: =SUM(M49:N49) -> 406.1524 | Q49: =K49-O49+L49+P49 -> 3394.9815 | R49: =[1]Оплата!BD48 -> 3394.9815 | S49: =IF(Q49=R49,"",1) | T49: =A49 -> №038
A50: №039 снят потребителем | K50: =[1]Оплата!BC49 -> -582.5861 | L50: =[1]Оплата!AA49 -> 0 | M50: =H50*M$5 -> 0 | N50: =I50*N$5 -> 0 | O50: =SUM(M50:N50) -> 0 | Q50: =K50-O50+L50+P50 -> -582.5861 | R50: =[1]Оплата!BD49 -> -582.5861 | S50: =IF(Q50=R50,"",1) | T50: =A50 -> №039 снят потребителем
...

Sheet Лист3
J1: =SUM(J9:J274) -> 45927.288 | K1: =SUM(K9:K274) -> -207789.34 | L1: =SUM(L9:L274) -> 99850.11 | M1: =SUM(M9:M287) -> 195044.93 | N1: =SUM(N9:N287) -> 32899.443 | O1: =SUM(O9:O274) -> 227944.38 | P1: =SUM(P9:P274) -> 0 | Q1: =SUM(Q9:Q274) -> -335883.61
L3: ОПЛАТА по разноске платежей автомат | Q3: Остаток расчетный
M5: 6.18 | N5: 2.29
A6: =F6 -> 43613 | C6: 43581 | F6: 43613 | H6: За период | K6: Остаток средств на | L6: Оплата | M6: Сумма начислений | P6: Перерас- | Q6: Задолженность ( - ) | R6: =A6 -> 43613
A7: 2019г | B7: КВТ | E7: КВТ | H7: КВТ | M7: руб. | P7: чет | R7: =A7 -> 2019г
A8: Код_ | B8: АктЭн_M | C8: АктЭн_L | D8: СуммАктЭн | E8: АктЭн_M | F8: АктЭн_L | G8: СуммАктЭн | H8: АктЭн_M | I8: АктЭн_L | J8: Всего | K8: =C6 -> 43581 | L8: =[2]Оплата!AA7 -> май | M8: День | N8: Ночь | O8: Всего | P8: руб | Q8: =F6 -> 43613 | R8: Код
A9: №002 | B9: 1431.57 | C9: 384.64 | D9: 1816.22 | E9: 1654.13 | F9: 459.33 | G9: 2113.46 | H9: =E9-B9 -> 222.56 | I9: =F9-C9 -> 74.69 | J9: =G9-D9 -> 297.24 | K9: =[1]Оплата!BC8 -> -1910.131 | L9: =[1]Оплата!AA8 -> 0 | M9: =H9*M$5 -> 1375.4208 | N9: =I9*N$5 -> 171.0401 | O9: =SUM(M9:N9) -> 1546.4609 | Q9: =K9-O9+L9+P9 -> -3456.5919 | R9: =A9 -> №002
A10: №003 | B10: 4018.35 | C10: 1529.12 | D10: 5547.48 | E10: 4237.23 | F10: 1692.38 | G10: 5929.62 | H10: =E10-B10 -> 218.88 | I10: =F10-C10 -> 163.26 | J10: =G10-D10 -> 382.14 | K10: =[1]Оплата!BC9 -> -503.1906 | L10: =[1]Оплата!AA9 -> 600 | M10: =H10*M$5 -> 1352.6784 | N10: =I10*N$5 -> 373.8654 | O10: =SUM(M10:N10) -> 1726.5438 | Q10: =K10-O10+L10+P10 -> -1629.7344 | R10: =A10 -> №003
A11: №004 | B11: 4184.91 | C11: 1629.29 | D11: 5814.2 | E11: 4349.98 | F11: 1673.63 | G11: 6023.62 | H11: =E11-B11 -> 165.07 | I11: =F11-C11 -> 44.34 | J11: =G11-D11 -> 209.42 | K11: =[1]Оплата!BC10 -> 62.9361 | L11: =[1]Оплата!AA10 -> 0 | M11: =H11*M$5 -> 1020.1326 | N11: =I11*N$5 -> 101.5386 | O11: =SUM(M11:N11) -> 1121.6712 | Q11: =K11-O11+L11+P11 -> -1058.7351 | R11: =A11 -> №004
A12: №005 | B12: 699.45 | C12: 1334.64 | D12: 2034.22 | E12: 708.04 | F12: 1338.41 | G12: 2046.59 | H12: =E12-B12 -> 8.59 | I12: =F12-C12 -> 3.77 | J12: =G12-D12 -> 12.37 | K12: =[1]Оплата!BC11 -> -224.9631 | L12: =[1]Оплата!AA11 -> 0 | M12: =H12*M$5 -> 53.0862 | N12: =I12*N$5 -> 8.6333 | O12: =SUM(M12:N12) -> 61.7195 | Q12: =K12-O12+L12+P12 -> -286.6826 | R12: =A12 -> №005
A13: №006 | B13: 1792.76 | C13: 834.92 | D13: 2627.69 | E13: 1792.76 | F13: 834.92 | G13: 2627.69 | H13: =E13-B13 -> 0 | I13: =F13-C13 -> 0 | J13: =G13-D13 -> 0 | K13: =[1]Оплата!BC12 -> -859.8963 | L13: =[1]Оплата!AA12 -> 0 | M13: =H13*M$5 -> 0 | N13: =I13*N$5 -> 0 | O13: =SUM(M13:N13) -> 0 | Q13: =K13-O13+L13+P13 -> -859.8963 | R13: =A13 -> №006
A14: №007 | B14: 2819.09 | C14: 1746.02 | D14: 4565.12 | E14: 2950.97 | F14: 1804.05 | G14: 4755.03 | H14: =E14-B14 -> 131.88 | I14: =F14-C14 -> 58.03 | J14: =G14-D14 -> 189.91 | K14: =[1]Оплата!BC13 -> -2029.8848 | L14: =[1]Оплата!AA13 -> 0 | M14: =H14*M$5 -> 815.0184 | N14: =I14*N$5 -> 132.8887 | O14: =SUM(M14:N14) -> 947.9071 | Q14: =K14-O14+L14+P14 -> -2977.7919 | R14: =A14 -> №007
A15: №008 | B15: 1675.02 | C15: 345.19 | D15: 2020.22 | E15: 1675.26 | F15: 345.19 | G15: 2020.46 | H15: =E15-B15 -> 0.24 | I15: =F15-C15 -> 0 | J15: =G15-D15 -> 0.24 | K15: =[1]Оплата!BC14 -> -475.8169 | L15: =[1]Оплата!AA14 -> 0 | M15: =H15*M$5 -> 1.4832 | N15: =I15*N$5 -> 0 | O15: =SUM(M15:N15) -> 1.4832 | Q15: =K15-O15+L15+P15 -> -477.3001 | R15: =A15 -> №008
A16: №009 | K16: =[1]Оплата!BC15 -> 153.4953 | L16: =[1]Оплата!AA15 -> 0 | M16: =H16*M$5 -> 0 | N16: =I16*N$5 -> 0 | O16: =SUM(M16:N16) -> 0 | P16: снят счет-к | Q16: =K16-O16+L16 -> 153.4953 | R16: =A16 -> №009
A17: №009а | B17: 3205.09 | C17: 1875.89 | D17: 5080.99 | E17: 3287.96 | F17: 1982.39 | G17: 5270.35 | H17: =E17-B17 -> 82.87 | I17: =F17-C17 -> 106.5 | J17: =G17-D17 -> 189.36 | K17: =[1]Оплата!BC16 -> 82.341 | L17: =[1]Оплата!AA16 -> 0 | M17: =H17*M$5 -> 512.1366 | N17: =I17*N$5 -> 243.885 | O17: =SUM(M17:N17) -> 756.0216 | Q17: =K17-O17+L17+P17 -> -673.6806 | R17: =A17 -> №009а
A18: №010 | B18: 972.52 | C18: 675.87 | D18: 1648.41 | E18: 986.15 | F18: 681.04 | G18: 1667.21 | H18: =E18-B18 -> 13.63 | I18: =F18-C18 -> 5.17 | J18: =G18-D18 -> 18.8 | K18: =[1]Оплата!BC17 -> 2532.6692 | L18: =[1]Оплата!AA17 -> 0 | M18: =H18*M$5 -> 84.2334 | N18: =I18*N$5 -> 11.8393 | O18: =SUM(M18:N18) -> 96.0727 | Q18: =K18-O18+L18+P18 -> 2436.5965 | R18: =A18 -> №010
A19: №011 | B19: 2543.88 | C19: 440.33 | D19: 2984.23 | E19: 2543.88 | F19: 440.33 | G19: 2984.23 | H19: =E19-B19 -> 0 | I19: =F19-C19 -> 0 | J19: =G19-D19 -> 0 | K19: =[1]Оплата!BC18 -> 2310.2802 | L19: =[1]Оплата!AA18 -> 0 | M19: =H19*M$5 -> 0 | N19: =I19*N$5 -> 0 | O19: =SUM(M19:N19) -> 0 | Q19: =K19-O19+L19+P19 -> 2310.2802 | R19: =A19 -> №011
A20: №012 | B20: 561.25 | C20: 126.38 | D20: 687.64 | E20: 561.49 | F20: 126.43 | G20: 687.93 | H20: =E20-B20 -> 0.24 | I20: =F20-C20 -> 0.05 | J20: =G20-D20 -> 0.29 | K20: =[1]Оплата!BC19 -> 13.4217 | L20: =[1]Оплата!AA19 -> 0 | M20: =H20*M$5 -> 1.4832 | N20: =I20*N$5 -> 0.1145 | O20: =SUM(M20:N20) -> 1.5977 | Q20: =K20-O20+L20+P20 -> 11.824 | R20: =A20 -> №012
A21: №012а | B21: 6.45 | C21: 0.8 | D21: 7.26 | E21: 6.46 | F21: 0.8 | G21: 7.27 | H21: =E21-B21 -> 0.01 | I21: =F21-C21 -> 0 | J21: =G21-D21 -> 0.01 | K21: =[1]Оплата!BC20 -> 14.1311 | L21: =[1]Оплата!AA20 -> 0 | M21: =H21*M$5 -> 0.0618 | N21: =I21*N$5 -> 0 | O21: =SUM(M21:N21) -> 0.0618 | Q21: =K21-O21+L21+P21 -> 14.0693 | R21: =A21 -> №012а
A22: №013 | B22: 6391.54 | C22: 1658.66 | D22: 8050.2 | E22: 6747.25 | F22: 1741.21 | G22: 8488.46 | H22: =E22-B22 -> 355.71 | I22: =F22-C22 -> 82.55 | J22: =G22-D22 -> 438.26 | K22: =[1]Оплата!BC21 -> -761.7711 | L22: =[1]Оплата!AA21 -> 5000 | M22: =H22*M$5 -> 2198.2878 | N22: =I22*N$5 -> 189.0395 | O22: =SUM(M22:N22) -> 2387.3273 | Q22: =K22-O22+L22+P22 -> 1850.9016 | R22: =A22 -> №013
A23: №014 | B23: 2205.58 | C23: 7405.72 | D23: 9611.35 | E23: 2260.74 | F23: 7425.37 | G23: 9686.16 | H23: =E23-B23 -> 55.16 | I23: =F23-C23 -> 19.65 | J23: =G23-D23 -> 74.81 | K23: =[1]Оплата!BC22 -> 1.6719 | L23: =[1]Оплата!AA22 -> 0 | M23: =H23*M$5 -> 340.8888 | N23: =I23*N$5 -> 44.9985 | O23: =SUM(M23:N23) -> 385.8873 | Q23: =K23-O23+L23+P23 -> -384.2154 | R23: =A23 -> №014
A24: №015 | B24: 3455.66 | C24: 1895.6 | D24: 5351.27 | E24: 3457.42 | F24: 1895.6 | G24: 5353.02 | H24: =E24-B24 -> 1.76 | I24: =F24-C24 -> 0 | J24: =G24-D24 -> 1.75 | K24: =[1]Оплата!BC23 -> -486.4348 | L24: =[1]Оплата!AA23 -> 0 | M24: =H24*M$5 -> 10.8768 | N24: =I24*N$5 -> 0 | O24: =SUM(M24:N24) -> 10.8768 | Q24: =K24-O24+L24+P24 -> -497.3116 | R24: =A24 -> №015
A25: №016\17 | B25: 6648.18 | C25: 6623.37 | D25: 13271.56 | E25: 6663.99 | F25: 6642.17 | G25: 13306.16 | H25: =E25-B25 -> 15.81 | I25: =F25-C25 -> 18.8 | J25: =G25-D25 -> 34.6 | K25: =[1]Оплата!BC24 -> -5956.2045 | L25: =[1]Оплата!AA24 -> 0 | M25: =H25*M$5 -> 97.7058 | N25: =I25*N$5 -> 43.052 | O25: =SUM(M25:N25) -> 140.7578 | Q25: =K25-O25+L25+P25 -> -6096.9623 | R25: =A25 -> №016\17
A26: №018 | B26: 2178.18 | C26: 940.72 | D26: 3118.9 | E26: 2419.75 | F26: 1036.28 | G26: 3456.04 | H26: =E26-B26 -> 241.57 | I26: =F26-C26 -> 95.56 | J26: =G26-D26 -> 337.14 | K26: =[1]Оплата!BC25 -> -10.7047 | L26: =[1]Оплата!AA25 -> 0 | M26: =H26*M$5 -> 1492.9026 | N26: =I26*N$5 -> 218.8324 | O26: =SUM(M26:N26) -> 1711.735 | Q26: =K26-O26+L26+P26 -> -1722.4397 | R26: =A26 -> №018
A27: №019 | B27: 4355.92 | C27: 2711.46 | D27: 7067.39 | E27: 4355.92 | F27: 2711.46 | G27: 7067.39 | H27: =E27-B27 -> 0 | I27: =F27-C27 -> 0 | J27: =G27-D27 -> 0 | K27: =[1]Оплата!BC26 -> -3049.8906 | L27: =[1]Оплата!AA26 -> 0 | M27: =H27*M$5 -> 0 | N27: =I27*N$5 -> 0 | O27: =SUM(M27:N27) -> 0 | Q27: =K27-O27+L27+P27 -> -3049.8906 | R27: =A27 -> №019
A28: №020 | B28: 4060.47 | C28: 2241.39 | D28: 6302.5 | E28: 4248.76 | F28: 2324.38 | G28: 6573.79 | H28: =E28-B28 -> 188.29 | I28: =F28-C28 -> 82.99 | J28: =G28-D28 -> 271.29 | K28: =[1]Оплата!BC27 -> -4855.795 | L28: =[1]Оплата!AA27 -> 0 | M28: =H28*M$5 -> 1163.6322 | N28: =I28*N$5 -> 190.0471 | O28: =SUM(M28:N28) -> 1353.6793 | Q28: =K28-O28+L28+P28 -> -6209.4743 | R28: =A28 -> №020
... A42: №031\2 | B42: 1771.95 | C42: 548.23 | D42: 2320.19 | E42: 2016.84 | F42: 596.49 | G42: 2613.34 | H42: =E42-B42 -> 244.89 | I42: =F42-C42 -> 48.26 | J42: =G42-D42 -> 293.15 | K42: =[1]Оплата!BC41 -> 599.6046 | L42: =[1]Оплата!AA41 -> 0 | M42: =H42*M$5 -> 1513.4202 | N42: =I42*N$5 -> 110.5154 | O42: =SUM(M42:N42) -> 1623.9356 | Q42: =K42-O42+L42+P42 -> -1024.331 | R42: =A42 -> №031\2
A43: №032 | G43: 10203.28 | K43: =[1]Оплата!BC42 -> -3869.8428 | L43: =[1]Оплата!AA42 -> 3700 | M43: =H43*M$5 -> 0 | N43: =I43*N$5 -> 0 | O43: =SUM(M43:N43) -> 0 | Q43: =K43-O43+L43+P43 -> -169.8428 | R43: =A43 -> №032
A44: №033 | B44: 6194.75 | C44: 2037.22 | D44: 8231.98 | E44: 6386.88 | F44: 2133.83 | G44: 8520.72 | H44: =E44-B44 -> 192.13 | I44: =F44-C44 -> 96.61 | J44: =G44-D44 -> 288.74 | K44: =[1]Оплата!BC43 -> -170.4172 | L44: =[1]Оплата!AA43 -> 0 | M44: =H44*M$5 -> 1187.3634 | N44: =I44*N$5 -> 221.2369 | O44: =SUM(M44:N44) -> 1408.6003 | Q44: =K44-O44+L44+P44 -> -1579.0175 | R44: =A44 -> №033
A45: №034 | K45: =[1]Оплата!BC44 -> -4.4475 | L45: =[1]Оплата!AA44 -> 0 | M45: =H45*M$5 -> 0 | N45: =I45*N$5 -> 0 | O45: =SUM(M45:N45) -> 0 | Q45: =K45-O45+L45+P45 -> -4.4475 | R45: =A45 -> №034
A46: №035 | B46: 7045.42 | C46: 3553.22 | D46: 10598.65 | E46: 7373.59 | F46: 3782.86 | G46: 11156.46 | H46: =E46-B46 -> 328.17 | I46: =F46-C46 -> 229.64 | J46: =G46-D46 -> 557.81 | K46: =[1]Оплата!BC45 -> -3001.1671 | L46: =[1]Оплата!AA45 -> 0 | M46: =H46*M$5 -> 2028.0906 | N46: =I46*N$5 -> 525.8756 | O46: =SUM(M46:N46) -> 2553.9662 | Q46: =K46-O46+L46+P46 -> -5555.1333 | R46: =A46 -> №035
A47: №036 | B47: 5004.81 | C47: 1599.11 | D47: 6603.93 | E47: 5125.36 | F47: 1633.98 | G47: 6759.35 | H47: =E47-B47 -> 120.55 | I47: =F47-C47 -> 34.87 | J47: =G47-D47 -> 155.42 | K47: =[1]Оплата!BC46 -> 806.7757 | L47: =[1]Оплата!AA46 -> 0 | M47: =H47*M$5 -> 744.999 | N47: =I47*N$5 -> 79.8523 | O47: =SUM(M47:N47) -> 824.8513 | Q47: =K47-O47+L47+P47 -> -18.0756 | R47: =A47 -> №036
A48: №037 | B48: 4756.54 | C48: 2402.14 | D48: 7158.74 | E48: 5060.45 | F48: 2541.28 | G48: 7601.79 | H48: =E48-B48 -> 303.91 | I48: =F48-C48 -> 139.14 | J48: =G48-D48 -> 443.05 | K48: =[1]Оплата!BC47 -> -4581.6277 | L48: =[1]Оплата!AA47 -> 1676.72 | M48: =H48*M$5 -> 1878.1638 | N48: =I48*N$5 -> 318.6306 | O48: =SUM(M48:N48) -> 2196.7944 | Q48: =K48-O48+L48+P48 -> -5101.7021 | R48: =A48 -> №037
A49: №038 | B49: 2647.17 | C49: 1469.62 | D49: 4116.81 | E49: 2705.85 | F49: 1488.62 | G49: 4194.48 | H49: =E49-B49 -> 58.68 | I49: =F49-C49 -> 19 | J49: =G49-D49 -> 77.67 | K49: =[1]Оплата!BC48 -> -1198.8661 | L49: =[1]Оплата!AA48 -> 5000 | M49: =H49*M$5 -> 362.6424 | N49: =I49*N$5 -> 43.51 | O49: =SUM(M49:N49) -> 406.1524 | Q49: =K49-O49+L49+P49 -> 3394.9815 | R49: =A49 -> №038
A50: №039 снят потребителем | K50: =[1]Оплата!BC49 -> -582.5861 | L50: =[1]Оплата!AA49 -> 0 | M50: =H50*M$5 -> 0 | N50: =I50*N$5 -> 0 | O50: =SUM(M50:N50) -> 0 | Q50: =K50-O50+L50+P50 -> -582.5861 | R50: =A50 -> №039 снят потребителем
A51: №040 | B51: 1372.33 | C51: 2550.53 | D51: 3922.88 | E51: 1372.33 | F51: 2550.53 | G51: 3922.88 | H51: =E51-B51 -> 0 | I51: =F51-C51 -> 0 | J51: =G51-D51 -> 0 | K51: =[1]Оплата!BC50 -> -0.4223 | L51: =[1]Оплата!AA50 -> 0 | M51: =H51*M$5 -> 0 | N51: =I51*N$5 -> 0 | O51: =SUM(M51:N51) -> 0 | Q51: =K51-O51+L51+P51 -> -0.4223 | R51: =A51 -> №040
A52: №041 | B52: 4505.14 | C52: 2695.25 | D52: 7200.82 | E52: 4603.41 | F52: 2720.55 | G52: 7324.39 | H52: =E52-B52 -> 98.27 | I52: =F52-C52 -> 25.3 | J52: =G52-D52 -> 123.57 | K52: =[1]Оплата!BC51 -> -490.4645 | L52: =[1]Оплата!AA51 -> 0 | M52: =H52*M$5 -> 607.3086 | N52: =I52*N$5 -> 57.937 | O52: =SUM(M52:N52) -> 665.2456 | Q52: =K52-O52+L52+P52 -> -1155.7101 | R52: =A52 -> №041
A53: №041а | B53: 6943.02 | C53: 3267.48 | D53: 10210.51 | E53: 7091.16 | F53: 3304.19 | G53: 10395.36 | H53: =E53-B53 -> 148.14 | I53: =F53-C53 -> 36.71 | J53: =G53-D53 -> 184.85 | K53: =[1]Оплата!BC52 -> -1217.6902 | L53: =[1]Оплата!AA52 -> 1000 | M53: =H53*M$5 -> 915.5052 | N53: =I53*N$5 -> 84.0659 | O53: =SUM(M53:N53) -> 999.5711 | Q53: =K53-O53+L53+P53 -> -1217.2613 | R53: =A53 -> №041а
A54: №042 | B54: 2190.76 | C54: 2150.11 | D54: 4340.9 | E54: 2347.19 | F54: 2169.46 | G54: 4516.69 | H54: =E54-B54 -> 156.43 | I54: =F54-C54 -> 19.35 | J54: =G54-D54 -> 175.79 | K54: =[1]Оплата!BC53 -> 475.4185 | L54: =[1]Оплата!AA53 -> 0 | M54: =H54*M$5 -> 966.7374 | N54: =I54*N$5 -> 44.3115 | O54: =SUM(M54:N54) -> 1011.0489 | Q54: =K54-O54+L54+P54 -> -535.6304 | R54: =A54 -> №042
A55: №043\1 | B55: 2993.54 | C55: 1265.29 | D55: 4258.84 | E55: 3067.68 | F55: 1290.64 | G55: 4358.32 | H55: =E55-B55 -> 74.14 | I55: =F55-C55 -> 25.35 | J55: =G55-D55 -> 99.48 | K55: =[1]Оплата!BC54-15476.83 -> 0.1417 | L55: =[1]Оплата!AA54 -> 0 | M55: =H55*M$5 -> 458.1852 | N55: =I55*N$5 -> 58.0515 | O55: =SUM(M55:N55) -> 516.2367 | Q55: =K55-O55+L55+P55 -> -516.095 | R55: =A55 -> №043\1
...
