Workbook

Sheet Лист2

Sheet Лист1
J1: =SUM(J9:J274) -> 51872.458 | K1: =SUM(K9:K274) -> -207789.34 | L1: =SUM(L9:L274) -> 99850.11 | M1: =SUM(M9:M287) -> 192118.02 | N1: =SUM(N9:N287) -> 32471.328 | O1: =SUM(O9:O274) -> 224589.35 | P1: =SUM(P9:P274) -> 0 | Q1: =SUM(Q9:Q274) -> -332528.59 | R1: =SUM(R9:R274) -> -335883.62
L3: ОПЛАТА по разноске платежей автомат | Q3: Остаток расчетный
M5: 6.18 | N5: 2.29
A6: =F6 -> 43613 | C6: 43581 | F6: 43613 | H6: За период | K6: Остаток средств на | L6: Оплата | M6: Сумма начислений | P6: Перерас- | Q6: Задолженность ( - ) на | T6: =A6 -> 43613
A7: 2019г | B7: КВТ | E7: КВТ | H7: КВТ | M7: руб. | P7: чет | T7: =A7 -> 2019г
A8: Код_ | B8: АктЭн_M | C8: АктЭн_L | D8: СуммАктЭн | E8: АктЭн_M | F8: АктЭн_L | G8: СуммАктЭн | H8: АктЭн_M | I8: АктЭн_L | J8: Всего | K8: =C6 -> 43581 | L8: =F6 -> 43613 | M8: День | N8: Ночь | O8: Всего | P8: руб | Q8: =F6 -> 43613 | T8: Код
A9: №002 | B9: 1431.57 | C9: 384.64 | D9: 1816.22 | E9: 1654.13 | F9: 459.33 | G9: 2113.46 | H9: =E9-B9 -> 222.56 | I9: =F9-C9 -> 74.69 | J9: =G9-D9 -> 297.24 | K9: =[1]Оплата!BC8 -> -1910.131 | L9: =[1]Оплата!AA8 -> 0 | M9: =H9*M$5 -> 1375.4208 | N9: =I9*N$5 -> 171.0401 | O9: =SUM(M9:N9) -> 1546.4609 | Q9: =K9-O9+L9+P9 -> -3456.5919 | R9: =[1]Оплата!BD8 -> -3456.5919 | S9: =IF(Q9=R9,"",1) | T9: =A9 -> №002
A10: №003 | B10: 4018.35 | C10: 1529.12 | D10: 5547.48 | E10: 4237.23 | F10: 1692.38 | G10: 5929.62 | H10: =E10-B10 -> 218.88 | I10: =F10-C10 -> 163.26 | J10: =G10-D10 -> 382.14 | K10: =[1]Оплата!BC9 -> -503.1906 | L10: =[1]Оплата!AA9 -> 600 | M10: =H10*M$5 -> 1352.6784 | N10: =I10*N$5 -> 373.8654 | O10: =SUM(M10:N10) -> 1726.5438 | Q10: =K10-O10+L10+P10 -> -1629.7344 | R10: =[1]Оплата!BD9 -> -1629.7344 | S10: =IF(Q10=R10,"",1) | T10: =A10 -> №003
A11: №004 | B11: 4184.91 | C11: 1629.29 | D11: 5814.2 | E11: 4349.98 | F11: 1673.63 | G11: 6023.62 | H11: =E11-B11 -> 165.07 | I11: =F11-C11 -> 44.34 | J11: =G11-D11 -> 209.42 | K11: =[1]Оплата!BC10 -> 62.9361 | L11: =[1]Оплата!AA10 -> 0 | M11: =H11*M$5 -> 1020.1326 | N11: =I11*N$5 -> 101.5386 | O11: =SUM(M11:N11) -> 1121.6712 | Q11: =K11-O11+L11+P11 -> -1058.7351 | R11: =[1]Оплата!BD10 -> -1058.7351 | S11: =IF(Q11=R11,"",1) | T11: =A11 -> №004
A12: №005 | B12: 699.45 | C12: 1334.64 | D12: 2034.22 | E12: 708.04 | F12: 1338.41 | G12: 2046.59 | H12: =E12-B12 -> 8.59 | I12: =F12-C12 -> 3.77 | J12: =G12-D12 -> 12.37 | K12: =[1]Оплата!BC11 -> -224.9631 | L12: =[1]Оплата!AA11 -> 0 | M12: =H12*M$5 -> 53.0862 | N12: =I12*N$5 -> 8.6333 | O12: =SUM(M12:N12) -> 61.7195 | Q12: =K12-O12+L12+P12 -> -286.6826 | R12: =[1]Оплата!BD11 -> -286.6826 | S12: =IF(Q12=R12,"",1) | T12: =A12 -> №005
A13: №006 | B13: 1792.76 | C13: 834.92 | D13: 2627.69 | E13: 1792.76 | F13: 834.92 | G13: 2627.69 | H13: =E13-B13 -> 0 | I13: =F13-C13 -> 0 | J13: =G13-D13 -> 0 | K13: =[1]Оплата!BC12 -> -859.8963 | L13: =[1]Оплата!AA12 -> 0 | M13: =H13*M$5 -> 0 | N13: =I13*N$5 -> 0 | O13: =SUM(M13:N13) -> 0 | Q13: =K13-O13+L13+P13 -> -859.8963 | R13: =[1]Оплата!BD12 -> -859.8963 | S13: =IF(Q13=R13,"",1) | T13: =A13 -> №006
A14: №007 | B14: 2819.09 | C14: 1746.02 | D14: 4565.12 | E14: 2950.97 | F14: 1804.05 | G14: 4755.03 | H14: =E14-B14 -> 131.88 | I14: =F14-C14 -> 58.03 | J14: =G14-D14 -> 189.91 | K14: =[1]Оплата!BC13 -> -2029.8848 | L14: =[1]Оплата!AA13 -> 0 | M14: =H14*M$5 -> 815.0184 | N14: =I14*N$5 -> 132.8887 | O14: =SUM(M14:N14) -> 947.9071 | Q14: =K14-O14+L14+P14 -> -2977.7919 | R14: =[1]Оплата!BD13 -> -2977.7919 | S14: =IF(Q14=R14,"",1) | T14: =A14 -> №007
A15: №008 | B15: 1675.02 | C15: 345.19 | D15: 2020.22 | E15: 1675.26 | F15: 345.19 | G15: 2020.46 | H15: =E15-B15 -> 0.24 | I15: =F15-C15 -> 0 | J15: =G15-D15 -> 0.24 | K15: =[1]Оплата!BC14 -> -475.8169 | L15: =[1]Оплата!AA14 -> 0 | M15: =H15*M$5 -> 1.4832 | N15: =I15*N$5 -> 0 | O15: =SUM(M15:N15) -> 1.4832 | Q15: =K15-O15+L15+P15 -> -477.3001 | R15: =[1]Оплата!BD14 -> -477.3001 | S15: =IF(Q15=R15,"",1) | T15: =A15 -> №008
A16: №009 | K16: =[1]Оплата!BC15 -> 153.4953 | L16: =[1]Оплата!AA15 -> 0 | M16: =H16*M$5 -> 0 | N16: =I16*N$5 -> 0 | O16: =SUM(M16:N16) -> 0 | P16: снят счет-к | Q16: =K16-O16+L16 -> 153.4953 | R16: =[1]Оплата!BD15 -> 153.4953 | S16: =IF(Q16=R16,"",1) | T16: =A16 -> №009
A17: №009а | B17: 3205.09 | C17: 1875.89 | D17: 5080.99 | E17: 3287.96 | F17: 1982.39 | G17: 5270.35 | H17: =E17-B17 -> 82.87 | I17: =F17-C17 -> 106.5 | J17: =G17-D17 -> 189.36 | K17: =[1]Оплата!BC16 -> 82.341 | L17: =[1]Оплата!AA16 -> 0 | M17: =H17*M$5 -> 512.1366 | N17: =I17*N$5 -> 243.885 | O17: =SUM(M17:N17) -> 756.0216 | Q17: =K17-O17+L17+P17 -> -673.6806 | R17: =[1]Оплата!BD16 -> -673.6806 | S17: =IF(Q17=R17,"",1) | T17: =A17 -> №009а
A18: №010 | B18: 972.52 | C18: 675.87 | D18: 1648.41 | E18: 986.15 | F18: 681.04 | G18: 1667.21 | H18: =E18-B18 -> 13.63 | I18: =F18-C18 -> 5.17 | J18: =G18-D18 -> 18.8 | K18: =[1]Оплата!BC17 -> 2532.6692 | L18: =[1]Оплата!AA17 -> 0 | M18: =H18*M$5 -> 84.2334 | N18: =I18*N$5 -> 11.8393 | O18: =SUM(M18:N18) -> 96.0727 | Q18: =K18-O18+L18+P18 -> 2436.5965 | R18: =[1]Оплата!BD17 -> 2436.5965 | S18: =IF(Q18=R18,"",1) | T18: =A18 -> №010
A19: №011 | B19: 2543.88 | C19: 440.33 | D19: 2984.23 | E19: 2543.88 | F19: 440.33 | G19: 2984.23 | H19: =E19-B19 -> 0 | I19: =F19-C19 -> 0 | J19: =G19-D19 -> 0 | K19: =[1]Оплата!BC18 -> 2310.2802 | L19: =[1]Оплата!AA18 -> 0 | M19: =H19*M$5 -> 0 | N19: =I19*N$5 -> 0 | O19: =SUM(M19:N19) -> 0 | Q19: =K19-O19+L19+P19 -> 2310.2802 | R19: =[1]Оплата!BD18 -> 2310.2802 | S19: =IF(Q19=R19,"",1) | T19: =A19 -> №011
A20: №012 | B20: 561.25 | C20: 126.38 | D20: 687.64 | E20: 561.49 | F20: 126.43 | G20: 687.93 | H20: =E20-B20 -> 0.24 | I20: =F20-C20 -> 0.05 | J20: =G20-D20 -> 0.29 | K20: =[1]Оплата!BC19 -> 13.4217 | L20: =[1]Оплата!AA19 -> 0 | M20: =H20*M$5 -> 1.4832 | N20: =I20*N$5 -> 0.1145 | O20: =SUM(M20:N20) -> 1.5977 | Q20: =K20-O20+L20+P20 -> 11.824 | R20: =[1]Оплата!BD19 -> 11.824 | S20: =IF(Q20=R20,"",1) | T20: =A20 -> №012
A21: №012а | B21: 6.45 | C21: 0.8 | D21: 7.26 | E21: 6.46 | F21: 0.8 | G21: 7.27 | H21: =E21-B21 -> 0.01 | I21: =F21-C21 -> 0 | J21: =G21-D21 -> 0.01 | K21: =[1]Оплата!BC20 -> 14.1311 | L21: =[1]Оплата!AA20 -> 0 | M21: =H21*M$5 -> 0.0618 | N21: =I21*N$5 -> 0 | O21: =SUM(M21:N21) -> 0.0618 | Q21: =K21-O21+L21+P21 -> 14.0693 | R21: =[1]Оплата!BD20 -> 14.0693 | S21: =IF(Q21=R21,"",1) | T21: =A21 -> №012а
A22: №013 | B22: 6391.54 | C22: 1658.66 | D22: 8050.2 | E22: 6747.25 | F22: 1741.21 | G22: 8488.46 | H22: =E22-B22 -> 355.71 | I22: =F22-C22 -> 82.55 | J22: =G22-D22 -> 438.26 | K22: =[1]Оплата!BC21 -> -761.7711 | L22: =[1]Оплата!AA21 -> 5000 | M22: =H22*M$5 -> 2198.2878 | N22: =I22*N$5 -> 189.0395 | O22: =SUM(M22:N22) -> 2387.3273 | Q22: =K22-O22+L22+P22 -> 1850.9016 | R22: =[1]Оплата!BD21 -> 1850.9016 | S22: =IF(Q22=R22,"",1) | T22: =A22 -> №013
A23: №014 | B23: 2205.58 | C23: 7405.72 | D23: 9611.35 | E23: 2260.74 | F23: 7425.37 | G23: 9686.16 | H23: =E23-B23 -> 55.16 | I23: =F23-C23 -> 19.65 | J23: =G23-D23 -> 74.81 | K23: =[1]Оплата!BC22 -> 1.6719 | L23: =[1]Оплата!AA22 -> 0 | M23: =H23*M$5 -> 340.8888 | N23: =I23*N$5 -> 44.9985 | O23: =SUM(M23:N23) -> 385.8873 | Q23: =K23-O23+L23+P23 -> -384.2154 | R23: =[1]Оплата!BD22 -> -384.2154 | S23: =IF(Q23=R23,"",1) | T23: =A23 -> №014
A24: №015 | B24: 3455.66 | C24: 1895.6 | D24: 5351.27 | E24: 3457.42 | F24: 1895.6 | G24: 5353.02 | H24: =E24-B24 -> 1.76 | I24: =F24-C24 -> 0 | J24: =G24-D24 -> 1.75 | K24: =[1]Оплата!BC23 -> -486.4348 | L24: =[1]Оплата!AA23 -> 0 | M24: =H24*M$5 -> 10.8768 | N24: =I24*N$5 -> 0 | O24: =SUM(M24:N24) -> 10.8768 | Q24: =K24-O24+L24+P24 -> -497.3116 | R24: =[1]Оплата!BD23 -> -497.3116 | S24: =IF(Q24=R24,"",1) | T24: =A24 -> №015
A25: №016\17 | B25: 6648.18 | C25: 6623.37 | D25: 13271.56 | E25: 6663.99 | F25: 6642.17 | G25: 13306.16 | H25: =E25-B25 -> 15.81 | I25: =F25-C25 -> 18.8 | J25: =G25-D25 -> 34.6 | K25: =[1]Оплата!BC24 -> -5956.2045 | L25: =[1]Оплата!AA24 -> 0 | M25: =H25*M$5 -> 97.7058 | N25: =I25*N$5 -> 43.052 | O25: =SUM(M25:N25) -> 140.7578 | Q25: =K25-O25+L25+P25 -> -6096.9623 | R25: =[1]Оплата!BD24 -> -6096.9623 | S25: =IF(Q25=R25,"",1) | T25: =A25 -> №016\17
A26: №018 | B26: 2178.18 | C26: 940.72 | D26: 3118.9 | E26: 2419.75 | F26: 1036.28 | G26: 3456.04 | H26: =E26-B26 -> 241.57 | I26: =F26-C26 -> 95.56 | J26: =G26-D26 -> 337.14 | K26: =[1]Оплата!BC25 -> -10.7047 | L26: =[1]Оплата!AA25 -> 0 | M26: =H26*M$5 -> 1492.9026 | N26: =I26*N$5 -> 218.8324 | O26: =SUM(M26:N26) -> 1711.735 | Q26: =K26-O26+L26+P26 -> -1722.4397 | R26: =[1]Оплата!BD25 -> -1722.4397 | S26: =IF(Q26=R26,"",1) | T26: =A26 -> №018
A27: №019 | B27: 4355.92 | C27: 2711.46 | D27: 7067.39 | E27: 4355.92 | F27: 2711.46 | G27: 7067.39 | H27: =E27-B27 -> 0 | I27: =F27-C27 -> 0 | J27: =G27-D27 -> 0 | K27: =[1]Оплата!BC26 -> -3049.8906 | L27: =[1]Оплата!AA26 -> 0 | M27: =H27*M$5 -> 0 | N27: =I27*N$5 -> 0 | O27: =SUM(M27:N27) -> 0 | Q27: =K27-O27+L27+P27 -> -3049.8906 | R27: =[1]Оплата!BD26 -> -3049.8906 | S27: =IF(Q27=R27,"",1) | T27: =A27 -> №019
A28: №020 | B28: 4060.47 | C28: 2241.39 | D28: 6302.5 | E28: 4248.76 | F28: 2324.38 | G28: 6573.79 | H28: =E28-B28 -> 188.29 | I28: =F28-C28 -> 82.99 | J28: =G28-D28 -> 271.29 | K28: =[1]Оплата!BC27 -> -4855.795 | L28: =[1]Оплата!AA27 -> 0 | M28: =H28*M$5 -> 1163.6322 | N28: =I28*N$5 -> 190.0471 | O28: =SUM(M28:N28) -> 1353.6793 | Q28: =K28-O28+L28+P28 -> -6209.4743 | R28: =[1]Оплата!BD27 -> -6209.4743 | S28: =IF(Q28=R28,"",1) | T28: =A28 -> №020
... A37: №027 | B37: 2305.98 | C37: 754.82 | D37: 3060.87 | E37: 2397.76 | F37: 815.32 | G37: 3213.15 | H37: =E37-B37 -> 91.78 | I37: =F37-C37 -> 60.5 | J37: =G37-D37 -> 152.28 | K37: =[1]Оплата!BC36 -> 603.2251 | L37: =[1]Оплата!AA36 -> 0 | M37: =H37*M$5 -> 567.2004 | N37: =I37*N$5 -> 138.545 | O37: =SUM(M37:N37) -> 705.7454 | Q37: =K37-O37+L37+P37 -> -102.5203 | R37: =[1]Оплата!BD36 -> -102.5203 | S37: =IF(Q37=R37,"",1) | T37: =A37 -> №027
A38: №028снят | E38: 1330.52 | F38: 496.08 | G38: 1826.61 | K38: =[1]Оплата!BC37 -> -4.3548 | L38: =[1]Оплата!AA37 -> 0 | M38: =H38*M$5 -> 0 | N38: =I38*N$5 -> 0 | O38: =SUM(M38:N38) -> 0 | Q38: =K38-O38+L38+P38 -> -4.3548 | R38: =[1]Оплата!BD37 -> -4.3548 | S38: =IF(Q38=R38,"",1) | T38: =A38 -> №028снят
A39: №029 | B39: 9172.99 | C39: 10817.08 | D39: 19990.09 | E39: 9264.29 | F39: 10852.3 | G39: 20116.62 | H39: =E39-B39 -> 91.3 | I39: =F39-C39 -> 35.22 | J39: =G39-D39 -> 126.53 | K39: =[1]Оплата!BC38 -> -881.1287 | L39: =[1]Оплата!AA38 -> 0 | M39: =H39*M$5 -> 564.234 | N39: =I39*N$5 -> 80.6538 | O39: =SUM(M39:N39) -> 644.8878 | Q39: =K39-O39+L39+P39 -> -1526.0165 | R39: =[1]Оплата!BD38 -> -1526.0165 | S39: =IF(Q39=R39,"",1) | T39: =A39 -> №029
A40: №030 | B40: 1603.11 | C40: 584.95 | D40: 2188.11 | E40: 1603.11 | F40: 584.95 | G40: 2188.11 | H40: =E40-B40 -> 0 | I40: =F40-C40 -> 0 | J40: =G40-D40 -> 0 | K40: =[1]Оплата!BC39 -> -8.8057 | L40: =[1]Оплата!AA39 -> 0 | M40: =H40*M$5 -> 0 | N40: =I40*N$5 -> 0 | O40: =SUM(M40:N40) -> 0 | Q40: =K40-O40+L40+P40 -> -8.8057 | R40: =[1]Оплата!BD39 -> -8.8057 | S40: =IF(Q40=R40,"",1) | T40: =A40 -> №030
A41: №031\1 | B41: 2828.53 | C41: 1481.6 | D41: 4310.14 | E41: 3212.21 | F41: 1651.15 | G41: 4863.37 | H41: =E41-B41 -> 383.68 | I41: =F41-C41 -> 169.55 | J41: =G41-D41 -> 553.23 | K41: =[1]Оплата!BC40 -> -965.1365 | L41: =[1]Оплата!AA40 -> 0 | M41: =H41*M$5 -> 2371.1424 | N41: =I41*N$5 -> 388.2695 | O41: =SUM(M41:N41) -> 2759.4119 | Q41: =K41-O41+L41+P41 -> -3724.5484 | R41: =[1]Оплата!BD40 -> -3724.5484 | S41: =IF(Q41=R41,"",1) | T41: =A41 -> №031\1
A42: №031\2 | B42: 1771.95 | C42: 548.23 | D42: 2320.19 | E42: 2016.84 | F42: 596.49 | G42: 2613.34 | H42: =E42-B42 -> 244.89 | I42: =F42-C42 -> 48.26 | J42: =G42-D42 -> 293.15 | K42: =[1]Оплата!BC41 -> 599.6046 | L42: =[1]Оплата!AA41 -> 0 | M42: =H42*M$5 -> 1513.4202 | N42: =I42*N$5 -> 110.5154 | O42: =SUM(M42:N42) -> 1623.9356 | Q42: =K42-O42+L42+P42 -> -1024.331 | R42: =[1]Оплата!BD41 -> -1024.331 | S42: =IF(Q42=R42,"",1) | T42: =A42 -> №031\2
A43: №032 | G43: 10203.28 | K43: =[1]Оплата!BC42 -> -3869.8428 | L43: =[1]Оплата!AA42 -> 3700 | M43: =H43*M$5 -> 0 | N43: =I43*N$5 -> 0 | O43: =SUM(M43:N43) -> 0 | Q43: =K43-O43+L43+P43 -> -169.8428 | R43: =[1]Оплата!BD42 -> -169.8428 | S43: =IF(Q43=R43,"",1) | T43: =A43 -> №032
A44: №033 | B44: 6194.75 | C44: 2037.22 | D44: 8231.98 | E44: 6386.88 | F44: 2133.83 | G44: 8520.72 | H44: =E44-B44 -> 192.13 | I44: =F44-C44 -> 96.61 | J44: =G44-D44 -> 288.74 | K44: =[1]Оплата!BC43 -> -170.4172 | L44: =[1]Оплата!AA43 -> 0 | M44: =H44*M$5 -> 1187.3634 | N44: =I44*N$5 -> 221.2369 | O44: =SUM(M44:N44) -> 1408.6003 | Q44: =K44-O44+L44+P44 -> -1579.0175 | R44: =[1]Оплата!BD43 -> -1579.0175 | S44: =IF(Q44=R44,"",1) | T44: =A44 -> №033
A45: №034 | B45: 0.68 | C45: 0.79 | D45: 1.48 | K45: =[1]Оплата!BC44 -> -4.4475 | L45: =[1]Оплата!AA44 -> 0 | M45: =H45*M$5 -> 0 | N45: =I45*N$5 -> 0 | O45: =SUM(M45:N45) -> 0 | Q45: =K45-O45+L45+P45 -> -4.4475 | R45: =[1]Оплата!BD44 -> -4.4475 | S45: =IF(Q45=R45,"",1) | T45: =A45 -> №034
A46: №035 | B46: 7045.42 | C46: 3553.22 | D46: 10598.65 | E46: 7373.59 | F46: 3782.86 | G46: 11156.46 | H46: =E46-B46 -> 328.17 | I46: =F46-C46 -> 229.64 | J46: =G46-D46 -> 557.81 | K46: =[1]Оплата!BC45 -> -3001.1671 | L46: =[1]Оплата!AA45 -> 0 | M46: =H46*M$5 -> 2028.0906 | N46: =I46*N$5 -> 525.8756 | O46: =SUM(M46:N46) -> 2553.9662 | Q46: =K46-O46+L46+P46 -> -5555.1333 | R46: =[1]Оплата!BD45 -> -5555.1333 | S46: =IF(Q46=R46,"",1) | T46: =A46 -> №035
A47: №036 | B47: 5004.81 | C47: 1599.11 | D47: 6603.93 | E47: 5125.36 | F47: 1633.98 | G47: 6759.35 | H47: =E47-B47 -> 120.55 | I47: =F47-C47 -> 34.87 | J47: =G47-D47 -> 155.42 | K47: =[1]Оплата!BC46 -> 806.7757 | L47: =[1]Оплата!AA46 -> 0 | M47: =H47*M$5 -> 744.999 | N47: =I47*N$5 -> 79.8523 | O47: =SUM(M47:N47) -> 824.8513 | Q47: =K47-O47+L47+P47 -> -18.0756 | R47: =[1]Оплата!BD46 -> -18.0756 | S47: =IF(Q47=R47,"",1) | T47: =A47 -> №036
A48: №037 | B48: 4756.54 | C48: 2402.14 | D48: 7158.74 | E48: 5060.45 | F48: 2541.28 | G48: 7601.79 | H48: =E48-B48 -> 303.91 | I48: =F48-C48 -> 139.14 | J48: =G48-D48 -> 443.05 | K48: =[1]Оплата!BC47 -> -4581.6277 | L48: =[1]Оплата!AA47 -> 1676.72 | M48: =H48*M$5 -> 1878.1638 | N48: =I48*N$5 -> 318.6306 | O48: =SUM(M48:N48) -> 2196.7944 | Q48: =K48-O48+L48+P48 -> -5101.7021 | R48: =[1]Оплата!BD47 -> -5101.7021 | S48: =IF(Q48=R48,"",1) | T48: =A48 -> №037
A49: №038 | B49: 2647.17 | C49: 1469.62 | D49: 4116.81 | E49: 2705.85 | F49: 1488.62 | G49: 4194.48 | H49: =E49-B49 -> 58.68 | I49: =F49-C49 -> 19 | J49: =G49-D49 -> 77.67 | K49: =[1]Оплата!BC48 -> -1198.8661 | L49: =[1]Оплата!AA48 -> 5000 | M49: =H49*M$5 -> 362.6424 | N49: =I49*N$5 -> 43.51 | O49: =SUM(M49:N49) -> 406.1524 | Q49: =K49-O49+L49+P49 -> 3394.9815 | R49: =[1]Оплата!BD48 -> 3394.9815 | S49: =IF(Q49=R49,"",1) | T49: =A49 -> №038
A50: №039 снят потребителем | K50: =[1]Оплата!BC49 -> -582.5861 | L50: =[1]Оплата!AA49 -> 0 | M50: =H50*M$5 -> 0 | N50: =I50*N$5 -> 0 | O50: =SUM(M50:N50) -> 0 | Q50: =K50-O50+L50+P50 -> -582.5861 | R50: =[1]Оплата!BD49 -> -582.5861 | S50: =IF(Q50=R50,"",1) | T50: =A50 -> №039 снят потребителем
A51: №040 | B51: 1372.33 | C51: 2550.53 | D51: 3922.88 | E51: 1372.33 | F51: 2550.53 | G51: 3922.88 | H51: =E51-B51 -> 0 | I51: =F51-C51 -> 0 | J51: =G51-D51 -> 0 | K51: =[1]Оплата!BC50 -> -0.4223 | L51: =[1]Оплата!AA50 -> 0 | M51: =H51*M$5 -> 0 | N51: =I51*N$5 -> 0 | O51: =SUM(M51:N51) -> 0 | Q51: =K51-O51+L51+P51 -> -0.4223 | R51: =[1]Оплата!BD50 -> -0.4223 | S51: =IF(Q51=R51,"",1) | T51: =A51 -> №040
A52: №041 | B52: 4505.14 | C52: 2695.25 | D52: 7200.82 | E52: 4603.41 | F52: 2720.55 | G52: 7324.39 | H52: =E52-B52 -> 98.27 | I52: =F52-C52 -> 25.3 | J52: =G52-D52 -> 123.57 | K52: =[1]Оплата!BC51 -> -490.4645 | L52: =[1]Оплата!AA51 -> 0 | M52: =H52*M$5 -> 607.3086 | N52: =I52*N$5 -> 57.937 | O52: =SUM(M52:N52) -> 665.2456 | Q52: =K52-O52+L52+P52 -> -1155.7101 | R52: =[1]Оплата!BD51 -> -1155.7101 | S52: =IF(Q52=R52,"",1) | T52: =A52 -> №041
A53: №041а | B53: 6943.02 | C53: 3267.48 | D53: 10210.51 | E53: 7091.16 | F53: 3304.19 | G53: 10395.36 | H53: =E53-B53 -> 148.14 | I53: =F53-C53 -> 36.71 | J53: =G53-D53 -> 184.85 | K53: =[1]Оплата!BC52 -> -1217.6902 | L53: =[1]Оплата!AA52 -> 1000 | M53: =H53*M$5 -> 915.5052 | N53: =I53*N$5 -> 84.0659 | O53: =SUM(M53:N53) -> 999.5711 | Q53: =K53-O53+L53+P53 -> -1217.2613 | R53: =[1]Оплата!BD52 -> -1217.2613 | S53: =IF(Q53=R53,"",1) | T53: =A53 -> №041а
A54: №042 | B54: 2190.76 | C54: 2150.11 | D54: 4340.9 | E54: 2347.19 | F54: 2169.46 | G54: 4516.69 | H54: =E54-B54 -> 156.43 | I54: =F54-C54 -> 19.35 | J54: =G54-D54 -> 175.79 | K54: =[1]Оплата!BC53 -> 475.4185 | L54: =[1]Оплата!AA53 -> 0 | M54: =H54*M$5 -> 966.7374 | N54: =I54*N$5 -> 44.3115 | O54: =SUM(M54:N54) -> 1011.0489 | Q54: =K54-O54+L54+P54 -> -535.6304 | R54: =[1]Оплата!BD53 -> -535.6304 | S54: =IF(Q54=R54,"",1) | T54: =A54 -> №042
A55: №043\1 | B55: 2993.54 | C55: 1265.29 | D55: 4258.84 | E55: 3067.68 | F55: 1290.64 | G55: 4358.32 | H55: =E55-B55 -> 74.14 | I55: =F55-C55 -> 25.35 | J55: =G55-D55 -> 99.48 | K55: =[1]Оплата!BC54-15476.83 -> 0.1417 | L55: =[1]Оплата!AA54 -> 0 | M55: =H55*M$5 -> 458.1852 | N55: =I55*N$5 -> 58.0515 | O55: =SUM(M55:N55) -> 516.2367 | Q55: =K55-O55+L55+P55 -> -516.095 | R55: =[1]Оплата!BD54 -> -516.0967 | S55: =IF(Q55=R55,"",1) -> 1 | T55: =A55 -> №043\1
A56: №043\2 | B56: 15008.45 | C56: 6840.57 | D56: 21849.03 | E56: 15225.53 | F56: 7017.11 | G56: 22242.65 | H56: =E56-B56 -> 217.08 | I56: =F56-C56 -> 176.54 | J56: =G56-D56 -> 393.62 | K56: =[1]Оплата!BC55+15476.83 -> 0.002 | L56: =[1]Оплата!AA55 -> 0 | M56: =H56*M$5 -> 1341.5544 | N56: =I56*N$5 -> 404.2766 | O56: =SUM(M56:N56) -> 1745.831 | Q56: =K56-O56+L56+P56 -> -1745.829 | R56: =[1]Оплата!BD55 -> -1745.831 | S56: =IF(Q56=R56,"",1) -> 1 | T56: =A56 -> №043\2
A57: №044 | B57: 3697.18 | C57: 1843.41 | D57: 5540.6 | E57: 3768.88 | F57: 1887.08 | G57: 5655.96 | H57: =E57-B57 -> 71.7 | I57: =F57-C57 -> 43.67 | J57: =G57-D57 -> 115.36 | K57: =[1]Оплата!BC56 -> 384.2451 | L57: =[1]Оплата!AA56 -> 0 | M57: =H57*M$5 -> 443.106 | N57: =I57*N$5 -> 100.0043 | O57: =SUM(M57:N57) -> 543.1103 | Q57: =K57-O57+L57+P57 -> -158.8652 | R57: =[1]Оплата!BD56 -> -158.8652 | S57: =IF(Q57=R57,"",1) | T57: =A57 -> №044
A58: №045 не установлен | K58: =[1]Оплата!BC57 -> 0 | L58: =[1]Оплата!AA57 -> 0 | Q58: =K58-O58+L58+P58 -> 0 | R58: =[1]Оплата!BD57 -> 0 | S58: =IF(Q58=R58,"",1) | T58: =A58 -> №045 не установлен
A59: №046 | B59: 3492.11 | C59: 2784.21 | D59: 6276.33 | E59: 3651.93 | F59: 2902.56 | G59: 6554.49 | H59: =E59-B59 -> 159.82 | I59: =F59-C59 -> 118.35 | J59: =G59-D59 -> 278.16 | K59: =[1]Оплата!BC58 -> -12.5485 | L59: =[1]Оплата!AA58 -> 0 | M59: =H59*M$5 -> 987.6876 | N59: =I59*N$5 -> 271.0215 | O59: =SUM(M59:N59) -> 1258.7091 | Q59: =K59-O59+L59+P59 -> -1271.2576 | R59: =[1]Оплата!BD58 -> -1271.2576 | S59: =IF(Q59=R59,"",1) | T59: =A59 -> №046
A60: №046а | B60: 6274.81 | C60: 2677.05 | D60: 8951.88 | E60: 6405.29 | F60: 2747.86 | G60: 9153.17 | H60: =E60-B60 -> 130.48 | I60: =F60-C60 -> 70.81 | J60: =G60-D60 -> 201.29 | K60: =[1]Оплата!BC59 -> -2156.8246 | L60: =[1]Оплата!AA59 -> 681 | M60: =H60*M$5 -> 806.3664 | N60: =I60*N$5 -> 162.1549 | O60: =SUM(M60:N60) -> 968.5213 | Q60: =K60-O60+L60+P60 -> -2444.3459 | R60: =[1]Оплата!BD59 -> -2444.3459 | S60: =IF(Q60=R60,"",1) | T60: =A60 -> №046а
A61: №047 | B61: 275.4 | C61: 125.37 | D61: 400.77 | E61: 282.49 | F61: 128.75 | G61: 411.24 | H61: =E61-B61 -> 7.09 | I61: =F61-C61 -> 3.38 | J61: =G61-D61 -> 10.47 | K61: =[1]Оплата!BC60 -> -1777.1985 | L61: =[1]Оплата!AA60 -> 0 | M61: =H61*M$5 -> 43.8162 | N61: =I61*N$5 -> 7.7402 | O61: =SUM(M61:N61) -> 51.5564 | Q61: =K61-O61+L61+P61 -> -1828.7549 | R61: =[1]Оплата!BD60 -> -1828.7549 | S61: =IF(Q61=R61,"",1) | T61: =A61 -> №047
A62: №048 | B62: 6552.44 | C62: 2016.02 | D62: 8568.47 | E62: 6785.63 | F62: 2078.73 | G62: 8864.37 | H62: =E62-B62 -> 233.19 | I62: =F62-C62 -> 62.71 | J62: =G62-D62 -> 295.9 | K62: =[1]Оплата!BC61 -> -4265.852 | L62: =[1]Оплата!AA61 -> 0 | M62: =H62*M$5 -> 1441.1142 | N62: =I62*N$5 -> 143.6059 | O62: =SUM(M62:N62) -> 1584.7201 | Q62: =K62-O62+L62+P62 -> -5850.5721 | R62: =[1]Оплата!BD61 -> -5850.5721 | S62: =IF(Q62=R62,"",1) | T62: =A62 -> №048
A63: №049 | B63: 6016.27 | C63: 2535.67 | D63: 8551.94 | E63: 6287.27 | F63: 2654.66 | G63: 8941.93 | H63: =E63-B63 -> 271 | I63: =F63-C63 -> 118.99 | J63: =G63-D63 -> 389.99 | K63: =[1]Оплата!BC62 -> -203.2541 | L63: =[1]Оплата!AA62 -> 0 | M63: =H63*M$5 -> 1674.78 | N63: =I63*N$5 -> 272.4871 | O63: =SUM(M63:N63) -> 1947.2671 | Q63: =K63-O63+L63+P63 -> -2150.5212 | R63: =[1]Оплата!BD62 -> -2150.5212 | S63: =IF(Q63=R63,"",1) | T63: =A63 -> №049
A64: №050 | B64: 7750.6 | C64: 3076.17 | D64: 10826.78 | E64: 8123.58 | F64: 3243.58 | G64: 11367.17 | H64: =E64-B64 -> 372.98 | I64: =F64-C64 -> 167.41 | J64: =G64-D64 -> 540.39 | K64: =[1]Оплата!BC63 -> -3162.7154 | L64: =[1]Оплата!AA63 -> 0 | M64: =H64*M$5 -> 2305.0164 | N64: =I64*N$5 -> 383.3689 | O64: =SUM(M64:N64) -> 2688.3853 | Q64: =K64-O64+L64+P64 -> -5851.1007 | R64: =[1]Оплата!BD63 -> -5851.1007 | S64: =IF(Q64=R64,"",1) | T64: =A64 -> №050
A65: №051 | B65: 12464.89 | C65: 13479.97 | D65: 25944.87 | E65: 12711.95 | F65: 13605.53 | G65: 26317.49 | H65: =E65-B65 -> 247.06 | I65: =F65-C65 -> 125.56 | J65: =G65-D65 -> 372.62 | K65: =[1]Оплата!BC64 -> -11841.59 | L65: =[1]Оплата!AA64 -> 12000 | M65: =H65*M$5 -> 1526.8308 | N65: =I65*N$5 -> 287.5324 | O65: =SUM(M65:N65) -> 1814.3632 | Q65: =K65-O65+L65+P65 -> -1655.9535 | R65: =[1]Оплата!BD64 -> -1655.9535 | S65: =IF(Q65=R65,"",1) | T65: =A65 -> №051
A66: №052 | B66: 4455.5 | C66: 1668.06 | D66: 6123.57 | E66: 4535.09 | F66: 1688.9 | G66: 6223.99 | H66: =E66-B66 -> 79.59 | I66: =F66-C66 -> 20.84 | J66: =G66-D66 -> 100.42 | K66: =[1]Оплата!BC65 -> -237.5469 | L66: =[1]Оплата!AA65 -> 0 | M66: =H66*M$5 -> 491.8662 | N66: =I66*N$5 -> 47.7236 | O66: =SUM(M66:N66) -> 539.5898 | Q66: =K66-O66+L66+P66 -> -777.1367 | R66: =[1]Оплата!BD65 -> -777.1367 | S66: =IF(Q66=R66,"",1) | T66: =A66 -> №052
A67: №052а | B67: 3564.19 | C67: 1269.13 | D67: 4833.35 | E67: 3656.59 | F67: 1292.44 | G67: 4949.08 | H67: =E67-B67 -> 92.4 | I67: =F67-C67 -> 23.31 | J67: =G67-D67 -> 115.73 | K67: =[1]Оплата!BC66 -> -1560.6606 | L67: =[1]Оплата!AA66 -> 1600 | M67: =H67*M$5 -> 571.032 | N67: =I67*N$5 -> 53.3799 | O67: =SUM(M67:N67) -> 624.4119 | Q67: =K67-O67+L67+P67 -> -585.0725 | R67: =[1]Оплата!BD66 -> -585.0725 | S67: =IF(Q67=R67,"",1) | T67: =A67 -> №052а
A68: №053 | B68: 122.31 | C68: 77.27 | D68: 199.58 | E68: 122.31 | F68: 77.27 | G68: 199.59 | H68: =E68-B68 -> 0 | I68: =F68-C68 -> 0 | J68: =G68-D68 -> 0.01 | K68: =[1]Оплата!BC67 -> 23.4121 | L68: =[1]Оплата!AA67 -> 0 | M68: =H68*M$5 -> 0 | N68: =I68*N$5 -> 0 | O68: =SUM(M68:N68) -> 0 | Q68: =K68-O68+L68+P68 -> 23.4121 | R68: =[1]Оплата!BD67 -> 23.4121 | S68: =IF(Q68=R68,"",1) | T68: =A68 -> №053
A69: №054 | B69: 1075.51 | C69: 547.95 | D69: 1623.47 | E69: 1123.39 | F69: 571.69 | G69: 1695.09 | H69: =E69-B69 -> 47.88 | I69: =F69-C69 -> 23.74 | J69: =G69-D69 -> 71.62 | K69: =[1]Оплата!BC68 -> -622.898 | L69: =[1]Оплата!AA68 -> 0 | M69: =H69*M$5 -> 295.8984 | N69: =I69*N$5 -> 54.3646 | O69: =SUM(M69:N69) -> 350.263 | Q69: =K69-O69+L69+P69 -> -973.161 | R69: =[1]Оплата!BD68 -> -973.161 | S69: =IF(Q69=R69,"",1) | T69: =A69 -> №054
A70: №055 | B70: 5665.89 | C70: 2679.03 | D70: 8344.94 | E70: 6483 | F70: 3046.96 | G70: 9529.98 | H70: =E70-B70 -> 817.11 | I70: =F70-C70 -> 367.93 | J70: =G70-D70 -> 1185.04 | K70: =[1]Оплата!BC69 -> -1295.9766 | L70: =[1]Оплата!AA69 -> 0 | M70: =H70*M$5 -> 5049.7398 | N70: =I70*N$5 -> 842.5597 | O70: =SUM(M70:N70) -> 5892.2995 | Q70: =K70-O70+L70+P70 -> -7188.2761 | R70: =[1]Оплата!BD69 -> -7188.2761 | S70: =IF(Q70=R70,"",1) | T70: =A70 -> №055
... A73: №058 | B73: 6266.02 | C73: 2051.57 | D73: 8317.6 | E73: 6427.62 | F73: 2117.28 | G73: 8544.91 | H73: =E73-B73 -> 161.6 | I73: =F73-C73 -> 65.71 | J73: =G73-D73 -> 227.31 | K73: =[1]Оплата!BC72 -> 249.6184 | L73: =[1]Оплата!AA72 -> 0 | M73: =H73*M$5 -> 998.688 | N73: =I73*N$5 -> 150.4759 | O73: =SUM(M73:N73) -> 1149.1639 | Q73: =K73-O73+L73+P73 -> -899.5455 | R73: =[1]Оплата!BD72 -> -899.5455 | S73: =IF(Q73=R73,"",1) | T73: =A73 -> №058
A74: №059 | B74: 19604.76 | C74: 8609.06 | D74: 28213.83 | E74: 20255.15 | F74: 8841.1 | G74: 29096.26 | H74: =E74-B74 -> 650.39 | I74: =F74-C74 -> 232.04 | J74: =G74-D74 -> 882.43 | K74: =[1]Оплата!BC73 -> -2468.1952 | L74: =[1]Оплата!AA73 -> 0 | M74: =H74*M$5 -> 4019.4102 | N74: =I74*N$5 -> 531.3716 | O74: =SUM(M74:N74) -> 4550.7818 | Q74: =K74-O74+L74 -> -7018.977 | R74: =[1]Оплата!BD73 -> -7018.977 | S74: =IF(Q74=R74,"",1) | T74: =A74 -> №059
A75: №060 | E75: новый счетчик | G75: 716.87 | K75: =[1]Оплата!BC74 -> -9.3065 | L75: =[1]Оплата!AA74 -> 0 | M75: =H75*M$5 -> 0 | N75: =I75*N$5 -> 0 | O75: =SUM(M75:N75) -> 0 | P75: замена сч-ка | Q75: =K75-O75+L75 -> -9.3065 | R75: =[1]Оплата!BD74 -> -9.3065 | S75: =IF(Q75=R75,"",1) | T75: =A75 -> №060
A76: №061 | B76: 3993.94 | C76: 1817.41 | D76: 5811.35 | E76: 4133.07 | F76: 1858.65 | G76: 5991.72 | H76: =E76-B76 -> 139.13 | I76: =F76-C76 -> 41.24 | J76: =G76-D76 -> 180.37 | K76: =[1]Оплата!BC75 -> -76.2441 | L76: =[1]Оплата!AA75 -> 0 | M76: =H76*M$5 -> 859.8234 | N76: =I76*N$5 -> 94.4396 | O76: =SUM(M76:N76) -> 954.263 | Q76: =K76-O76+L76+P76 -> -1030.5071 | R76: =[1]Оплата!BD75 -> -1030.5071 | S76: =IF(Q76=R76,"",1) | T76: =A76 -> №061
A77: №062 | B77: 15758.86 | C77: 9748.29 | D77: 25507.7 | E77: 16012.14 | F77: 9867.94 | G77: 25880.62 | H77: =E77-B77 -> 253.28 | I77: =F77-C77 -> 119.65 | J77: =G77-D77 -> 372.92 | K77: =[1]Оплата!BC76 -> 0.0043 | L77: =[1]Оплата!AA76 -> 0 | M77: =H77*M$5 -> 1565.2704 | N77: =I77*N$5 -> 273.9985 | O77: =SUM(M77:N77) -> 1839.2689 | Q77: =K77-O77+L77+P77 -> -1839.2646 | R77: =[1]Оплата!BD76 -> -1839.2646 | S77: =IF(Q77=R77,"",1) | T77: =A77 -> №062
A78: №062а | B78: 2707.32 | C78: 1175.67 | D78: 3883.01 | E78: 3201.78 | F78: 1370.34 | G78: 4572.13 | H78: =E78-B78 -> 494.46 | I78: =F78-C78 -> 194.67 | J78: =G78-D78 -> 689.12 | K78: =[1]Оплата!BC77 -> -242.0525 | L78: =[1]Оплата!AA77 -> 0 | M78: =H78*M$5 -> 3055.7628 | N78: =I78*N$5 -> 445.7943 | O78: =SUM(M78:N78) -> 3501.5571 | Q78: =K78-O78+L78+P78 -> -3743.6096 | R78: =[1]Оплата!BD77 -> -3743.6096 | S78: =IF(Q78=R78,"",1) | T78: =A78 -> №062а
A79: №063 | B79: 713 | C79: 451.7 | D79: 1164.71 | E79: 723.42 | F79: 456.29 | G79: 1179.71 | H79: =E79-B79 -> 10.42 | I79: =F79-C79 -> 4.59 | J79: =G79-D79 -> 15 | K79: =[1]Оплата!BC78 -> -357.9905 | L79: =[1]Оплата!AA78 -> 357 | M79: =H79*M$5 -> 64.3956 | N79: =I79*N$5 -> 10.5111 | O79: =SUM(M79:N79) -> 74.9067 | Q79: =K79-O79+L79+P79 -> -75.8972 | R79: =[1]Оплата!BD78 -> -75.8972 | S79: =IF(Q79=R79,"",1) | T79: =A79 -> №063
A80: №064\1 | B80: 57.79 | C80: 18.4 | D80: 76.2 | E80: 61.15 | F80: 18.4 | G80: 79.57 | H80: =E80-B80 -> 3.36 | I80: =F80-C80 -> 0 | J80: =G80-D80 -> 3.37 | K80: =[1]Оплата!BC79 -> 24139.185 | L80: =[1]Оплата!AA79 -> 0 | M80: =H80*M$5 -> 20.7648 | N80: =I80*N$5 -> 0 | O80: =SUM(M80:N80) -> 20.7648 | Q80: =K80-O80+L80+P80 -> 24118.421 | R80: =[1]Оплата!BD79 -> 24118.421 | S80: =IF(Q80=R80,"",1) | T80: =A80 -> №064\1
A81: №064\2 | B81: 4473.43 | C81: 1676.31 | D81: 6149.75 | E81: 4588.42 | F81: 1703.36 | G81: 6291.79 | H81: =E81-B81 -> 114.99 | I81: =F81-C81 -> 27.05 | J81: =G81-D81 -> 142.04 | K81: =[1]Оплата!BC80 -> -24626.926 | L81: =[1]Оплата!AA80 -> 0 | M81: =H81*M$5 -> 710.6382 | N81: =I81*N$5 -> 61.9445 | O81: =SUM(M81:N81) -> 772.5827 | Q81: =K81-O81+L81+P81 -> -25399.508 | R81: =[1]Оплата!BD80 -> -25399.508 | S81: =IF(Q81=R81,"",1) | T81: =A81 -> №064\2
A82: №065 | B82: 22896.07 | C82: 8391.34 | D82: 31287.41 | E82: 23384.12 | F82: 8552.41 | G82: 31936.53 | H82: =E82-B82 -> 488.05 | I82: =F82-C82 -> 161.07 | J82: =G82-D82 -> 649.12 | K82: =[1]Оплата!BC81 -> -4547.5162 | L82: =[1]Оплата!AA81 -> 0 | M82: =H82*M$5 -> 3016.149 | N82: =I82*N$5 -> 368.8503 | O82: =SUM(M82:N82) -> 3384.9993 | Q82: =K82-O82+L82+P82 -> -7932.5155 | R82: =[1]Оплата!BD81 -> -7932.5155 | S82: =IF(Q82=R82,"",1) | T82: =A82 -> №065
A83: №066 | B83: 8553.96 | C83: 3959.23 | D83: 12513.2 | E83: 8631.4 | F83: 3989.12 | G83: 12620.53 | H83: =E83-B83 -> 77.44 | I83: =F83-C83 -> 29.89 | J83: =G83-D83 -> 107.33 | K83: =[1]Оплата!BC82 -> -6052.8487 | L83: =[1]Оплата!AA82 -> 0 | M83: =H83*M$5 -> 478.5792 | N83: =I83*N$5 -> 68.4481 | O83: =SUM(M83:N83) -> 547.0273 | Q83: =K83-O83+L83+P83 -> -6599.876 | R83: =[1]Оплата!BD82 -> -6599.876 | S83: =IF(Q83=R83,"",1) | T83: =A83 -> №066
A84: №067 | E84: новый счетчик | G84: 11662.4 | K84: =[1]Оплата!BC83 -> 139.0607 | L84: =[1]Оплата!AA83 -> 0 | M84: =H84*M$5 -> 0 | N84: =I84*N$5 -> 0 | O84: =SUM(M84:N84) -> 0 | Q84: =K84-O84+L84+P84 -> 139.0607 | R84: =[1]Оплата!BD83 -> 139.0607 | S84: =IF(Q84=R84,"",1) | T84: =A84 -> №067
A85: №068 | B85: 3998.21 | C85: 3511.98 | D85: 7510.22 | E85: 4292.25 | F85: 3641.21 | G85: 7933.49 | H85: =E85-B85 -> 294.04 | I85: =F85-C85 -> 129.23 | J85: =G85-D85 -> 423.27 | K85: =[1]Оплата!BC84 -> 2640.1459 | L85: =[1]Оплата!AA84 -> 0 | M85: =H85*M$5 -> 1817.1672 | N85: =I85*N$5 -> 295.9367 | O85: =SUM(M85:N85) -> 2113.1039 | Q85: =K85-O85+L85+P85 -> 527.042 | R85: =[1]Оплата!BD84 -> 527.042 | S85: =IF(Q85=R85,"",1) | T85: =A85 -> №068
A86: №069 | B86: 4643.85 | C86: 2246.77 | D86: 6890.63 | E86: 4870.23 | F86: 2354.97 | G86: 7225.21 | H86: =E86-B86 -> 226.38 | I86: =F86-C86 -> 108.2 | J86: =G86-D86 -> 334.58 | K86: =[1]Оплата!BC85 -> -1461.3084 | L86: =[1]Оплата!AA85 -> 0 | M86: =H86*M$5 -> 1399.0284 | N86: =I86*N$5 -> 247.778 | O86: =SUM(M86:N86) -> 1646.8064 | Q86: =K86-O86+L86+P86 -> -3108.1148 | R86: =[1]Оплата!BD85 -> -3108.1148 | S86: =IF(Q86=R86,"",1) | T86: =A86 -> №069
A87: №070 | B87: 4453.02 | C87: 2518.94 | D87: 6971.96 | E87: 4595.53 | F87: 2568.09 | G87: 7163.63 | H87: =E87-B87 -> 142.51 | I87: =F87-C87 -> 49.15 | J87: =G87-D87 -> 191.67 | K87: =[1]Оплата!BC86 -> -65.1158 | L87: =[1]Оплата!AA86 -> 0 | M87: =H87*M$5 -> 880.7118 | N87: =I87*N$5 -> 112.5535 | O87: =SUM(M87:N87) -> 993.2653 | Q87: =K87-O87+L87+P87 -> -1058.3811 | R87: =[1]Оплата!BD86 -> -1058.3811 | S87: =IF(Q87=R87,"",1) | T87: =A87 -> №070
A88: №071 | B88: 1281.02 | C88: 590.71 | D88: 1871.75 | E88: 1285.91 | F88: 592.4 | G88: 1878.33 | H88: =E88-B88 -> 4.89 | I88: =F88-C88 -> 1.69 | J88: =G88-D88 -> 6.58 | K88: =[1]Оплата!BC87 -> -1096.9169 | L88: =[1]Оплата!AA87 -> 0 | M88: =H88*M$5 -> 30.2202 | N88: =I88*N$5 -> 3.8701 | O88: =SUM(M88:N88) -> 34.0903 | Q88: =K88-O88+L88+P88 -> -1131.0072 | R88: =[1]Оплата!BD87 -> -1131.0072 | S88: =IF(Q88=R88,"",1) | T88: =A88 -> №071
A89: №072 | B89: 2756.46 | C89: 3311 | D89: 6067.49 | E89: 2896.26 | F89: 3370.61 | G89: 6266.91 | H89: =E89-B89 -> 139.8 | I89: =F89-C89 -> 59.61 | J89: =G89-D89 -> 199.42 | K89: =[1]Оплата!BC88 -> -1735.5288 | L89: =[1]Оплата!AA88 -> 2000 | M89: =H89*M$5 -> 863.964 | N89: =I89*N$5 -> 136.5069 | O89: =SUM(M89:N89) -> 1000.4709 | Q89: =K89-O89+L89+P89 -> -735.9997 | R89: =[1]Оплата!BD88 -> -735.9997 | S89: =IF(Q89=R89,"",1) | T89: =A89 -> №072
A90: №073 | B90: 2943.92 | C90: 1024.31 | D90: 3968.23 | E90: 3152.18 | F90: 1106.48 | G90: 4258.67 | H90: =E90-B90 -> 208.26 | I90: =F90-C90 -> 82.17 | J90: =G90-D90 -> 290.44 | K90: =[1]Оплата!BC89 -> -1525.3102 | L90: =[1]Оплата!AA89 -> 0 | M90: =H90*M$5 -> 1287.0468 | N90: =I90*N$5 -> 188.1693 | O90: =SUM(M90:N90) -> 1475.2161 | Q90: =K90-O90+L90+P90 -> -3000.5263 | R90: =[1]Оплата!BD89 -> -3000.5263 | S90: =IF(Q90=R90,"",1) | T90: =A90 -> №073
A91: №074 | B91: 19303.26 | C91: 9203.16 | D91: 28506.55 | E91: 19608.83 | F91: 9346.4 | G91: 28955.35 | H91: =E91-B91 -> 305.57 | I91: =F91-C91 -> 143.24 | J91: =G91-D91 -> 448.8 | K91: =[1]Оплата!BC90 -> -3515.2763 | L91: =[1]Оплата!AA90 -> 3415 | M91: =H91*M$5 -> 1888.4226 | N91: =I91*N$5 -> 328.0196 | O91: =SUM(M91:N91) -> 2216.4422 | Q91: =K91-O91+L91+P91 -> -2316.7185 | R91: =[1]Оплата!BD90 -> -2316.7185 | S91: =IF(Q91=R91,"",1) | T91: =A91 -> №074
A92: №075 | B92: 697.33 | C92: 263.75 | D92: 961.1 | E92: 697.33 | F92: 263.75 | G92: 961.1 | H92: =E92-B92 -> 0 | I92: =F92-C92 -> 0 | J92: =G92-D92 -> 0 | K92: =[1]Оплата!BC91 -> -136.1197 | L92: =[1]Оплата!AA91 -> 0 | M92: =H92*M$5 -> 0 | N92: =I92*N$5 -> 0 | O92: =SUM(M92:N92) -> 0 | Q92: =K92-O92+L92+P92 -> -136.1197 | R92: =[1]Оплата!BD91 -> -136.1197 | S92: =IF(Q92=R92,"",1) | T92: =A92 -> №075
A93: №076 | B93: 26113.435 | C93: 20066.892 | D93: 46180.327 | E93: 26419.402 | F93: 20157.98 | G93: 46577.382 | H93: =E93-B93 -> 305.967 | I93: =F93-C93 -> 91.088 | J93: =G93-D93 -> 397.055 | K93: =[1]Оплата!BC92 -> 5945.2763 | L93: =[1]Оплата!AA92 -> 0 | M93: =H93*M$5 -> 1890.8761 | N93: =I93*N$5 -> 208.59152 | O93: =SUM(M93:N93) -> 2099.4676 | Q93: =K93-O93+L93+P93 -> 3845.8087 | R93: =[1]Оплата!BD92 -> 3845.8087 | S93: =IF(Q93=R93,"",1) | T93: =A93 -> №076
A94: №077 | B94: 2339.31 | C94: 500.15 | D94: 2839.47 | E94: 2339.31 | F94: 500.15 | G94: 2839.47 | H94: =E94-B94 -> 0 | I94: =F94-C94 -> 0 | J94: =G94-D94 -> 0 | K94: =[1]Оплата!BC93 -> -5296.4238 | L94: =[1]Оплата!AA93 -> 0 | M94: =H94*M$5 -> 0 | N94: =I94*N$5 -> 0 | O94: =SUM(M94:N94) -> 0 | Q94: =K94-O94+L94+P94 -> -5296.4238 | R94: =[1]Оплата!BD93 -> -5296.4238 | S94: =IF(Q94=R94,"",1) | T94: =A94 -> №077
A95: №078 | B95: 6183.62 | C95: 16218.14 | D95: 22401.85 | E95: 6358.71 | F95: 16328.96 | G95: 22687.76 | H95: =E95-B95 -> 175.09 | I95: =F95-C95 -> 110.82 | J95: =G95-D95 -> 285.91 | K95: =[1]Оплата!BC94 -> -8281.4308 | L95: =[1]Оплата!AA94 -> 0 | M95: =H95*M$5 -> 1082.0562 | N95: =I95*N$5 -> 253.7778 | O95: =SUM(M95:N95) -> 1335.834 | Q95: =K95-O95+L95+P95 -> -9617.2648 | R95: =[1]Оплата!BD94 -> -9617.2648 | S95: =IF(Q95=R95,"",1) | T95: =A95 -> №078
A96: №079 | B96: 1173.76 | C96: 183.02 | D96: 1356.79 | E96: 1211.69 | F96: 197.1 | G96: 1408.8 | H96: =E96-B96 -> 37.93 | I96: =F96-C96 -> 14.08 | J96: =G96-D96 -> 52.01 | K96: =[1]Оплата!BC95 -> 8855.5138 | L96: =[1]Оплата!AA95 -> 0 | M96: =H96*M$5 -> 234.4074 | N96: =I96*N$5 -> 32.2432 | O96: =SUM(M96:N96) -> 266.6506 | Q96: =K96-O96+L96+P96 -> 8588.8632 | R96: =[1]Оплата!BD95 -> 8588.8632 | S96: =IF(Q96=R96,"",1) | T96: =A96 -> №079
... A101: №083 | B101: 572.9 | C101: 235.88 | D101: 808.79 | E101: 587.85 | F101: 242 | G101: 829.87 | H101: =E101-B101 -> 14.95 | I101: =F101-C101 -> 6.12 | J101: =G101-D101 -> 21.08 | K101: =[1]Оплата!BC100 -> 39.997 | L101: =[1]Оплата!AA100 -> 0 | M101: =H101*M$5 -> 92.391 | N101: =I101*N$5 -> 14.0148 | O101: =SUM(M101:N101) -> 106.4058 | Q101: =K101-O101+L101+P101 -> -66.4088 | R101: =[1]Оплата!BD100 -> -66.4088 | S101: =IF(Q101=R101,"",1) | T101: =A101 -> №083
A102: №084 снят | K102: =[1]Оплата!BC101 -> -9.0138 | L102: =[1]Оплата!AA101 -> 0 | M102: =H102*M$5 -> 0 | N102: =I102*N$5 -> 0 | O102: =SUM(M102:N102) -> 0 | Q102: =K102-O102+L102+P102 -> -9.0138 | R102: =[1]Оплата!BD101 -> -9.0138 | S102: =IF(Q102=R102,"",1) | T102: =A102 -> №084 снят
A103: №085 | B103: 3224.36 | C103: 1286.19 | D103: 4510.56 | E103: 3303.03 | F103: 1329.1 | G103: 4632.14 | H103: =E103-B103 -> 78.67 | I103: =F103-C103 -> 42.91 | J103: =G103-D103 -> 121.58 | K103: =[1]Оплата!BC102 -> -1702.2951 | L103: =[1]Оплата!AA102 -> 0 | M103: =H103*M$5 -> 486.1806 | N103: =I103*N$5 -> 98.2639 | O103: =SUM(M103:N103) -> 584.4445 | Q103: =K103-O103+L103+P103 -> -2286.7396 | R103: =[1]Оплата!BD102 -> -2286.7396 | S103: =IF(Q103=R103,"",1) | T103: =A103 -> №085
A104: №086 | B104: 11509.46 | C104: 5510.02 | D104: 17020.33 | E104: 11789.46 | F104: 5590.4 | G104: 17380.71 | H104: =E104-B104 -> 280 | I104: =F104-C104 -> 80.38 | J104: =G104-D104 -> 360.38 | K104: =[1]Оплата!BC103 -> -727.1909 | L104: =[1]Оплата!AA103 -> 750 | M104: =H104*M$5 -> 1730.4 | N104: =I104*N$5 -> 184.0702 | O104: =SUM(M104:N104) -> 1914.4702 | Q104: =K104-O104+L104+P104 -> -1891.6611 | R104: =[1]Оплата!BD103 -> -1891.6611 | S104: =IF(Q104=R104,"",1) | T104: =A104 -> №086
A105: №087 | B105: 23416.7 | C105: 14972.58 | D105: 38389.3 | E105: 23669.05 | F105: 15164.29 | G105: 38833.36 | H105: =E105-B105 -> 252.35 | I105: =F105-C105 -> 191.71 | J105: =G105-D105 -> 444.06 | K105: =[1]Оплата!BC104 -> -4164.6203 | L105: =[1]Оплата!AA104 -> 3000 | M105: =H105*M$5 -> 1559.523 | N105: =I105*N$5 -> 439.0159 | O105: =SUM(M105:N105) -> 1998.5389 | Q105: =K105-O105+L105+P105 -> -3163.1592 | R105: =[1]Оплата!BD104 -> -3163.1592 | S105: =IF(Q105=R105,"",1) | T105: =A105 -> №087
A106: №088 | B106: 246.65 | C106: 2914.77 | D106: 3161.5 | E106: 253.42 | F106: 2917.5 | G106: 3171.01 | H106: =E106-B106 -> 6.77 | I106: =F106-C106 -> 2.73 | J106: =G106-D106 -> 9.51 | K106: =[1]Оплата!BC105 -> 166.3573 | L106: =[1]Оплата!AA105 -> 0 | M106: =H106*M$5 -> 41.8386 | N106: =I106*N$5 -> 6.2517 | O106: =SUM(M106:N106) -> 48.0903 | Q106: =K106-O106+L106+P106 -> 118.267 | R106: =[1]Оплата!BD105 -> 118.267 | S106: =IF(Q106=R106,"",1) | T106: =A106 -> №088
A107: №089 | B107: 3919.9 | C107: 1256.24 | D107: 5176.15 | E107: 4162.52 | F107: 1359.73 | G107: 5522.26 | H107: =E107-B107 -> 242.62 | I107: =F107-C107 -> 103.49 | J107: =G107-D107 -> 346.11 | K107: =[1]Оплата!BC106 -> 1446.5273 | L107: =[1]Оплата!AA106 -> 0 | M107: =H107*M$5 -> 1499.3916 | N107: =I107*N$5 -> 236.9921 | O107: =SUM(M107:N107) -> 1736.3837 | Q107: =K107-O107+L107+P107 -> -289.8564 | R107: =[1]Оплата!BD106 -> -289.8564 | S107: =IF(Q107=R107,"",1) | T107: =A107 -> №089
A108: №090 | B108: 1593.35 | C108: 785.3 | D108: 2378.76 | E108: 1932.89 | F108: 962.84 | G108: 2895.84 | H108: =E108-B108 -> 339.54 | I108: =F108-C108 -> 177.54 | J108: =G108-D108 -> 517.08 | K108: =[1]Оплата!BC107 -> -249.474 | L108: =[1]Оплата!AA107 -> 0 | M108: =H108*M$5 -> 2098.3572 | N108: =I108*N$5 -> 406.5666 | O108: =SUM(M108:N108) -> 2504.9238 | Q108: =K108-O108+L108+P108 -> -2754.3978 | R108: =[1]Оплата!BD107 -> -2754.3978 | S108: =IF(Q108=R108,"",1) | T108: =A108 -> №090
A109: №091 | B109: 9659.87 | C109: 4383.84 | D109: 14043.72 | E109: 9989.75 | F109: 4542.78 | G109: 14532.54 | H109: =E109-B109 -> 329.88 | I109: =F109-C109 -> 158.94 | J109: =G109-D109 -> 488.82 | K109: =[1]Оплата!BC108 -> -2305.5729 | L109: =[1]Оплата!AA108 -> 0 | M109: =H109*M$5 -> 2038.6584 | N109: =I109*N$5 -> 363.9726 | O109: =SUM(M109:N109) -> 2402.631 | Q109: =K109-O109+L109+P109 -> -4708.2039 | R109: =[1]Оплата!BD108 -> -4708.2039 | S109: =IF(Q109=R109,"",1) | T109: =A109 -> №091
A110: №092 | B110: 44065.95 | C110: 22457.21 | D110: 66523.18 | E110: 45211.07 | F110: 22983.77 | G110: 68194.86 | H110: =E110-B110 -> 1145.12 | I110: =F110-C110 -> 526.56 | J110: =G110-D110 -> 1671.68 | K110: =[1]Оплата!BC109 -> -7817.2593 | L110: =[1]Оплата!AA109 -> 0 | M110: =H110*M$5 -> 7076.8416 | N110: =I110*N$5 -> 1205.8224 | O110: =SUM(M110:N110) -> 8282.664 | Q110: =K110-O110+L110+P110 -> -16099.923 | R110: =[1]Оплата!BD109 -> -16099.923 | S110: =IF(Q110=R110,"",1) | T110: =A110 -> №092
A111: №093 | B111: 28575.57 | C111: 9100.55 | D111: 37676.12 | E111: 29460.31 | F111: 9382.25 | G111: 38842.56 | H111: =E111-B111 -> 884.74 | I111: =F111-C111 -> 281.7 | J111: =G111-D111 -> 1166.44 | K111: =[1]Оплата!BC110 -> -6595.3209 | L111: =[1]Оплата!AA110 -> 0 | M111: =H111*M$5 -> 5467.6932 | N111: =I111*N$5 -> 645.093 | O111: =SUM(M111:N111) -> 6112.7862 | Q111: =K111-O111+L111+P111 -> -12708.107 | R111: =[1]Оплата!BD110 -> -12708.107 | S111: =IF(Q111=R111,"",1) | T111: =A111 -> №093
A112: №094 | B112: 512.43 | C112: 71.82 | D112: 584.26 | E112: 561.86 | F112: 75.78 | G112: 637.65 | H112: =E112-B112 -> 49.43 | I112: =F112-C112 -> 3.96 | J112: =G112-D112 -> 53.39 | K112: =[1]Оплата!BC111 -> -90.5797 | L112: =[1]Оплата!AA111 -> 0 | M112: =H112*M$5 -> 305.4774 | N112: =I112*N$5 -> 9.0684 | O112: =SUM(M112:N112) -> 314.5458 | Q112: =K112-O112+L112+P112 -> -405.1255 | R112: =[1]Оплата!BD111 -> -405.1255 | S112: =IF(Q112=R112,"",1) | T112: =A112 -> №094
A113: №095 | B113: 2958.5 | C113: 1107.92 | D113: 4066.43 | E113: 3135.19 | F113: 1159.21 | G113: 4294.41 | H113: =E113-B113 -> 176.69 | I113: =F113-C113 -> 51.29 | J113: =G113-D113 -> 227.98 | K113: =[1]Оплата!BC112 -> -469.9138 | L113: =[1]Оплата!AA112 -> 0 | M113: =H113*M$5 -> 1091.9442 | N113: =I113*N$5 -> 117.4541 | O113: =SUM(M113:N113) -> 1209.3983 | Q113: =K113-O113+L113+P113 -> -1679.3121 | R113: =[1]Оплата!BD112 -> -1679.3121 | S113: =IF(Q113=R113,"",1) | T113: =A113 -> №095
A114: №096 | B114: 2257.77 | C114: 312.11 | D114: 2569.89 | E114: 2258.62 | F114: 312.11 | G114: 2570.75 | H114: =E114-B114 -> 0.85 | I114: =F114-C114 -> 0 | J114: =G114-D114 -> 0.86 | K114: =[1]Оплата!BC113 -> 17.0488 | L114: =[1]Оплата!AA113 -> 0 | M114: =H114*M$5 -> 5.253 | N114: =I114*N$5 -> 0 | O114: =SUM(M114:N114) -> 5.253 | Q114: =K114-O114+L114+P114 -> 11.7958 | R114: =[1]Оплата!BD113 -> 11.7958 | S114: =IF(Q114=R114,"",1) | T114: =A114 -> №096
A115: №097 | B115: 473.61 | C115: 186.95 | D115: 660.56 | G115: 6605.73 | H115: =E115-B115 -> -473.61 | I115: =F115-C115 -> -186.95 | J115: =G115-D115 -> 5945.17 | K115: =[1]Оплата!BC114 -> 39.1247 | L115: =[1]Оплата!AA114 -> 0 | M115: =H115*M$5 -> -2926.9098 | N115: =I115*N$5 -> -428.1155 | O115: =SUM(M115:N115) -> -3355.0253 | Q115: =K115-O115+L115+P115 -> 3394.15 | R115: =[1]Оплата!BD114 -> 39.1247 | S115: =IF(Q115=R115,"",1) -> 1 | T115: =A115 -> №097
A116: №098 | B116: 882.46 | C116: 173.24 | D116: 1055.71 | E116: 897.25 | F116: 178.34 | G116: 1075.6 | H116: =E116-B116 -> 14.79 | I116: =F116-C116 -> 5.1 | J116: =G116-D116 -> 19.89 | K116: =[1]Оплата!BC115 -> -6.2863 | L116: =[1]Оплата!AA115 -> 0 | M116: =H116*M$5 -> 91.4022 | N116: =I116*N$5 -> 11.679 | O116: =SUM(M116:N116) -> 103.0812 | Q116: =K116-O116+L116+P116 -> -109.3675 | R116: =[1]Оплата!BD115 -> -109.3675 | S116: =IF(Q116=R116,"",1) | T116: =A116 -> №098
...

Sheet Лист3
J1: =SUM(J9:J274) -> 45927.288 | K1: =SUM(K9:K274) -> -207789.34 | L1: =SUM(L9:L274) -> 99850.11 | M1: =SUM(M9:M287) -> 195044.93 | N1: =SUM(N9:N287) -> 32899.443 | O1: =SUM(O9:O274) -> 227944.38 | P1: =SUM(P9:P274) -> 0 | Q1: =SUM(Q9:Q274) -> -335883.61
L3: ОПЛАТА по разноске платежей автомат | Q3: Остаток расчетный
M5: 6.18 | N5: 2.29
A6: =F6 -> 43613 | C6: 43581 | F6: 43613 | H6: За период | K6: Остаток средств на | L6: Оплата | M6: Сумма начислений | P6: Перерас- | Q6: Задолженность ( - ) | R6: =A6 -> 43613
A7: 2019г | B7: КВТ | E7: КВТ | H7: КВТ | M7: руб. | P7: чет | R7: =A7 -> 2019г
A8: Код_ | B8: АктЭн_M | C8: АктЭн_L | D8: СуммАктЭн | E8: АктЭн_M | F8: АктЭн_L | G8: СуммАктЭн | H8: АктЭн_M | I8: АктЭн_L | J8: Всего | K8: =C6 -> 43581 | L8: =[2]Оплата!AA7 -> май | M8: День | N8: Ночь | O8: Всего | P8: руб | Q8: =F6 -> 43613 | R8: Код
A9: №002 | B9: 1431.57 | C9: 384.64 | D9: 1816.22 | E9: 1654.13 | F9: 459.33 | G9: 2113.46 | H9: =E9-B9 -> 222.56 | I9: =F9-C9 -> 74.69 | J9: =G9-D9 -> 297.24 | K9: =[1]Оплата!BC8 -> -1910.131 | L9: =[1]Оплата!AA8 -> 0 | M9: =H9*M$5 -> 1375.4208 | N9: =I9*N$5 -> 171.0401 | O9: =SUM(M9:N9) -> 1546.4609 | Q9: =K9-O9+L9+P9 -> -3456.5919 | R9: =A9 -> №002
A10: №003 | B10: 4018.35 | C10: 1529.12 | D10: 5547.48 | E10: 4237.23 | F10: 1692.38 | G10: 5929.62 | H10: =E10-B10 -> 218.88 | I10: =F10-C10 -> 163.26 | J10: =G10-D10 -> 382.14 | K10: =[1]Оплата!BC9 -> -503.1906 | L10: =[1]Оплата!AA9 -> 600 | M10: =H10*M$5 -> 1352.6784 | N10: =I10*N$5 -> 373.8654 | O10: =SUM(M10:N10) -> 1726.5438 | Q10: =K10-O10+L10+P10 -> -1629.7344 | R10: =A10 -> №003
A11: №004 | B11: 4184.91 | C11: 1629.29 | D11: 5814.2 | E11: 4349.98 | F11: 1673.63 | G11: 6023.62 | H11: =E11-B11 -> 165.07 | I11: =F11-C11 -> 44.34 | J11: =G11-D11 -> 209.42 | K11: =[1]Оплата!BC10 -> 62.9361 | L11: =[1]Оплата!AA10 -> 0 | M11: =H11*M$5 -> 1020.1326 | N11: =I11*N$5 -> 101.5386 | O11: =SUM(M11:N11) -> 1121.6712 | Q11: =K11-O11+L11+P11 -> -1058.7351 | R11: =A11 -> №004
A12: №005 | B12: 699.45 | C12: 1334.64 | D12: 2034.22 | E12: 708.04 | F12: 1338.41 | G12: 2046.59 | H12: =E12-B12 -> 8.59 | I12: =F12-C12 -> 3.77 | J12: =G12-D12 -> 12.37 | K12: =[1]Оплата!BC11 -> -224.9631 | L12: =[1]Оплата!AA11 -> 0 | M12: =H12*M$5 -> 53.0862 | N12: =I12*N$5 -> 8.6333 | O12: =SUM(M12:N12) -> 61.7195 | Q12: =K12-O12+L12+P12 -> -286.6826 | R12: =A12 -> №005
A13: №006 | B13: 1792.76 | C13: 834.92 | D13: 2627.69 | E13: 1792.76 | F13: 834.92 | G13: 2627.69 | H13: =E13-B13 -> 0 | I13: =F13-C13 -> 0 | J13: =G13-D13 -> 0 | K13: =[1]Оплата!BC12 -> -859.8963 | L13: =[1]Оплата!AA12 -> 0 | M13: =H13*M$5 -> 0 | N13: =I13*N$5 -> 0 | O13: =SUM(M13:N13) -> 0 | Q13: =K13-O13+L13+P13 -> -859.8963 | R13: =A13 -> №006
A14: №007 | B14: 2819.09 | C14: 1746.02 | D14: 4565.12 | E14: 2950.97 | F14: 1804.05 | G14: 4755.03 | H14: =E14-B14 -> 131.88 | I14: =F14-C14 -> 58.03 | J14: =G14-D14 -> 189.91 | K14: =[1]Оплата!BC13 -> -2029.8848 | L14: =[1]Оплата!AA13 -> 0 | M14: =H14*M$5 -> 815.0184 | N14: =I14*N$5 -> 132.8887 | O14: =SUM(M14:N14) -> 947.9071 | Q14: =K14-O14+L14+P14 -> -2977.7919 | R14: =A14 -> №007
A15: №008 | B15: 1675.02 | C15: 345.19 | D15: 2020.22 | E15: 1675.26 | F15: 345.19 | G15: 2020.46 | H15: =E15-B15 -> 0.24 | I15: =F15-C15 -> 0 | J15: =G15-D15 -> 0.24 | K15: =[1]Оплата!BC14 -> -475.8169 | L15: =[1]Оплата!AA14 -> 0 | M15: =H15*M$5 -> 1.4832 | N15: =I15*N$5 -> 0 | O15: =SUM(M15:N15) -> 1.4832 | Q15: =K15-O15+L15+P15 -> -477.3001 | R15: =A15 -> №008
A16: №009 | K16: =[1]Оплата!BC15 -> 153.4953 | L16: =[1]Оплата!AA15 -> 0 | M16: =H16*M$5 -> 0 | N16: =I16*N$5 -> 0 | O16: =SUM(M16:N16) -> 0 | P16: снят счет-к | Q16: =K16-O16+L16 -> 153.4953 | R16: =A16 -> №009
A17: №009а | B17: 3205.09 | C17: 1875.89 | D17: 5080.99 | E17: 3287.96 | F17: 1982.39 | G17: 5270.35 | H17: =E17-B17 -> 82.87 | I17: =F17-C17 -> 106.5 | J17: =G17-D17 -> 189.36 | K17: =[1]Оплата!BC16 -> 82.341 | L17: =[1]Оплата!AA16 -> 0 | M17: =H17*M$5 -> 512.1366 | N17: =I17*N$5 -> 243.885 | O17: =SUM(M17:N17) -> 756.0216 | Q17: =K17-O17+L17+P17 -> -673.6806 | R17: =A17 -> №009а
A18: №010 | B18: 972.52 | C18: 675.87 | D18: 1648.41 | E18: 986.15 | F18: 681.04 | G18: 1667.21 | H18: =E18-B18 -> 13.63 | I18: =F18-C18 -> 5.17 | J18: =G18-D18 -> 18.8 | K18: =[1]Оплата!BC17 -> 2532.6692 | L18: =[1]Оплата!AA17 -> 0 | M18: =H18*M$5 -> 84.2334 | N18: =I18*N$5 -> 11.8393 | O18: =SUM(M18:N18) -> 96.0727 | Q18: =K18-O18+L18+P18 -> 2436.5965 | R18: =A18 -> №010
A19: №011 | B19: 2543.88 | C19: 440.33 | D19: 2984.23 | E19: 2543.88 | F19: 440.33 | G19: 2984.23 | H19: =E19-B19 -> 0 | I19: =F19-C19 -> 0 | J19: =G19-D19 -> 0 | K19: =[1]Оплата!BC18 -> 2310.2802 | L19: =[1]Оплата!AA18 -> 0 | M19: =H19*M$5 -> 0 | N19: =I19*N$5 -> 0 | O19: =SUM(M19:N19) -> 0 | Q19: =K19-O19+L19+P19 -> 2310.2802 | R19: =A19 -> №011
A20: №012 | B20: 561.25 | C20: 126.38 | D20: 687.64 | E20: 561.49 | F20: 126.43 | G20: 687.93 | H20: =E20-B20 -> 0.24 | I20: =F20-C20 -> 0.05 | J20: =G20-D20 -> 0.29 | K20: =[1]Оплата!BC19 -> 13.4217 | L20: =[1]Оплата!AA19 -> 0 | M20: =H20*M$5 -> 1.4832 | N20: =I20*N$5 -> 0.1145 | O20: =SUM(M20:N20) -> 1.5977 | Q20: =K20-O20+L20+P20 -> 11.824 | R20: =A20 -> №012
A21: №012а | B21: 6.45 | C21: 0.8 | D21: 7.26 | E21: 6.46 | F21: 0.8 | G21: 7.27 | H21: =E21-B21 -> 0.01 | I21: =F21-C21 -> 0 | J21: =G21-D21 -> 0.01 | K21: =[1]Оплата!BC20 -> 14.1311 | L21: =[1]Оплата!AA20 -> 0 | M21: =H21*M$5 -> 0.0618 | N21: =I21*N$5 -> 0 | O21: =SUM(M21:N21) -> 0.0618 | Q21: =K21-O21+L21+P21 -> 14.0693 | R21: =A21 -> №012а
A22: №013 | B22: 6391.54 | C22: 1658.66 | D22: 8050.2 | E22: 6747.25 | F22: 1741.21 | G22: 8488.46 | H22: =E22-B22 -> 355.71 | I22: =F22-C22 -> 82.55 | J22: =G22-D22 -> 438.26 | K22: =[1]Оплата!BC21 -> -761.7711 | L22: =[1]Оплата!AA21 -> 5000 | M22: =H22*M$5 -> 2198.2878 | N22: =I22*N$5 -> 189.0395 | O22: =SUM(M22:N22) -> 2387.3273 | Q22: =K22-O22+L22+P22 -> 1850.9016 | R22: =A22 -> №013
A23: №014 | B23: 2205.58 | C23: 7405.72 | D23: 9611.35 | E23: 2260.74 | F23: 7425.37 | G23: 9686.16 | H23: =E23-B23 -> 55.16 | I23: =F23-C23 -> 19.65 | J23: =G23-D23 -> 74.81 | K23: =[1]Оплата!BC22 -> 1.6719 | L23: =[1]Оплата!AA22 -> 0 | M23: =H23*M$5 -> 340.8888 | N23: =I23*N$5 -> 44.9985 | O23: =SUM(M23:N23) -> 385.8873 | Q23: =K23-O23+L23+P23 -> -384.2154 | R23: =A23 -> №014
A24: №015 | B24: 3455.66 | C24: 1895.6 | D24: 5351.27 | E24: 3457.42 | F24: 1895.6 | G24: 5353.02 | H24: =E24-B24 -> 1.76 | I24: =F24-C24 -> 0 | J24: =G24-D24 -> 1.75 | K24: =[1]Оплата!BC23 -> -486.4348 | L24: =[1]Оплата!AA23 -> 0 | M24: =H24*M$5 -> 10.8768 | N24: =I24*N$5 -> 0 | O24: =SUM(M24:N24) -> 10.8768 | Q24: =K24-O24+L24+P24 -> -497.3116 | R24: =A24 -> №015
A25: №016\17 | B25: 6648.18 | C25: 6623.37 | D25: 13271.56 | E25: 6663.99 | F25: 6642.17 | G25: 13306.16 | H25: =E25-B25 -> 15.81 | I25: =F25-C25 -> 18.8 | J25: =G25-D25 -> 34.6 | K25: =[1]Оплата!BC24 -> -5956.2045 | L25: =[1]Оплата!AA24 -> 0 | M25: =H25*M$5 -> 97.7058 | N25: =I25*N$5 -> 43.052 | O25: =SUM(M25:N25) -> 140.7578 | Q25: =K25-O25+L25+P25 -> -6096.9623 | R25: =A25 -> №016\17
A26: №018 | B26: 2178.18 | C26: 940.72 | D26: 3118.9 | E26: 2419.75 | F26: 1036.28 | G26: 3456.04 | H26: =E26-B26 -> 241.57 | I26: =F26-C26 -> 95.56 | J26: =G26-D26 -> 337.14 | K26: =[1]Оплата!BC25 -> -10.7047 | L26: =[1]Оплата!AA25 -> 0 | M26: =H26*M$5 -> 1492.9026 | N26: =I26*N$5 -> 218.8324 | O26: =SUM(M26:N26) -> 1711.735 | Q26: =K26-O26+L26+P26 -> -1722.4397 | R26: =A26 -> №018
A27: №019 | B27: 4355.92 | C27: 2711.46 | D27: 7067.39 | E27: 4355.92 | F27: 2711.46 | G27: 7067.39 | H27: =E27-B27 -> 0 | I27: =F27-C27 -> 0 | J27: =G27-D27 -> 0 | K27: =[1]Оплата!BC26 -> -3049.8906 | L27: =[1]Оплата!AA26 -> 0 | M27: =H27*M$5 -> 0 | N27: =I27*N$5 -> 0 | O27: =SUM(M27:N27) -> 0 | Q27: =K27-O27+L27+P27 -> -3049.8906 | R27: =A27 -> №019
A28: №020 | B28: 4060.47 | C28: 2241.39 | D28: 6302.5 | E28: 4248.76 | F28: 2324.38 | G28: 6573.79 | H28: =E28-B28 -> 188.29 | I28: =F28-C28 -> 82.99 | J28: =G28-D28 -> 271.29 | K28: =[1]Оплата!BC27 -> -4855.795 | L28: =[1]Оплата!AA27 -> 0 | M28: =H28*M$5 -> 1163.6322 | N28: =I28*N$5 -> 190.0471 | O28: =SUM(M28:N28) -> 1353.6793 | Q28: =K28-O28+L28+P28 -> -6209.4743 | R28: =A28 -> №020
... A42: №031\2 | B42: 1771.95 | C42: 548.23 | D42: 2320.19 | E42: 2016.84 | F42: 596.49 | G42: 2613.34 | H42: =E42-B42 -> 244.89 | I42: =F42-C42 -> 48.26 | J42: =G42-D42 -> 293.15 | K42: =[1]Оплата!BC41 -> 599.6046 | L42: =[1]Оплата!AA41 -> 0 | M42: =H42*M$5 -> 1513.4202 | N42: =I42*N$5 -> 110.5154 | O42: =SUM(M42:N42) -> 1623.9356 | Q42: =K42-O42+L42+P42 -> -1024.331 | R42: =A42 -> №031\2
A43: №032 | G43: 10203.28 | K43: =[1]Оплата!BC42 -> -3869.8428 | L43: =[1]Оплата!AA42 -> 3700 | M43: =H43*M$5 -> 0 | N43: =I43*N$5 -> 0 | O43: =SUM(M43:N43) -> 0 | Q43: =K43-O43+L43+P43 -> -169.8428 | R43: =A43 -> №032
A44: №033 | B44: 6194.75 | C44: 2037.22 | D44: 8231.98 | E44: 6386.88 | F44: 2133.83 | G44: 8520.72 | H44: =E44-B44 -> 192.13 | I44: =F44-C44 -> 96.61 | J44: =G44-D44 -> 288.74 | K44: =[1]Оплата!BC43 -> -170.4172 | L44: =[1]Оплата!AA43 -> 0 | M44: =H44*M$5 -> 1187.3634 | N44: =I44*N$5 -> 221.2369 | O44: =SUM(M44:N44) -> 1408.6003 | Q44: =K44-O44+L44+P44 -> -1579.0175 | R44: =A44 -> №033
A45: №034 | K45: =[1]Оплата!BC44 -> -4.4475 | L45: =[1]Оплата!AA44 -> 0 | M45: =H45*M$5 -> 0 | N45: =I45*N$5 -> 0 | O45: =SUM(M45:N45) -> 0 | Q45: =K45-O45+L45+P45 -> -4.4475 | R45: =A45 -> №034
A46: №035 | B46: 7045.42 | C46: 3553.22 | D46: 10598.65 | E46: 7373.59 | F46: 3782.86 | G46: 11156.46 | H46: =E46-B46 -> 328.17 | I46: =F46-C46 -> 229.64 | J46: =G46-D46 -> 557.81 | K46: =[1]Оплата!BC45 -> -3001.1671 | L46: =[1]Оплата!AA45 -> 0 | M46: =H46*M$5 -> 2028.0906 | N46: =I46*N$5 -> 525.8756 | O46: =SUM(M46:N46) -> 2553.9662 | Q46: =K46-O46+L46+P46 -> -5555.1333 | R46: =A46 -> №035
A47: №036 | B47: 5004.81 | C47: 1599.11 | D47: 6603.93 | E47: 5125.36 | F47: 1633.98 | G47: 6759.35 | H47: =E47-B47 -> 120.55 | I47: =F47-C47 -> 34.87 | J47: =G47-D47 -> 155.42 | K47: =[1]Оплата!BC46 -> 806.7757 | L47: =[1]Оплата!AA46 -> 0 | M47: =H47*M$5 -> 744.999 | N47: =I47*N$5 -> 79.8523 | O47: =SUM(M47:N47) -> 824.8513 | Q47: =K47-O47+L47+P47 -> -18.0756 | R47: =A47 -> №036
A48: №037 | B48: 4756.54 | C48: 2402.14 | D48: 7158.74 | E48: 5060.45 | F48: 2541.28 | G48: 7601.79 | H48: =E48-B48 -> 303.91 | I48: =F48-C48 -> 139.14 | J48: =G48-D48 -> 443.05 | K48: =[1]Оплата!BC47 -> -4581.6277 | L48: =[1]Оплата!AA47 -> 1676.72 | M48: =H48*M$5 -> 1878.1638 | N48: =I48*N$5 -> 318.6306 | O48: =SUM(M48:N48) -> 2196.7944 | Q48: =K48-O48+L48+P48 -> -5101.7021 | R48: =A48 -> №037
A49: №038 | B49: 2647.17 | C49: 1469.62 | D49: 4116.81 | E49: 2705.85 | F49: 1488.62 | G49: 4194.48 | H49: =E49-B49 -> 58.68 | I49: =F49-C49 -> 19 | J49: =G49-D49 -> 77.67 | K49: =[1]Оплата!BC48 -> -1198.8661 | L49: =[1]Оплата!AA48 -> 5000 | M49: =H49*M$5 -> 362.6424 | N49: =I49*N$5 -> 43.51 | O49: =SUM(M49:N49) -> 406.1524 | Q49: =K49-O49+L49+P49 -> 3394.9815 | R49: =A49 -> №038
A50: №039 снят потребителем | K50: =[1]Оплата!BC49 -> -582.5861 | L50: =[1]Оплата!AA49 -> 0 | M50: =H50*M$5 -> 0 | N50: =I50*N$5 -> 0 | O50: =SUM(M50:N50) -> 0 | Q50: =K50-O50+L50+P50 -> -582.5861 | R50: =A50 -> №039 снят потребителем
A51: №040 | B51: 1372.33 | C51: 2550.53 | D51: 3922.88 | E51: 1372.33 | F51: 2550.53 | G51: 3922.88 | H51: =E51-B51 -> 0 | I51: =F51-C51 -> 0 | J51: =G51-D51 -> 0 | K51: =[1]Оплата!BC50 -> -0.4223 | L51: =[1]Оплата!AA50 -> 0 | M51: =H51*M$5 -> 0 | N51: =I51*N$5 -> 0 | O51: =SUM(M51:N51) -> 0 | Q51: =K51-O51+L51+P51 -> -0.4223 | R51: =A51 -> №040
A52: №041 | B52: 4505.14 | C52: 2695.25 | D52: 7200.82 | E52: 4603.41 | F52: 2720.55 | G52: 7324.39 | H52: =E52-B52 -> 98.27 | I52: =F52-C52 -> 25.3 | J52: =G52-D52 -> 123.57 | K52: =[1]Оплата!BC51 -> -490.4645 | L52: =[1]Оплата!AA51 -> 0 | M52: =H52*M$5 -> 607.3086 | N52: =I52*N$5 -> 57.937 | O52: =SUM(M52:N52) -> 665.2456 | Q52: =K52-O52+L52+P52 -> -1155.7101 | R52: =A52 -> №041
A53: №041а | B53: 6943.02 | C53: 3267.48 | D53: 10210.51 | E53: 7091.16 | F53: 3304.19 | G53: 10395.36 | H53: =E53-B53 -> 148.14 | I53: =F53-C53 -> 36.71 | J53: =G53-D53 -> 184.85 | K53: =[1]Оплата!BC52 -> -1217.6902 | L53: =[1]Оплата!AA52 -> 1000 | M53: =H53*M$5 -> 915.5052 | N53: =I53*N$5 -> 84.0659 | O53: =SUM(M53:N53) -> 999.5711 | Q53: =K53-O53+L53+P53 -> -1217.2613 | R53: =A53 -> №041а
A54: №042 | B54: 2190.76 | C54: 2150.11 | D54: 4340.9 | E54: 2347.19 | F54: 2169.46 | G54: 4516.69 | H54: =E54-B54 -> 156.43 | I54: =F54-C54 -> 19.35 | J54: =G54-D54 -> 175.79 | K54: =[1]Оплата!BC53 -> 475.4185 | L54: =[1]Оплата!AA53 -> 0 | M54: =H54*M$5 -> 966.7374 | N54: =I54*N$5 -> 44.3115 | O54: =SUM(M54:N54) -> 1011.0489 | Q54: =K54-O54+L54+P54 -> -535.6304 | R54: =A54 -> №042
A55: №043\1 | B55: 2993.54 | C55: 1265.29 | D55: 4258.84 | E55: 3067.68 | F55: 1290.64 | G55: 4358.32 | H55: =E55-B55 -> 74.14 | I55: =F55-C55 -> 25.35 | J55: =G55-D55 -> 99.48 | K55: =[1]Оплата!BC54-15476.83 -> 0.1417 | L55: =[1]Оплата!AA54 -> 0 | M55: =H55*M$5 -> 458.1852 | N55: =I55*N$5 -> 58.0515 | O55: =SUM(M55:N55) -> 516.2367 | Q55: =K55-O55+L55+P55 -> -516.095 | R55: =A55 -> №043\1
A56: №043\2 | B56: 15008.45 | C56: 6840.57 | D56: 21849.03 | E56: 15225.53 | F56: 7017.11 | G56: 22242.65 | H56: =E56-B56 -> 217.08 | I56: =F56-C56 -> 176.54 | J56: =G56-D56 -> 393.62 | K56: =[1]Оплата!BC55+15476.83 -> 0.002 | L56: =[1]Оплата!AA55 -> 0 | M56: =H56*M$5 -> 1341.5544 | N56: =I56*N$5 -> 404.2766 | O56: =SUM(M56:N56) -> 1745.831 | Q56: =K56-O56+L56+P56 -> -1745.829 | R56: =A56 -> №043\2
A57: №044 | B57: 3697.18 | C57: 1843.41 | D57: 5540.6 | E57: 3768.88 | F57: 1887.08 | G57: 5655.96 | H57: =E57-B57 -> 71.7 | I57: =F57-C57 -> 43.67 | J57: =G57-D57 -> 115.36 | K57: =[1]Оплата!BC56 -> 384.2451 | L57: =[1]Оплата!AA56 -> 0 | M57: =H57*M$5 -> 443.106 | N57: =I57*N$5 -> 100.0043 | O57: =SUM(M57:N57) -> 543.1103 | Q57: =K57-O57+L57+P57 -> -158.8652 | R57: =A57 -> №044
A58: №045 не установлен | K58: =[1]Оплата!BC57 -> 0 | L58: =[1]Оплата!AA57 -> 0 | Q58: =K58-O58+L58+P58 -> 0 | R58: =A58 -> №045 не установлен
A59: №046 | B59: 3492.11 | C59: 2784.21 | D59: 6276.33 | E59: 3651.93 | F59: 2902.56 | G59: 6554.49 | H59: =E59-B59 -> 159.82 | I59: =F59-C59 -> 118.35 | J59: =G59-D59 -> 278.16 | K59: =[1]Оплата!BC58 -> -12.5485 | L59: =[1]Оплата!AA58 -> 0 | M59: =H59*M$5 -> 987.6876 | N59: =I59*N$5 -> 271.0215 | O59: =SUM(M59:N59) -> 1258.7091 | Q59: =K59-O59+L59+P59 -> -1271.2576 | R59: =A59 -> №046
A60: №046а | B60: 6274.81 | C60: 2677.05 | D60: 8951.88 | E60: 6405.29 | F60: 2747.86 | G60: 9153.17 | H60: =E60-B60 -> 130.48 | I60: =F60-C60 -> 70.81 | J60: =G60-D60 -> 201.29 | K60: =[1]Оплата!BC59 -> -2156.8246 | L60: =[1]Оплата!AA59 -> 681 | M60: =H60*M$5 -> 806.3664 | N60: =I60*N$5 -> 162.1549 | O60: =SUM(M60:N60) -> 968.5213 | Q60: =K60-O60+L60+P60 -> -2444.3459 | R60: =A60 -> №046а
A61: №047 | B61: 275.4 | C61: 125.37 | D61: 400.77 | E61: 282.49 | F61: 128.75 | G61: 411.24 | H61: =E61-B61 -> 7.09 | I61: =F61-C61 -> 3.38 | J61: =G61-D61 -> 10.47 | K61: =[1]Оплата!BC60 -> -1777.1985 | L61: =[1]Оплата!AA60 -> 0 | M61: =H61*M$5 -> 43.8162 | N61: =I61*N$5 -> 7.7402 | O61: =SUM(M61:N61) -> 51.5564 | Q61: =K61-O61+L61+P61 -> -1828.7549 | R61: =A61 -> №047
A62: №048 | B62: 6552.44 | C62: 2016.02 | D62: 8568.47 | E62: 6785.63 | F62: 2078.73 | G62: 8864.37 | H62: =E62-B62 -> 233.19 | I62: =F62-C62 -> 62.71 | J62: =G62-D62 -> 295.9 | K62: =[1]Оплата!BC61 -> -4265.852 | L62: =[1]Оплата!AA61 -> 0 | M62: =H62*M$5 -> 1441.1142 | N62: =I62*N$5 -> 143.6059 | O62: =SUM(M62:N62) -> 1584.7201 | Q62: =K62-O62+L62+P62 -> -5850.5721 | R62: =A62 -> №048
A63: №049 | B63: 6016.27 | C63: 2535.67 | D63: 8551.94 | E63: 6287.27 | F63: 2654.66 | G63: 8941.93 | H63: =E63-B63 -> 271 | I63: =F63-C63 -> 118.99 | J63: =G63-D63 -> 389.99 | K63: =[1]Оплата!BC62 -> -203.2541 | L63: =[1]Оплата!AA62 -> 0 | M63: =H63*M$5 -> 1674.78 | N63: =I63*N$5 -> 272.4871 | O63: =SUM(M63:N63) -> 1947.2671 | Q63: =K63-O63+L63+P63 -> -2150.5212 | R63: =A63 -> №049
A64: №050 | B64: 7750.6 | C64: 3076.17 | D64: 10826.78 | E64: 8123.58 | F64: 3243.58 | G64: 11367.17 | H64: =E64-B64 -> 372.98 | I64: =F64-C64 -> 167.41 | J64: =G64-D64 -> 540.39 | K64: =[1]Оплата!BC63 -> -3162.7154 | L64: =[1]Оплата!AA63 -> 0 | M64: =H64*M$5 -> 2305.0164 | N64: =I64*N$5 -> 383.3689 | O64: =SUM(M64:N64) -> 2688.3853 | Q64: =K64-O64+L64+P64 -> -5851.1007 | R64: =A64 -> №050
A65: №051 | B65: 12464.89 | C65: 13479.97 | D65: 25944.87 | E65: 12711.95 | F65: 13605.53 | G65: 26317.49 | H65: =E65-B65 -> 247.06 | I65: =F65-C65 -> 125.56 | J65: =G65-D65 -> 372.62 | K65: =[1]Оплата!BC64 -> -11841.59 | L65: =[1]Оплата!AA64 -> 12000 | M65: =H65*M$5 -> 1526.8308 | N65: =I65*N$5 -> 287.5324 | O65: =SUM(M65:N65) -> 1814.3632 | Q65: =K65-O65+L65+P65 -> -1655.9535 | R65: =A65 -> №051
A66: №052 | B66: 4455.5 | C66: 1668.06 | D66: 6123.57 | E66: 4535.09 | F66: 1688.9 | G66: 6223.99 | H66: =E66-B66 -> 79.59 | I66: =F66-C66 -> 20.84 | J66: =G66-D66 -> 100.42 | K66: =[1]Оплата!BC65 -> -237.5469 | L66: =[1]Оплата!AA65 -> 0 | M66: =H66*M$5 -> 491.8662 | N66: =I66*N$5 -> 47.7236 | O66: =SUM(M66:N66) -> 539.5898 | Q66: =K66-O66+L66+P66 -> -777.1367 | R66: =A66 -> №052
A67: №052а | B67: 3564.19 | C67: 1269.13 | D67: 4833.35 | E67: 3656.59 | F67: 1292.44 | G67: 4949.08 | H67: =E67-B67 -> 92.4 | I67: =F67-C67 -> 23.31 | J67: =G67-D67 -> 115.73 | K67: =[1]Оплата!BC66 -> -1560.6606 | L67: =[1]Оплата!AA66 -> 1600 | M67: =H67*M$5 -> 571.032 | N67: =I67*N$5 -> 53.3799 | O67: =SUM(M67:N67) -> 624.4119 | Q67: =K67-O67+L67+P67 -> -585.0725 | R67: =A67 -> №052а
A68: №053 | B68: 122.31 | C68: 77.27 | D68: 199.58 | E68: 122.31 | F68: 77.27 | G68: 199.59 | H68: =E68-B68 -> 0 | I68: =F68-C68 -> 0 | J68: =G68-D68 -> 0.01 | K68: =[1]Оплата!BC67 -> 23.4121 | L68: =[1]Оплата!AA67 -> 0 | M68: =H68*M$5 -> 0 | N68: =I68*N$5 -> 0 | O68: =SUM(M68:N68) -> 0 | Q68: =K68-O68+L68+P68 -> 23.4121 | R68: =A68 -> №053
A69: №054 | B69: 1075.51 | C69: 547.95 | D69: 1623.47 | E69: 1123.39 | F69: 571.69 | G69: 1695.09 | H69: =E69-B69 -> 47.88 | I69: =F69-C69 -> 23.74 | J69: =G69-D69 -> 71.62 | K69: =[1]Оплата!BC68 -> -622.898 | L69: =[1]Оплата!AA68 -> 0 | M69: =H69*M$5 -> 295.8984 | N69: =I69*N$5 -> 54.3646 | O69: =SUM(M69:N69) -> 350.263 | Q69: =K69-O69+L69+P69 -> -973.161 | R69: =A69 -> №054
A70: №055 | B70: 5665.89 | C70: 2679.03 | D70: 8344.94 | E70: 6483 | F70: 3046.96 | G70: 9529.98 | H70: =E70-B70 -> 817.11 | I70: =F70-C70 -> 367.93 | J70: =G70-D70 -> 1185.04 | K70: =[1]Оплата!BC69 -> -1295.9766 | L70: =[1]Оплата!AA69 -> 0 | M70: =H70*M$5 -> 5049.7398 | N70: =I70*N$5 -> 842.5597 | O70: =SUM(M70:N70) -> 5892.2995 | Q70: =K70-O70+L70+P70 -> -7188.2761 | R70: =A70 -> №055
... A73: №058 | B73: 6266.02 | C73: 2051.57 | D73: 8317.6 | E73: 6427.62 | F73: 2117.28 | G73: 8544.91 | H73: =E73-B73 -> 161.6 | I73: =F73-C73 -> 65.71 | J73: =G73-D73 -> 227.31 | K73: =[1]Оплата!BC72 -> 249.6184 | L73: =[1]Оплата!AA72 -> 0 | M73: =H73*M$5 -> 998.688 | N73: =I73*N$5 -> 150.4759 | O73: =SUM(M73:N73) -> 1149.1639 | Q73: =K73-O73+L73+P73 -> -899.5455 | R73: =A73 -> №058
A74: №059 | B74: 19604.76 | C74: 8609.06 | D74: 28213.83 | E74: 20255.15 | F74: 8841.1 | G74: 29096.26 | H74: =E74-B74 -> 650.39 | I74: =F74-C74 -> 232.04 | J74: =G74-D74 -> 882.43 | K74: =[1]Оплата!BC73 -> -2468.1952 | L74: =[1]Оплата!AA73 -> 0 | M74: =H74*M$5 -> 4019.4102 | N74: =I74*N$5 -> 531.3716 | O74: =SUM(M74:N74) -> 4550.7818 | Q74: =K74-O74+L74 -> -7018.977 | R74: =A74 -> №059
A75: №060 | E75: новый счетчик | G75: 716.87 | K75: =[1]Оплата!BC74 -> -9.3065 | L75: =[1]Оплата!AA74 -> 0 | M75: =H75*M$5 -> 0 | N75: =I75*N$5 -> 0 | O75: =SUM(M75:N75) -> 0 | P75: замена сч-ка | Q75: =K75-O75+L75 -> -9.3065 | R75: =A75 -> №060
A76: №061 | B76: 3993.94 | C76: 1817.41 | D76: 5811.35 | E76: 4133.07 | F76: 1858.65 | G76: 5991.72 | H76: =E76-B76 -> 139.13 | I76: =F76-C76 -> 41.24 | J76: =G76-D76 -> 180.37 | K76: =[1]Оплата!BC75 -> -76.2441 | L76: =[1]Оплата!AA75 -> 0 | M76: =H76*M$5 -> 859.8234 | N76: =I76*N$5 -> 94.4396 | O76: =SUM(M76:N76) -> 954.263 | Q76: =K76-O76+L76+P76 -> -1030.5071 | R76: =A76 -> №061
A77: №062 | B77: 15758.86 | C77: 9748.29 | D77: 25507.7 | E77: 16012.14 | F77: 9867.94 | G77: 25880.62 | H77: =E77-B77 -> 253.28 | I77: =F77-C77 -> 119.65 | J77: =G77-D77 -> 372.92 | K77: =[1]Оплата!BC76 -> 0.0043 | L77: =[1]Оплата!AA76 -> 0 | M77: =H77*M$5 -> 1565.2704 | N77: =I77*N$5 -> 273.9985 | O77: =SUM(M77:N77) -> 1839.2689 | Q77: =K77-O77+L77+P77 -> -1839.2646 | R77: =A77 -> №062
A78: №062а | B78: 2707.32 | C78: 1175.67 | D78: 3883.01 | E78: 3201.78 | F78: 1370.34 | G78: 4572.13 | H78: =E78-B78 -> 494.46 | I78: =F78-C78 -> 194.67 | J78: =G78-D78 -> 689.12 | K78: =[1]Оплата!BC77 -> -242.0525 | L78: =[1]Оплата!AA77 -> 0 | M78: =H78*M$5 -> 3055.7628 | N78: =I78*N$5 -> 445.7943 | O78: =SUM(M78:N78) -> 3501.5571 | Q78: =K78-O78+L78+P78 -> -3743.6096 | R78: =A78 -> №062а
A79: №063 | B79: 713 | C79: 451.7 | D79: 1164.71 | E79: 723.42 | F79: 456.29 | G79: 1179.71 | H79: =E79-B79 -> 10.42 | I79: =F79-C79 -> 4.59 | J79: =G79-D79 -> 15 | K79: =[1]Оплата!BC78 -> -357.9905 | L79: =[1]Оплата!AA78 -> 357 | M79: =H79*M$5 -> 64.3956 | N79: =I79*N$5 -> 10.5111 | O79: =SUM(M79:N79) -> 74.9067 | Q79: =K79-O79+L79+P79 -> -75.8972 | R79: =A79 -> №063
A80: №064\1 | B80: 57.79 | C80: 18.4 | D80: 76.2 | E80: 61.15 | F80: 18.4 | G80: 79.57 | H80: =E80-B80 -> 3.36 | I80: =F80-C80 -> 0 | J80: =G80-D80 -> 3.37 | K80: =[1]Оплата!BC79 -> 24139.185 | L80: =[1]Оплата!AA79 -> 0 | M80: =H80*M$5 -> 20.7648 | N80: =I80*N$5 -> 0 | O80: =SUM(M80:N80) -> 20.7648 | Q80: =K80-O80+L80+P80 -> 24118.421 | R80: =A80 -> №064\1
A81: №064\2 | B81: 4473.43 | C81: 1676.31 | D81: 6149.75 | E81: 4588.42 | F81: 1703.36 | G81: 6291.79 | H81: =E81-B81 -> 114.99 | I81: =F81-C81 -> 27.05 | J81: =G81-D81 -> 142.04 | K81: =[1]Оплата!BC80 -> -24626.926 | L81: =[1]Оплата!AA80 -> 0 | M81: =H81*M$5 -> 710.6382 | N81: =I81*N$5 -> 61.9445 | O81: =SUM(M81:N81) -> 772.5827 | Q81: =K81-O81+L81+P81 -> -25399.508 | R81: =A81 -> №064\2
A82: №065 | B82: 22896.07 | C82: 8391.34 | D82: 31287.41 | E82: 23384.12 | F82: 8552.41 | G82: 31936.53 | H82: =E82-B82 -> 488.05 | I82: =F82-C82 -> 161.07 | J82: =G82-D82 -> 649.12 | K82: =[1]Оплата!BC81 -> -4547.5162 | L82: =[1]Оплата!AA81 -> 0 | M82: =H82*M$5 -> 3016.149 | N82: =I82*N$5 -> 368.8503 | O82: =SUM(M82:N82) -> 3384.9993 | Q82: =K82-O82+L82+P82 -> -7932.5155 | R82: =A82 -> №065
A83: №066 | B83: 8553.96 | C83: 3959.23 | D83: 12513.2 | E83: 8631.4 | F83: 3989.12 | G83: 12620.53 | H83: =E83-B83 -> 77.44 | I83: =F83-C83 -> 29.89 | J83: =G83-D83 -> 107.33 | K83: =[1]Оплата!BC82 -> -6052.8487 | L83: =[1]Оплата!AA82 -> 0 | M83: =H83*M$5 -> 478.5792 | N83: =I83*N$5 -> 68.4481 | O83: =SUM(M83:N83) -> 547.0273 | Q83: =K83-O83+L83+P83 -> -6599.876 | R83: =A83 -> №066
A84: №067 | E84: новый счетчик | G84: 11662.4 | K84: =[1]Оплата!BC83 -> 139.0607 | L84: =[1]Оплата!AA83 -> 0 | M84: =H84*M$5 -> 0 | N84: =I84*N$5 -> 0 | O84: =SUM(M84:N84) -> 0 | Q84: =K84-O84+L84+P84 -> 139.0607 | R84: =A84 -> №067
A85: №068 | B85: 3998.21 | C85: 3511.98 | D85: 7510.22 | E85: 4292.25 | F85: 3641.21 | G85: 7933.49 | H85: =E85-B85 -> 294.04 | I85: =F85-C85 -> 129.23 | J85: =G85-D85 -> 423.27 | K85: =[1]Оплата!BC84 -> 2640.1459 | L85: =[1]Оплата!AA84 -> 0 | M85: =H85*M$5 -> 1817.1672 | N85: =I85*N$5 -> 295.9367 | O85: =SUM(M85:N85) -> 2113.1039 | Q85: =K85-O85+L85+P85 -> 527.042 | R85: =A85 -> №068
A86: №069 | B86: 4643.85 | C86: 2246.77 | D86: 6890.63 | E86: 4870.23 | F86: 2354.97 | G86: 7225.21 | H86: =E86-B86 -> 226.38 | I86: =F86-C86 -> 108.2 | J86: =G86-D86 -> 334.58 | K86: =[1]Оплата!BC85 -> -1461.3084 | L86: =[1]Оплата!AA85 -> 0 | M86: =H86*M$5 -> 1399.0284 | N86: =I86*N$5 -> 247.778 | O86: =SUM(M86:N86) -> 1646.8064 | Q86: =K86-O86+L86+P86 -> -3108.1148 | R86: =A86 -> №069
A87: №070 | B87: 4453.02 | C87: 2518.94 | D87: 6971.96 | E87: 4595.53 | F87: 2568.09 | G87: 7163.63 | H87: =E87-B87 -> 142.51 | I87: =F87-C87 -> 49.15 | J87: =G87-D87 -> 191.67 | K87: =[1]Оплата!BC86 -> -65.1158 | L87: =[1]Оплата!AA86 -> 0 | M87: =H87*M$5 -> 880.7118 | N87: =I87*N$5 -> 112.5535 | O87: =SUM(M87:N87) -> 993.2653 | Q87: =K87-O87+L87+P87 -> -1058.3811 | R87: =A87 -> №070
A88: №071 | B88: 1281.02 | C88: 590.71 | D88: 1871.75 | E88: 1285.91 | F88: 592.4 | G88: 1878.33 | H88: =E88-B88 -> 4.89 | I88: =F88-C88 -> 1.69 | J88: =G88-D88 -> 6.58 | K88: =[1]Оплата!BC87 -> -1096.9169 | L88: =[1]Оплата!AA87 -> 0 | M88: =H88*M$5 -> 30.2202 | N88: =I88*N$5 -> 3.8701 | O88: =SUM(M88:N88) -> 34.0903 | Q88: =K88-O88+L88+P88 -> -1131.0072 | R88: =A88 -> №071
A89: №072 | B89: 2756.46 | C89: 3311 | D89: 6067.49 | E89: 2896.26 | F89: 3370.61 | G89: 6266.91 | H89: =E89-B89 -> 139.8 | I89: =F89-C89 -> 59.61 | J89: =G89-D89 -> 199.42 | K89: =[1]Оплата!BC88 -> -1735.5288 | L89: =[1]Оплата!AA88 -> 2000 | M89: =H89*M$5 -> 863.964 | N89: =I89*N$5 -> 136.5069 | O89: =SUM(M89:N89) -> 1000.4709 | Q89: =K89-O89+L89+P89 -> -735.9997 | R89: =A89 -> №072
A90: №073 | B90: 2943.92 | C90: 1024.31 | D90: 3968.23 | E90: 3152.18 | F90: 1106.48 | G90: 4258.67 | H90: =E90-B90 -> 208.26 | I90: =F90-C90 -> 82.17 | J90: =G90-D90 -> 290.44 | K90: =[1]Оплата!BC89 -> -1525.3102 | L90: =[1]Оплата!AA89 -> 0 | M90: =H90*M$5 -> 1287.0468 | N90: =I90*N$5 -> 188.1693 | O90: =SUM(M90:N90) -> 1475.2161 | Q90: =K90-O90+L90+P90 -> -3000.5263 | R90: =A90 -> №073
A91: №074 | B91: 19303.26 | C91: 9203.16 | D91: 28506.55 | E91: 19608.83 | F91: 9346.4 | G91: 28955.35 | H91: =E91-B91 -> 305.57 | I91: =F91-C91 -> 143.24 | J91: =G91-D91 -> 448.8 | K91: =[1]Оплата!BC90 -> -3515.2763 | L91: =[1]Оплата!AA90 -> 3415 | M91: =H91*M$5 -> 1888.4226 | N91: =I91*N$5 -> 328.0196 | O91: =SUM(M91:N91) -> 2216.4422 | Q91: =K91-O91+L91+P91 -> -2316.7185 | R91: =A91 -> №074
A92: №075 | B92: 697.33 | C92: 263.75 | D92: 961.1 | E92: 697.33 | F92: 263.75 | G92: 961.1 | H92: =E92-B92 -> 0 | I92: =F92-C92 -> 0 | J92: =G92-D92 -> 0 | K92: =[1]Оплата!BC91 -> -136.1197 | L92: =[1]Оплата!AA91 -> 0 | M92: =H92*M$5 -> 0 | N92: =I92*N$5 -> 0 | O92: =SUM(M92:N92) -> 0 | Q92: =K92-O92+L92+P92 -> -136.1197 | R92: =A92 -> №075
A93: №076 | B93: 26113.435 | C93: 20066.892 | D93: 46180.327 | E93: 26419.402 | F93: 20157.98 | G93: 46577.382 | H93: =E93-B93 -> 305.967 | I93: =F93-C93 -> 91.088 | J93: =G93-D93 -> 397.055 | K93: =[1]Оплата!BC92 -> 5945.2763 | L93: =[1]Оплата!AA92 -> 0 | M93: =H93*M$5 -> 1890.8761 | N93: =I93*N$5 -> 208.59152 | O93: =SUM(M93:N93) -> 2099.4676 | Q93: =K93-O93+L93+P93 -> 3845.8087 | R93: =A93 -> №076
A94: №077 | B94: 2339.31 | C94: 500.15 | D94: 2839.47 | E94: 2339.31 | F94: 500.15 | G94: 2839.47 | H94: =E94-B94 -> 0 | I94: =F94-C94 -> 0 | J94: =G94-D94 -> 0 | K94: =[1]Оплата!BC93 -> -5296.4238 | L94: =[1]Оплата!AA93 -> 0 | M94: =H94*M$5 -> 0 | N94: =I94*N$5 -> 0 | O94: =SUM(M94:N94) -> 0 | Q94: =K94-O94+L94+P94 -> -5296.4238 | R94: =A94 -> №077
A95: №078 | B95: 6183.62 | C95: 16218.14 | D95: 22401.85 | E95: 6358.71 | F95: 16328.96 | G95: 22687.76 | H95: =E95-B95 -> 175.09 | I95: =F95-C95 -> 110.82 | J95: =G95-D95 -> 285.91 | K95: =[1]Оплата!BC94 -> -8281.4308 | L95: =[1]Оплата!AA94 -> 0 | M95: =H95*M$5 -> 1082.0562 | N95: =I95*N$5 -> 253.7778 | O95: =SUM(M95:N95) -> 1335.834 | Q95: =K95-O95+L95+P95 -> -9617.2648 | R95: =A95 -> №078
A96: №079 | B96: 1173.76 | C96: 183.02 | D96: 1356.79 | E96: 1211.69 | F96: 197.1 | G96: 1408.8 | H96: =E96-B96 -> 37.93 | I96: =F96-C96 -> 14.08 | J96: =G96-D96 -> 52.01 | K96: =[1]Оплата!BC95 -> 8855.5138 | L96: =[1]Оплата!AA95 -> 0 | M96: =H96*M$5 -> 234.4074 | N96: =I96*N$5 -> 32.2432 | O96: =SUM(M96:N96) -> 266.6506 | Q96: =K96-O96+L96+P96 -> 8588.8632 | R96: =A96 -> №079
... A101: №083 | B101: 572.9 | C101: 235.88 | D101: 808.79 | E101: 587.85 | F101: 242 | G101: 829.87 | H101: =E101-B101 -> 14.95 | I101: =F101-C101 -> 6.12 | J101: =G101-D101 -> 21.08 | K101: =[1]Оплата!BC100 -> 39.997 | L101: =[1]Оплата!AA100 -> 0 | M101: =H101*M$5 -> 92.391 | N101: =I101*N$5 -> 14.0148 | O101: =SUM(M101:N101) -> 106.4058 | Q101: =K101-O101+L101+P101 -> -66.4088 | R101: =A101 -> №083
A102: №084 снят | K102: =[1]Оплата!BC101 -> -9.0138 | L102: =[1]Оплата!AA101 -> 0 | M102: =H102*M$5 -> 0 | N102: =I102*N$5 -> 0 | O102: =SUM(M102:N102) -> 0 | Q102: =K102-O102+L102+P102 -> -9.0138 | R102: =A102 -> №084 снят
A103: №085 | B103: 3224.36 | C103: 1286.19 | D103: 4510.56 | E103: 3303.03 | F103: 1329.1 | G103: 4632.14 | H103: =E103-B103 -> 78.67 | I103: =F103-C103 -> 42.91 | J103: =G103-D103 -> 121.58 | K103: =[1]Оплата!BC102 -> -1702.2951 | L103: =[1]Оплата!AA102 -> 0 | M103: =H103*M$5 -> 486.1806 | N103: =I103*N$5 -> 98.2639 | O103: =SUM(M103:N103) -> 584.4445 | Q103: =K103-O103+L103+P103 -> -2286.7396 | R103: =A103 -> №085
A104: №086 | B104: 11509.46 | C104: 5510.02 | D104: 17020.33 | E104: 11789.46 | F104: 5590.4 | G104: 17380.71 | H104: =E104-B104 -> 280 | I104: =F104-C104 -> 80.38 | J104: =G104-D104 -> 360.38 | K104: =[1]Оплата!BC103 -> -727.1909 | L104: =[1]Оплата!AA103 -> 750 | M104: =H104*M$5 -> 1730.4 | N104: =I104*N$5 -> 184.0702 | O104: =SUM(M104:N104) -> 1914.4702 | Q104: =K104-O104+L104+P104 -> -1891.6611 | R104: =A104 -> №086
A105: №087 | B105: 23416.7 | C105: 14972.58 | D105: 38389.3 | E105: 23669.05 | F105: 15164.29 | G105: 38833.36 | H105: =E105-B105 -> 252.35 | I105: =F105-C105 -> 191.71 | J105: =G105-D105 -> 444.06 | K105: =[1]Оплата!BC104 -> -4164.6203 | L105: =[1]Оплата!AA104 -> 3000 | M105: =H105*M$5 -> 1559.523 | N105: =I105*N$5 -> 439.0159 | O105: =SUM(M105:N105) -> 1998.5389 | Q105: =K105-O105+L105+P105 -> -3163.1592 | R105: =A105 -> №087
A106: №088 | B106: 246.65 | C106: 2914.77 | D106: 3161.5 | E106: 253.42 | F106: 2917.5 | G106: 3171.01 | H106: =E106-B106 -> 6.77 | I106: =F106-C106 -> 2.73 | J106: =G106-D106 -> 9.51 | K106: =[1]Оплата!BC105 -> 166.3573 | L106: =[1]Оплата!AA105 -> 0 | M106: =H106*M$5 -> 41.8386 | N106: =I106*N$5 -> 6.2517 | O106: =SUM(M106:N106) -> 48.0903 | Q106: =K106-O106+L106+P106 -> 118.267 | R106: =A106 -> №088
A107: №089 | B107: 3919.9 | C107: 1256.24 | D107: 5176.15 | E107: 4162.52 | F107: 1359.73 | G107: 5522.26 | H107: =E107-B107 -> 242.62 | I107: =F107-C107 -> 103.49 | J107: =G107-D107 -> 346.11 | K107: =[1]Оплата!BC106 -> 1446.5273 | L107: =[1]Оплата!AA106 -> 0 | M107: =H107*M$5 -> 1499.3916 | N107: =I107*N$5 -> 236.9921 | O107: =SUM(M107:N107) -> 1736.3837 | Q107: =K107-O107+L107+P107 -> -289.8564 | R107: =A107 -> №089
A108: №090 | B108: 1593.35 | C108: 785.3 | D108: 2378.76 | E108: 1932.89 | F108: 962.84 | G108: 2895.84 | H108: =E108-B108 -> 339.54 | I108: =F108-C108 -> 177.54 | J108: =G108-D108 -> 517.08 | K108: =[1]Оплата!BC107 -> -249.474 | L108: =[1]Оплата!AA107 -> 0 | M108: =H108*M$5 -> 2098.3572 | N108: =I108*N$5 -> 406.5666 | O108: =SUM(M108:N108) -> 2504.9238 | Q108: =K108-O108+L108+P108 -> -2754.3978 | R108: =A108 -> №090
A109: №091 | B109: 9659.87 | C109: 4383.84 | D109: 14043.72 | E109: 9989.75 | F109: 4542.78 | G109: 14532.54 | H109: =E109-B109 -> 329.88 | I109: =F109-C109 -> 158.94 | J109: =G109-D109 -> 488.82 | K109: =[1]Оплата!BC108 -> -2305.5729 | L109: =[1]Оплата!AA108 -> 0 | M109: =H109*M$5 -> 2038.6584 | N109: =I109*N$5 -> 363.9726 | O109: =SUM(M109:N109) -> 2402.631 | Q109: =K109-O109+L109+P109 -> -4708.2039 | R109: =A109 -> №091
A110: №092 | B110: 44065.95 | C110: 22457.21 | D110: 66523.18 | E110: 45211.07 | F110: 22983.77 | G110: 68194.86 | H110: =E110-B110 -> 1145.12 | I110: =F110-C110 -> 526.56 | J110: =G110-D110 -> 1671.68 | K110: =[1]Оплата!BC109 -> -7817.2593 | L110: =[1]Оплата!AA109 -> 0 | M110: =H110*M$5 -> 7076.8416 | N110: =I110*N$5 -> 1205.8224 | O110: =SUM(M110:N110) -> 8282.664 | Q110: =K110-O110+L110+P110 -> -16099.923 | R110: =A110 -> №092
A111: №093 | B111: 28575.57 | C111: 9100.55 | D111: 37676.12 | E111: 29460.31 | F111: 9382.25 | G111: 38842.56 | H111: =E111-B111 -> 884.74 | I111: =F111-C111 -> 281.7 | J111: =G111-D111 -> 1166.44 | K111: =[1]Оплата!BC110 -> -6595.3209 | L111: =[1]Оплата!AA110 -> 0 | M111: =H111*M$5 -> 5467.6932 | N111: =I111*N$5 -> 645.093 | O111: =SUM(M111:N111) -> 6112.7862 | Q111: =K111-O111+L111+P111 -> -12708.107 | R111: =A111 -> №093
A112: №094 | B112: 512.43 | C112: 71.82 | D112: 584.26 | E112: 561.86 | F112: 75.78 | G112: 637.65 | H112: =E112-B112 -> 49.43 | I112: =F112-C112 -> 3.96 | J112: =G112-D112 -> 53.39 | K112: =[1]Оплата!BC111 -> -90.5797 | L112: =[1]Оплата!AA111 -> 0 | M112: =H112*M$5 -> 305.4774 | N112: =I112*N$5 -> 9.0684 | O112: =SUM(M112:N112) -> 314.5458 | Q112: =K112-O112+L112+P112 -> -405.1255 | R112: =A112 -> №094
A113: №095 | B113: 2958.5 | C113: 1107.92 | D113: 4066.43 | E113: 3135.19 | F113: 1159.21 | G113: 4294.41 | H113: =E113-B113 -> 176.69 | I113: =F113-C113 -> 51.29 | J113: =G113-D113 -> 227.98 | K113: =[1]Оплата!BC112 -> -469.9138 | L113: =[1]Оплата!AA112 -> 0 | M113: =H113*M$5 -> 1091.9442 | N113: =I113*N$5 -> 117.4541 | O113: =SUM(M113:N113) -> 1209.3983 | Q113: =K113-O113+L113+P113 -> -1679.3121 | R113: =A113 -> №095
A114: №096 | B114: 2257.77 | C114: 312.11 | D114: 2569.89 | E114: 2258.62 | F114: 312.11 | G114: 2570.75 | H114: =E114-B114 -> 0.85 | I114: =F114-C114 -> 0 | J114: =G114-D114 -> 0.86 | K114: =[1]Оплата!BC113 -> 17.0488 | L114: =[1]Оплата!AA113 -> 0 | M114: =H114*M$5 -> 5.253 | N114: =I114*N$5 -> 0 | O114: =SUM(M114:N114) -> 5.253 | Q114: =K114-O114+L114+P114 -> 11.7958 | R114: =A114 -> №096
A115: №097 | B115: 473.61 | C115: 186.95 | D115: 660.56 | G115: 6605.73 | K115: =[1]Оплата!BC114 -> 39.1247 | L115: =[1]Оплата!AA114 -> 0 | M115: =H115*M$5 -> 0 | N115: =I115*N$5 -> 0 | O115: =SUM(M115:N115) -> 0 | Q115: =K115-O115+L115+P115 -> 39.1247 | R115: =A115 -> №097
A116: №098 | B116: 882.46 | C116: 173.24 | D116: 1055.71 | E116: 897.25 | F116: 178.34 | G116: 1075.6 | H116: =E116-B116 -> 14.79 | I116: =F116-C116 -> 5.1 | J116: =G116-D116 -> 19.89 | K116: =[1]Оплата!BC115 -> -6.2863 | L116: =[1]Оплата!AA115 -> 0 | M116: =H116*M$5 -> 91.4022 | N116: =I116*N$5 -> 11.679 | O116: =SUM(M116:N116) -> 103.0812 | Q116: =K116-O116+L116+P116 -> -109.3675 | R116: =A116 -> №098
A117: №099 | B117: 10582.53 | C117: 11054.2 | D117: 21636.8 | E117: 10745.15 | F117: 11154.36 | G117: 21899.58 | H117: =E117-B117 -> 162.62 | I117: =F117-C117 -> 100.16 | J117: =G117-D117 -> 262.78 | K117: =[1]Оплата!BC116 -> -1711.5114 | L117: =[1]Оплата!AA116 -> 0 | M117: =H117*M$5 -> 1004.9916 | N117: =I117*N$5 -> 229.3664 | O117: =SUM(M117:N117) -> 1234.358 | Q117: =K117-O117+L117+P117 -> -2945.8694 | R117: =A117 -> №099
A118: №100 | B118: 4.11 | C118: 1.68 | D118: 5.79 | E118: 4.11 | F118: 1.68 | G118: 5.79 | H118: =E118-B118 -> 0 | I118: =F118-C118 -> 0 | J118: =G118-D118 -> 0 | K118: =[1]Оплата!BC117 -> -0.5003 | L118: =[1]Оплата!AA117 -> 0 | M118: =H118*M$5 -> 0 | N118: =I118*N$5 -> 0 | O118: =SUM(M118:N118) -> 0 | Q118: =K118-O118+L118+P118 -> -0.5003 | R118: =A118 -> №100
A119: №101 | B119: 5009.83 | C119: 1820.07 | D119: 6830.05 | E119: 5073.6 | F119: 1834.96 | G119: 6908.72 | H119: =E119-B119 -> 63.77 | I119: =F119-C119 -> 14.89 | J119: =G119-D119 -> 78.67 | K119: =[1]Оплата!BC118 -> -4.62 | L119: =[1]Оплата!AA118 -> 0 | M119: =H119*M$5 -> 394.0986 | N119: =I119*N$5 -> 34.0981 | O119: =SUM(M119:N119) -> 428.1967 | Q119: =K119-O119+L119+P119 -> -432.8167 | R119: =A119 -> №101
A120: №102 | B120: 25135.426 | C120: 12544.064 | D120: 37679.49 | E120: 25272.039 | F120: 12572.359 | G120: 37844.398 | H120: =E120-B120 -> 136.613 | I120: =F120-C120 -> 28.295 | J120: =G120-D120 -> 164.908 | K120: =[1]Оплата!BC119 -> -1282.6333 | L120: =[1]Оплата!AA119 -> 1282 | M120: =H120*M$5 -> 844.26834 | N120: =I120*N$5 -> 64.79555 | O120: =SUM(M120:N120) -> 909.06389 | Q120: =K120-O120+L120+P120 -> -909.69717 | R120: =A120 -> №102
A121: №103 | B121: 2.64 | C121: 881.54 | D121: 884.22 | E121: 2.67 | F121: 881.56 | G121: 884.26 | H121: =E121-B121 -> 0.03 | I121: =F121-C121 -> 0.02 | J121: =G121-D121 -> 0.04 | K121: =[1]Оплата!BC120 -> -9.1737 | L121: =[1]Оплата!AA120 -> 0 | M121: =H121*M$5 -> 0.1854 | N121: =I121*N$5 -> 0.0458 | O121: =SUM(M121:N121) -> 0.2312 | Q121: =K121-O121+L121+P121 -> -9.4049 | R121: =A121 -> №103
...
