Workbook

Sheet Лист1
B1: =SUM(B10:B275) -> 1595742 | C1: =SUM(C10:C275) -> 858540.84 | D1: =SUM(D10:D275) -> 2469698.2 | E1: =SUM(E10:E275) -> 1485064.1 | F1: =SUM(F10:F275) -> 820432.47 | G1: =SUM(G10:G275) -> 2320912.5 | H1: =SUM(H10:H275) -> 35711.589 | I1: =SUM(I10:I275) -> 18732.029 | J1: =SUM(J10:J275) -> 54443.618 | K1: =SUM(K10:K276) -> -305869.48 | L1: =SUM(L10:L276) -> 143975.68 | M1: =SUM(M10:M287) -> 80118.966 | N1: =SUM(N10:N287) -> 18723.466 | O1: =SUM(O10:O276) -> 98842.433 | P1: =SUM(P10:P276) -> 0 | Q1: =SUM(Q10:Q276) -> #REF!
L2: =[1]Оплата!Y3 -> 143975.68 | P2: =[1]Оплата!Q1 -> -1155.5 | Q2: =[1]Оплата!BB3 -> -260736.23
T3: СНЯТЫЕ С ОБСЛУЖИВАНИЯ БУДУТ ОТКЛЮЧЕНЫ ОТ ЭНЕРГОСНАБЖЕНИЯ СНТ
T4: Все садоводы, оформившие договора с Энергосбытом, передайте их копии бухгалтеру
D6: РАСЧЕТ ЭЛЕКТРОЭНЕРГИИ ПО ПОТРЕБИТЕЛЯМ | L6: ТАРИФ | M6: =[1]запросы!C4 -> 6.82 | N6: =[1]запросы!D4 -> 2.65
A7: февраль | B7: 44590 | C7: 44493 | E7: 44619 | F7: 44493 | H7: За период | K7: Остаток средств на | L7: Оплата | M7: Сумма начислений | P7: Перерас- | Q7: Задолженность ( - )
A8: 2022 | B8: КВТ | E8: КВТ | H8: КВТ | L8: на | M8: руб. | P8: чет
A9: Код_ | B9: АктЭн_M | C9: АктЭн_L | D9: СуммАктЭн | E9: АктЭн_M | F9: АктЭн_L | G9: СуммАктЭн | H9: АктЭн_M | I9: АктЭн_L | J9: Всего | K9: =B7 -> 44590 | L9: =E7 -> 44619 | M9: День | N9: Ночь | O9: Всего | P9: руб | Q9: =C7 -> 44493 | R9: Код
A10: №002 | B10: 4098.61 | C10: 2072.29 | D10: 6171.02 | E10: 4113.16 | F10: 2072.29 | G10: 6185.57 | H10: =E10-B10 -> 14.55 | I10: =F10-C10 -> 0 | J10: =SUM(H10:I10) -> 14.55 | K10: =[1]Оплата!BA8 -> -763.7333 | L10: =[1]Оплата!Y8 -> 0 | M10: =H10*M$6 -> 99.231 | N10: =I10*N$6 -> 0 | O10: =SUM(M10:N10) -> 99.231 | Q10: =K10-O10+L10+P10 -> -862.9643 | R10: =A10 -> №002
A11: №003 | B11: 4385.02 | C11: 5456.73 | D11: 9841.88 | E11: 4385.02 | F11: 5456.73 | G11: 9841.88 | H11: =E11-B11 -> 0 | I11: =F11-C11 -> 0 | J11: =SUM(H11:I11) -> 0 | K11: =[1]Оплата!BA9 -> 3312.5169 | L11: =[1]Оплата!Y9 -> 0 | M11: =H11*M$6 -> 0 | N11: =I11*N$6 -> 0 | O11: =SUM(M11:N11) -> 0 | Q11: =K11-O11+L11+P11 -> 3312.5169 | R11: =A11 -> №003
A12: №004 | B12: 6608.9 | C12: 2515.15 | D12: 9124.07 | E12: 6608.9 | F12: 2515.15 | G12: 9124.07 | H12: =E12-B12 -> 0 | I12: =F12-C12 -> 0 | J12: =SUM(H12:I12) -> 0 | K12: =[1]Оплата!BA10 -> -2423.1807 | L12: =[1]Оплата!Y10 -> 0 | M12: =H12*M$6 -> 0 | N12: =I12*N$6 -> 0 | O12: =SUM(M12:N12) -> 0 | Q12: =K12-O12+L12+P12 -> -2423.1807 | R12: =A12 -> №004
A13: №005 | B13: 924.35 | C13: 1415.61 | D13: 2340.09 | E13: 924.35 | F13: 1415.61 | G13: 2340.09 | H13: =E13-B13 -> 0 | I13: =F13-C13 -> 0 | J13: =SUM(H13:I13) -> 0 | K13: =[1]Оплата!BA11 -> 4.628 | L13: =[1]Оплата!Y11 -> 0 | M13: =H13*M$6 -> 0 | N13: =I13*N$6 -> 0 | O13: =SUM(M13:N13) -> 0 | Q13: =K13-O13+L13+P13 -> 4.628 | R13: =A13 -> №005
A14: №006 | B14: 3304.58 | C14: 1611.72 | D14: 4916.31 | E14: 3304.58 | F14: 1611.72 | G14: 4916.31 | H14: =E14-B14 -> 0 | I14: =F14-C14 -> 0 | J14: =SUM(H14:I14) -> 0 | K14: =[1]Оплата!BA12 -> -424.3159 | L14: =[1]Оплата!Y12 -> 0 | M14: =H14*M$6 -> 0 | N14: =I14*N$6 -> 0 | O14: =SUM(M14:N14) -> 0 | Q14: =K14-O14+L14+P14 -> -424.3159 | R14: =A14 -> №006
A15: №007 | B15: 4431.03 | C15: 2543.62 | D15: 6974.69 | E15: 4431.03 | F15: 2543.62 | G15: 6974.69 | H15: =E15-B15 -> 0 | I15: =F15-C15 -> 0 | J15: =SUM(H15:I15) -> 0 | K15: =[1]Оплата!BA13 -> -4433.1015 | L15: =[1]Оплата!Y13 -> 0 | M15: =H15*M$6 -> 0 | N15: =I15*N$6 -> 0 | O15: =SUM(M15:N15) -> 0 | Q15: =K15-O15+L15+P15 -> -4433.1015 | R15: =A15 -> №007
A16: №008 | B16: 3321.11 | C16: 689.4 | D16: 4010.52 | E16: 3321.11 | F16: 689.4 | G16: 4010.52 | H16: =E16-B16 -> 0 | I16: =F16-C16 -> 0 | J16: =SUM(H16:I16) -> 0 | K16: =[1]Оплата!BA14 -> -2.9364 | L16: =[1]Оплата!Y14 -> 0 | M16: =H16*M$6 -> 0 | N16: =I16*N$6 -> 0 | O16: =SUM(M16:N16) -> 0 | Q16: =K16-O16+L16+P16 -> -2.9364 | R16: =A16 -> №008
A17: №009 сбыт | H17: снят с обслуживаения с 10.12.21 | K17: =[1]Оплата!BA15 -> 153.4953 | L17: =[1]Оплата!Y15 -> 0 | Q17: =K17-O17+L17 -> 153.4953 | R17: =A17 -> №009 сбыт
A18: №009а | H18: снят с обслуживаения с 10.12.21 | K18: =[1]Оплата!BA16 -> 2304.6133 | L18: =[1]Оплата!Y16 -> 0 | Q18: =K18-O18+L18+P18 -> 2304.6133 | R18: =A18 -> №009а
A19: №010 | H19: снят с обслуживаения с 10.12.21 | K19: =[1]Оплата!BA17 -> 3302.4163 | L19: =[1]Оплата!Y17 -> 0 | Q19: =K19-O19+L19+P19 -> 3302.4163 | R19: =A19 -> №010
A20: №011 | B20: 3810.77 | C20: 832.33 | D20: 4643.12 | E20: 3956.86 | F20: 913.53 | G20: 4870.41 | H20: =E20-B20 -> 146.09 | I20: 81.19 | J20: =SUM(H20:I20) -> 227.28 | K20: =[1]Оплата!BA18 -> 446.0114 | L20: =[1]Оплата!Y18 -> 0 | M20: =H20*M$6 -> 996.3338 | N20: =I20*N$6 -> 215.1535 | O20: =SUM(M20:N20) -> 1211.4873 | Q20: =K20-O20+L20+P20 -> -765.4759 | R20: =A20 -> №011
A21: №012 | B21: 919.63 | C21: 240.96 | D21: 1160.59 | E21: 931.66 | F21: 246.72 | G21: 1178.39 | H21: =E21-B21 -> 12.03 | I21: =F21-C21 -> 5.76 | J21: =SUM(H21:I21) -> 17.79 | K21: =[1]Оплата!BA19 -> -2639.3631 | L21: =[1]Оплата!Y19 -> 0 | M21: =H21*M$6 -> 82.0446 | N21: =I21*N$6 -> 15.264 | O21: =SUM(M21:N21) -> 97.3086 | Q21: =K21-O21+L21+P21 -> -2736.6717 | R21: =A21 -> №012
A22: №012а | K22: =[1]Оплата!BA20 -> 5.2041 | L22: =[1]Оплата!Y20 -> 0 | M22: =H22*M$6 -> 0 | N22: =I22*N$6 -> 0 | O22: =SUM(M22:N22) -> 0 | Q22: =K22-O22+L22+P22 -> 5.2041 | R22: =A22 -> №012а
A23: №013 | B23: 12895.2 | C23: 3423.4 | D23: 16318.61 | E23: 12897.23 | F23: 3424.39 | G23: 16321.62 | H23: =E23-B23 -> 2.03 | I23: =F23-C23 -> 0.99 | J23: =SUM(H23:I23) -> 3.02 | K23: =[1]Оплата!BA21 -> -2577.8243 | L23: =[1]Оплата!Y21 -> 0 | M23: =H23*M$6 -> 13.8446 | N23: =I23*N$6 -> 2.6235 | O23: =SUM(M23:N23) -> 16.4681 | Q23: =K23-O23+L23+P23 -> -2594.2924 | R23: =A23 -> №013
A24: №014 | B24: 4197.12 | C24: 8042.21 | D24: 12239.38 | E24: 4197.28 | F24: 8042.21 | G24: 12239.54 | H24: =E24-B24 -> 0.16 | I24: =F24-C24 -> 0 | J24: =SUM(H24:I24) -> 0.16 | K24: =[1]Оплата!BA22 -> -3464.7099 | L24: =[1]Оплата!Y22 -> 0 | M24: =H24*M$6 -> 1.0912 | N24: =I24*N$6 -> 0 | O24: =SUM(M24:N24) -> 1.0912 | Q24: =K24-O24+L24+P24 -> -3465.8011 | R24: =A24 -> №014
A25: №015 | B25: 3871.92 | C25: 2069.95 | D25: 5941.88 | E25: 3871.92 | F25: 2069.95 | G25: 5941.88 | H25: =E25-B25 -> 0 | I25: =F25-C25 -> 0 | J25: =SUM(H25:I25) -> 0 | K25: =[1]Оплата!BA23 -> 0.6241 | L25: =[1]Оплата!Y23 -> 0 | M25: =H25*M$6 -> 0 | N25: =I25*N$6 -> 0 | O25: =SUM(M25:N25) -> 0 | Q25: =K25-O25+L25+P25 -> 0.6241 | R25: =A25 -> №015
A26: №016\17 | B26: 7046.8 | C26: 6834.42 | D26: 13881.23 | E26: 7046.8 | F26: 6834.42 | G26: 13881.23 | H26: =E26-B26 -> 0 | I26: =F26-C26 -> 0 | J26: =SUM(H26:I26) -> 0 | K26: =[1]Оплата!BA24 -> -471.8792 | L26: =[1]Оплата!Y24 -> 0 | M26: =H26*M$6 -> 0 | N26: =I26*N$6 -> 0 | O26: =SUM(M26:N26) -> 0 | Q26: =K26-O26+L26+P26 -> -471.8792 | R26: =A26 -> №016\17
A27: №018 | B27: 4492.25 | C27: 1649.57 | D27: 6141.83 | E27: 4507.04 | F27: 1659.51 | G27: 6166.57 | H27: =E27-B27 -> 14.79 | I27: =F27-C27 -> 9.94 | J27: =SUM(H27:I27) -> 24.73 | K27: =[1]Оплата!BA25 -> -4751.249 | L27: =[1]Оплата!Y25 -> 4752 | M27: =H27*M$6 -> 100.8678 | N27: =I27*N$6 -> 26.341 | O27: =SUM(M27:N27) -> 127.2088 | Q27: =K27-O27+L27+P27 -> -126.4578 | R27: =A27 -> №018
A28: №019 | H28: снят с обслуживаения с 10.12.21 | K28: =[1]Оплата!BA26 -> -20720.601 | L28: =[1]Оплата!Y26 -> 0 | N28: =I28*N$6 -> 0 | O28: =SUM(M28:N28) -> 0 | Q28: =K28-O28+L28+P28 -> -20720.601 | R28: =A28 -> №019
A29: №020 | B29: 6394.29 | C29: 2870.86 | D29: 9265.8 | E29: 6396.17 | F29: 2870.86 | G29: 9267.68 | H29: =E29-B29 -> 1.88 | I29: =F29-C29 -> 0 | J29: =SUM(H29:I29) -> 1.88 | K29: =[1]Оплата!BA27 -> -710.926 | L29: =[1]Оплата!Y27 -> 0 | M29: =H29*M$6 -> 12.8216 | N29: =I29*N$6 -> 0 | O29: =SUM(M29:N29) -> 12.8216 | Q29: =K29-O29+L29+P29 -> -723.7476 | R29: =A29 -> №020
A30: №021\1 | B30: 468.77 | C30: 379.17 | D30: 847.94 | E30: 468.82 | F30: 379.19 | G30: 848.01 | H30: =E30-B30 -> 0.05 | I30: =F30-C30 -> 0.02 | J30: =SUM(H30:I30) -> 0.07 | K30: =[1]Оплата!BA28 -> 3286.9057 | L30: =[1]Оплата!Y28 -> 0 | M30: =H30*M$6 -> 0.341 | N30: =I30*N$6 -> 0.053 | O30: =SUM(M30:N30) -> 0.394 | Q30: =K30-O30+L30+P30 -> 3286.5117 | R30: =A30 -> №021\1
A31: №021\2 | B31: 1833.47 | C31: 899.5 | D31: 2732.98 | E31: 1833.6 | F31: 899.54 | G31: 2733.14 | H31: =E31-B31 -> 0.13 | I31: =F31-C31 -> 0.04 | J31: =SUM(H31:I31) -> 0.17 | K31: =[1]Оплата!BA29 -> -5807.6339 | L31: =[1]Оплата!Y29 -> 0 | M31: =H31*M$6 -> 0.8866 | N31: =I31*N$6 -> 0.106 | O31: =SUM(M31:N31) -> 0.9926 | Q31: =K31-O31+L31+P31 -> -5808.6265 | R31: =A31 -> №021\2
A32: №022 сбыт | H32: снят с обслуживаения с 10.12.21 | K32: =[1]Оплата!BA30 -> 46.1805 | L32: =[1]Оплата!Y30 -> 0 | N32: =I32*N$6 -> 0 | O32: =SUM(M32:N32) -> 0 | Q32: =K32-O32+L32+P32 -> 46.1805 | R32: =A32 -> №022 сбыт
A33: №022а | B33: 2136.38 | C33: 957.11 | D33: 3093.5 | E33: 2157.46 | F33: 980.42 | G33: 3137.89 | H33: =E33-B33 -> 21.08 | I33: =F33-C33 -> 23.31 | J33: =SUM(H33:I33) -> 44.39 | K33: =[1]Оплата!BA31 -> 2461.0956 | L33: =[1]Оплата!Y31 -> 0 | M33: =H33*M$6 -> 143.7656 | N33: =I33*N$6 -> 61.7715 | O33: =SUM(M33:N33) -> 205.5371 | Q33: =K33-O33+L33+P33 -> 2255.5585 | R33: =A33 -> №022а
A34: №023 | B34: 0.51 | C34: 0.58 | D34: 1.1 | E34: 0.51 | F34: 0.58 | G34: 1.1 | H34: =E34-B34 -> 0 | I34: =F34-C34 -> 0 | J34: =SUM(H34:I34) -> 0 | K34: =[1]Оплата!BA32 -> -8.3732 | L34: =[1]Оплата!Y32 -> 0 | M34: =H34*M$6 -> 0 | N34: =I34*N$6 -> 0 | O34: =SUM(M34:N34) -> 0 | Q34: =K34-O34+L34+P34 -> -8.3732 | R34: =A34 -> №023
A35: №024 | B35: 683.28 | C35: 370.28 | D35: 1053.56 | E35: 683.28 | F35: 370.28 | G35: 1053.56 | H35: =E35-B35 -> 0 | I35: =F35-C35 -> 0 | J35: =SUM(H35:I35) -> 0 | K35: =[1]Оплата!BA33 -> -954.6659 | L35: =[1]Оплата!Y33 -> 0 | M35: =H35*M$6 -> 0 | N35: =I35*N$6 -> 0 | O35: =SUM(M35:N35) -> 0 | Q35: =K35-O35+L35+P35 -> -954.6659 | R35: =A35 -> №024
A36: №025 | B36: 10442.69 | C36: 5719.31 | D36: 16162.01 | E36: 10560.35 | F36: 5778.3 | G36: 16338.66 | H36: =E36-B36 -> 117.66 | I36: =F36-C36 -> 58.99 | J36: =SUM(H36:I36) -> 176.65 | K36: =[1]Оплата!BA34 -> -577.6546 | L36: =[1]Оплата!Y34 -> 0 | M36: =H36*M$6 -> 802.4412 | N36: =I36*N$6 -> 156.3235 | O36: =SUM(M36:N36) -> 958.7647 | Q36: =K36-O36+L36+P36 -> -1536.4193 | R36: =A36 -> №025
A37: №026 | B37: 4147.58 | C37: 2148.59 | D37: 6296.17 | E37: 4147.58 | F37: 2148.59 | G37: 6296.17 | H37: =E37-B37 -> 0 | I37: =F37-C37 -> 0 | J37: =SUM(H37:I37) -> 0 | K37: =[1]Оплата!BA35 -> 11195.605 | L37: =[1]Оплата!Y35 -> 0 | M37: =H37*M$6 -> 0 | N37: =I37*N$6 -> 0 | O37: =SUM(M37:N37) -> 0 | Q37: =K37-O37+L37+P37 -> 11195.605 | R37: =A37 -> №026
A38: №027 | B38: 4462.2 | C38: 2606.84 | D38: 7069.11 | E38: 4462.47 | F38: 2606.97 | G38: 7069.51 | H38: =E38-B38 -> 0.27 | I38: =F38-C38 -> 0.13 | J38: =SUM(H38:I38) -> 0.4 | K38: =[1]Оплата!BA36 -> 364.6183 | L38: =[1]Оплата!Y36 -> 0 | M38: =H38*M$6 -> 1.8414 | N38: =I38*N$6 -> 0.3445 | O38: =SUM(M38:N38) -> 2.1859 | Q38: =K38-O38+L38+P38 -> 362.4324 | R38: =A38 -> №027
A39: №028 | B39: 1330.52 | C39: 496.08 | D39: 1826.61 | E39: 1330.52 | F39: 496.08 | G39: 1826.61 | H39: =E39-B39 -> 0 | I39: =F39-C39 -> 0 | J39: =SUM(H39:I39) -> 0 | K39: =[1]Оплата!BA37 -> -4.3548 | L39: =[1]Оплата!Y37 -> 0 | M39: =H39*M$6 -> 0 | N39: =I39*N$6 -> 0 | O39: =SUM(M39:N39) -> 0 | Q39: =K39-O39+L39+P39 -> -4.3548 | R39: =A39 -> №028
A40: №029 сбыт | K40: =[1]Оплата!BA38 -> 0.0048 | L40: =[1]Оплата!Y38 -> 0 | Q40: =K40-O40+L40+P40 -> 0.0048 | R40: =A40 -> №029 сбыт
A41: №030 | B41: 1606.24 | C41: 584.95 | D41: 2191.24 | E41: 2215.52 | F41: 937.17 | G41: 3152.74 | H41: =E41-B41 -> 609.28 | I41: =F41-C41 -> 352.22 | J41: =SUM(H41:I41) -> 961.5 | K41: =[1]Оплата!BA39 -> -30.0971 | L41: =[1]Оплата!Y39 -> 0 | M41: =H41*M$6 -> 4155.2896 | N41: =I41*N$6 -> 933.383 | O41: =SUM(M41:N41) -> 5088.6726 | Q41: =K41-O41+L41+P41 -> -5118.7697 | R41: =A41 -> №030
...

Sheet Лист2

Sheet Лист3
