Workbook

Sheet Лист1
B1: =SUM(B10:B275) -> 1595742 | C1: =SUM(C10:C275) -> 858540.84 | D1: =SUM(D10:D275) -> 2469698.2 | E1: =SUM(E10:E275) -> 1485064.1 | F1: =SUM(F10:F275) -> 820432.47 | G1: =SUM(G10:G275) -> 2320912.5 | H1: =SUM(H10:H275) -> 35711.589 | I1: =SUM(I10:I275) -> 18732.029 | J1: =SUM(J10:J275) -> 54443.618 | K1: =SUM(K10:K276) -> -305869.48 | L1: =SUM(L10:L276) -> 143975.68 | M1: =SUM(M10:M287) -> 80118.966 | N1: =SUM(N10:N287) -> 18723.466 | O1: =SUM(O10:O276) -> 98842.433 | P1: =SUM(P10:P276) -> 0 | Q1: =SUM(Q10:Q276) -> #REF!
L2: =[1]Оплата!Y3 -> 143975.68 | P2: =[1]Оплата!Q1 -> -1155.5 | Q2: =[1]Оплата!BB3 -> -260736.23
T3: СНЯТЫЕ С ОБСЛУЖИВАНИЯ БУДУТ ОТКЛЮЧЕНЫ ОТ ЭНЕРГОСНАБЖЕНИЯ СНТ
T4: Все садоводы, оформившие договора с Энергосбытом, передайте их копии бухгалтеру
D6: РАСЧЕТ ЭЛЕКТРОЭНЕРГИИ ПО ПОТРЕБИТЕЛЯМ | L6: ТАРИФ | M6: =[1]запросы!C4 -> 6.82 | N6: =[1]запросы!D4 -> 2.65
A7: февраль | B7: 44590 | C7: 44493 | E7: 44619 | F7: 44493 | H7: За период | K7: Остаток средств на | L7: Оплата | M7: Сумма начислений | P7: Перерас- | Q7: Задолженность ( - )
A8: 2022 | B8: КВТ | E8: КВТ | H8: КВТ | L8: на | M8: руб. | P8: чет
A9: Код_ | B9: АктЭн_M | C9: АктЭн_L | D9: СуммАктЭн | E9: АктЭн_M | F9: АктЭн_L | G9: СуммАктЭн | H9: АктЭн_M | I9: АктЭн_L | J9: Всего | K9: =B7 -> 44590 | L9: =E7 -> 44619 | M9: День | N9: Ночь | O9: Всего | P9: руб | Q9: =C7 -> 44493 | R9: Код
A10: №002 | B10: 4098.61 | C10: 2072.29 | D10: 6171.02 | E10: 4113.16 | F10: 2072.29 | G10: 6185.57 | H10: =E10-B10 -> 14.55 | I10: =F10-C10 -> 0 | J10: =SUM(H10:I10) -> 14.55 | K10: =[1]Оплата!BA8 -> -763.7333 | L10: =[1]Оплата!Y8 -> 0 | M10: =H10*M$6 -> 99.231 | N10: =I10*N$6 -> 0 | O10: =SUM(M10:N10) -> 99.231 | Q10: =K10-O10+L10+P10 -> -862.9643 | R10: =A10 -> №002
A11: №003 | B11: 4385.02 | C11: 5456.73 | D11: 9841.88 | E11: 4385.02 | F11: 5456.73 | G11: 9841.88 | H11: =E11-B11 -> 0 | I11: =F11-C11 -> 0 | J11: =SUM(H11:I11) -> 0 | K11: =[1]Оплата!BA9 -> 3312.5169 | L11: =[1]Оплата!Y9 -> 0 | M11: =H11*M$6 -> 0 | N11: =I11*N$6 -> 0 | O11: =SUM(M11:N11) -> 0 | Q11: =K11-O11+L11+P11 -> 3312.5169 | R11: =A11 -> №003
A12: №004 | B12: 6608.9 | C12: 2515.15 | D12: 9124.07 | E12: 6608.9 | F12: 2515.15 | G12: 9124.07 | H12: =E12-B12 -> 0 | I12: =F12-C12 -> 0 | J12: =SUM(H12:I12) -> 0 | K12: =[1]Оплата!BA10 -> -2423.1807 | L12: =[1]Оплата!Y10 -> 0 | M12: =H12*M$6 -> 0 | N12: =I12*N$6 -> 0 | O12: =SUM(M12:N12) -> 0 | Q12: =K12-O12+L12+P12 -> -2423.1807 | R12: =A12 -> №004
A13: №005 | B13: 924.35 | C13: 1415.61 | D13: 2340.09 | E13: 924.35 | F13: 1415.61 | G13: 2340.09 | H13: =E13-B13 -> 0 | I13: =F13-C13 -> 0 | J13: =SUM(H13:I13) -> 0 | K13: =[1]Оплата!BA11 -> 4.628 | L13: =[1]Оплата!Y11 -> 0 | M13: =H13*M$6 -> 0 | N13: =I13*N$6 -> 0 | O13: =SUM(M13:N13) -> 0 | Q13: =K13-O13+L13+P13 -> 4.628 | R13: =A13 -> №005
A14: №006 | B14: 3304.58 | C14: 1611.72 | D14: 4916.31 | E14: 3304.58 | F14: 1611.72 | G14: 4916.31 | H14: =E14-B14 -> 0 | I14: =F14-C14 -> 0 | J14: =SUM(H14:I14) -> 0 | K14: =[1]Оплата!BA12 -> -424.3159 | L14: =[1]Оплата!Y12 -> 0 | M14: =H14*M$6 -> 0 | N14: =I14*N$6 -> 0 | O14: =SUM(M14:N14) -> 0 | Q14: =K14-O14+L14+P14 -> -424.3159 | R14: =A14 -> №006
A15: №007 | B15: 4431.03 | C15: 2543.62 | D15: 6974.69 | E15: 4431.03 | F15: 2543.62 | G15: 6974.69 | H15: =E15-B15 -> 0 | I15: =F15-C15 -> 0 | J15: =SUM(H15:I15) -> 0 | K15: =[1]Оплата!BA13 -> -4433.1015 | L15: =[1]Оплата!Y13 -> 0 | M15: =H15*M$6 -> 0 | N15: =I15*N$6 -> 0 | O15: =SUM(M15:N15) -> 0 | Q15: =K15-O15+L15+P15 -> -4433.1015 | R15: =A15 -> №007
A16: №008 | B16: 3321.11 | C16: 689.4 | D16: 4010.52 | E16: 3321.11 | F16: 689.4 | G16: 4010.52 | H16: =E16-B16 -> 0 | I16: =F16-C16 -> 0 | J16: =SUM(H16:I16) -> 0 | K16: =[1]Оплата!BA14 -> -2.9364 | L16: =[1]Оплата!Y14 -> 0 | M16: =H16*M$6 -> 0 | N16: =I16*N$6 -> 0 | O16: =SUM(M16:N16) -> 0 | Q16: =K16-O16+L16+P16 -> -2.9364 | R16: =A16 -> №008
A17: №009 сбыт | H17: снят с обслуживаения с 10.12.21 | K17: =[1]Оплата!BA15 -> 153.4953 | L17: =[1]Оплата!Y15 -> 0 | Q17: =K17-O17+L17 -> 153.4953 | R17: =A17 -> №009 сбыт
A18: №009а | H18: снят с обслуживаения с 10.12.21 | K18: =[1]Оплата!BA16 -> 2304.6133 | L18: =[1]Оплата!Y16 -> 0 | Q18: =K18-O18+L18+P18 -> 2304.6133 | R18: =A18 -> №009а
A19: №010 | H19: снят с обслуживаения с 10.12.21 | K19: =[1]Оплата!BA17 -> 3302.4163 | L19: =[1]Оплата!Y17 -> 0 | Q19: =K19-O19+L19+P19 -> 3302.4163 | R19: =A19 -> №010
A20: №011 | B20: 3810.77 | C20: 832.33 | D20: 4643.12 | E20: 3956.86 | F20: 913.53 | G20: 4870.41 | H20: =E20-B20 -> 146.09 | I20: 81.19 | J20: =SUM(H20:I20) -> 227.28 | K20: =[1]Оплата!BA18 -> 446.0114 | L20: =[1]Оплата!Y18 -> 0 | M20: =H20*M$6 -> 996.3338 | N20: =I20*N$6 -> 215.1535 | O20: =SUM(M20:N20) -> 1211.4873 | Q20: =K20-O20+L20+P20 -> -765.4759 | R20: =A20 -> №011
A21: №012 | B21: 919.63 | C21: 240.96 | D21: 1160.59 | E21: 931.66 | F21: 246.72 | G21: 1178.39 | H21: =E21-B21 -> 12.03 | I21: =F21-C21 -> 5.76 | J21: =SUM(H21:I21) -> 17.79 | K21: =[1]Оплата!BA19 -> -2639.3631 | L21: =[1]Оплата!Y19 -> 0 | M21: =H21*M$6 -> 82.0446 | N21: =I21*N$6 -> 15.264 | O21: =SUM(M21:N21) -> 97.3086 | Q21: =K21-O21+L21+P21 -> -2736.6717 | R21: =A21 -> №012
A22: №012а | K22: =[1]Оплата!BA20 -> 5.2041 | L22: =[1]Оплата!Y20 -> 0 | M22: =H22*M$6 -> 0 | N22: =I22*N$6 -> 0 | O22: =SUM(M22:N22) -> 0 | Q22: =K22-O22+L22+P22 -> 5.2041 | R22: =A22 -> №012а
A23: №013 | B23: 12895.2 | C23: 3423.4 | D23: 16318.61 | E23: 12897.23 | F23: 3424.39 | G23: 16321.62 | H23: =E23-B23 -> 2.03 | I23: =F23-C23 -> 0.99 | J23: =SUM(H23:I23) -> 3.02 | K23: =[1]Оплата!BA21 -> -2577.8243 | L23: =[1]Оплата!Y21 -> 0 | M23: =H23*M$6 -> 13.8446 | N23: =I23*N$6 -> 2.6235 | O23: =SUM(M23:N23) -> 16.4681 | Q23: =K23-O23+L23+P23 -> -2594.2924 | R23: =A23 -> №013
A24: №014 | B24: 4197.12 | C24: 8042.21 | D24: 12239.38 | E24: 4197.28 | F24: 8042.21 | G24: 12239.54 | H24: =E24-B24 -> 0.16 | I24: =F24-C24 -> 0 | J24: =SUM(H24:I24) -> 0.16 | K24: =[1]Оплата!BA22 -> -3464.7099 | L24: =[1]Оплата!Y22 -> 0 | M24: =H24*M$6 -> 1.0912 | N24: =I24*N$6 -> 0 | O24: =SUM(M24:N24) -> 1.0912 | Q24: =K24-O24+L24+P24 -> -3465.8011 | R24: =A24 -> №014
A25: №015 | B25: 3871.92 | C25: 2069.95 | D25: 5941.88 | E25: 3871.92 | F25: 2069.95 | G25: 5941.88 | H25: =E25-B25 -> 0 | I25: =F25-C25 -> 0 | J25: =SUM(H25:I25) -> 0 | K25: =[1]Оплата!BA23 -> 0.6241 | L25: =[1]Оплата!Y23 -> 0 | M25: =H25*M$6 -> 0 | N25: =I25*N$6 -> 0 | O25: =SUM(M25:N25) -> 0 | Q25: =K25-O25+L25+P25 -> 0.6241 | R25: =A25 -> №015
A26: №016\17 | B26: 7046.8 | C26: 6834.42 | D26: 13881.23 | E26: 7046.8 | F26: 6834.42 | G26: 13881.23 | H26: =E26-B26 -> 0 | I26: =F26-C26 -> 0 | J26: =SUM(H26:I26) -> 0 | K26: =[1]Оплата!BA24 -> -471.8792 | L26: =[1]Оплата!Y24 -> 0 | M26: =H26*M$6 -> 0 | N26: =I26*N$6 -> 0 | O26: =SUM(M26:N26) -> 0 | Q26: =K26-O26+L26+P26 -> -471.8792 | R26: =A26 -> №016\17
A27: №018 | B27: 4492.25 | C27: 1649.57 | D27: 6141.83 | E27: 4507.04 | F27: 1659.51 | G27: 6166.57 | H27: =E27-B27 -> 14.79 | I27: =F27-C27 -> 9.94 | J27: =SUM(H27:I27) -> 24.73 | K27: =[1]Оплата!BA25 -> -4751.249 | L27: =[1]Оплата!Y25 -> 4752 | M27: =H27*M$6 -> 100.8678 | N27: =I27*N$6 -> 26.341 | O27: =SUM(M27:N27) -> 127.2088 | Q27: =K27-O27+L27+P27 -> -126.4578 | R27: =A27 -> №018
A28: №019 | H28: снят с обслуживаения с 10.12.21 | K28: =[1]Оплата!BA26 -> -20720.601 | L28: =[1]Оплата!Y26 -> 0 | N28: =I28*N$6 -> 0 | O28: =SUM(M28:N28) -> 0 | Q28: =K28-O28+L28+P28 -> -20720.601 | R28: =A28 -> №019
A29: №020 | B29: 6394.29 | C29: 2870.86 | D29: 9265.8 | E29: 6396.17 | F29: 2870.86 | G29: 9267.68 | H29: =E29-B29 -> 1.88 | I29: =F29-C29 -> 0 | J29: =SUM(H29:I29) -> 1.88 | K29: =[1]Оплата!BA27 -> -710.926 | L29: =[1]Оплата!Y27 -> 0 | M29: =H29*M$6 -> 12.8216 | N29: =I29*N$6 -> 0 | O29: =SUM(M29:N29) -> 12.8216 | Q29: =K29-O29+L29+P29 -> -723.7476 | R29: =A29 -> №020
A30: №021\1 | B30: 468.77 | C30: 379.17 | D30: 847.94 | E30: 468.82 | F30: 379.19 | G30: 848.01 | H30: =E30-B30 -> 0.05 | I30: =F30-C30 -> 0.02 | J30: =SUM(H30:I30) -> 0.07 | K30: =[1]Оплата!BA28 -> 3286.9057 | L30: =[1]Оплата!Y28 -> 0 | M30: =H30*M$6 -> 0.341 | N30: =I30*N$6 -> 0.053 | O30: =SUM(M30:N30) -> 0.394 | Q30: =K30-O30+L30+P30 -> 3286.5117 | R30: =A30 -> №021\1
A31: №021\2 | B31: 1833.47 | C31: 899.5 | D31: 2732.98 | E31: 1833.6 | F31: 899.54 | G31: 2733.14 | H31: =E31-B31 -> 0.13 | I31: =F31-C31 -> 0.04 | J31: =SUM(H31:I31) -> 0.17 | K31: =[1]Оплата!BA29 -> -5807.6339 | L31: =[1]Оплата!Y29 -> 0 | M31: =H31*M$6 -> 0.8866 | N31: =I31*N$6 -> 0.106 | O31: =SUM(M31:N31) -> 0.9926 | Q31: =K31-O31+L31+P31 -> -5808.6265 | R31: =A31 -> №021\2
A32: №022 сбыт | H32: снят с обслуживаения с 10.12.21 | K32: =[1]Оплата!BA30 -> 46.1805 | L32: =[1]Оплата!Y30 -> 0 | N32: =I32*N$6 -> 0 | O32: =SUM(M32:N32) -> 0 | Q32: =K32-O32+L32+P32 -> 46.1805 | R32: =A32 -> №022 сбыт
A33: №022а | B33: 2136.38 | C33: 957.11 | D33: 3093.5 | E33: 2157.46 | F33: 980.42 | G33: 3137.89 | H33: =E33-B33 -> 21.08 | I33: =F33-C33 -> 23.31 | J33: =SUM(H33:I33) -> 44.39 | K33: =[1]Оплата!BA31 -> 2461.0956 | L33: =[1]Оплата!Y31 -> 0 | M33: =H33*M$6 -> 143.7656 | N33: =I33*N$6 -> 61.7715 | O33: =SUM(M33:N33) -> 205.5371 | Q33: =K33-O33+L33+P33 -> 2255.5585 | R33: =A33 -> №022а
A34: №023 | B34: 0.51 | C34: 0.58 | D34: 1.1 | E34: 0.51 | F34: 0.58 | G34: 1.1 | H34: =E34-B34 -> 0 | I34: =F34-C34 -> 0 | J34: =SUM(H34:I34) -> 0 | K34: =[1]Оплата!BA32 -> -8.3732 | L34: =[1]Оплата!Y32 -> 0 | M34: =H34*M$6 -> 0 | N34: =I34*N$6 -> 0 | O34: =SUM(M34:N34) -> 0 | Q34: =K34-O34+L34+P34 -> -8.3732 | R34: =A34 -> №023
A35: №024 | B35: 683.28 | C35: 370.28 | D35: 1053.56 | E35: 683.28 | F35: 370.28 | G35: 1053.56 | H35: =E35-B35 -> 0 | I35: =F35-C35 -> 0 | J35: =SUM(H35:I35) -> 0 | K35: =[1]Оплата!BA33 -> -954.6659 | L35: =[1]Оплата!Y33 -> 0 | M35: =H35*M$6 -> 0 | N35: =I35*N$6 -> 0 | O35: =SUM(M35:N35) -> 0 | Q35: =K35-O35+L35+P35 -> -954.6659 | R35: =A35 -> №024
A36: №025 | B36: 10442.69 | C36: 5719.31 | D36: 16162.01 | E36: 10560.35 | F36: 5778.3 | G36: 16338.66 | H36: =E36-B36 -> 117.66 | I36: =F36-C36 -> 58.99 | J36: =SUM(H36:I36) -> 176.65 | K36: =[1]Оплата!BA34 -> -577.6546 | L36: =[1]Оплата!Y34 -> 0 | M36: =H36*M$6 -> 802.4412 | N36: =I36*N$6 -> 156.3235 | O36: =SUM(M36:N36) -> 958.7647 | Q36: =K36-O36+L36+P36 -> -1536.4193 | R36: =A36 -> №025
A37: №026 | B37: 4147.58 | C37: 2148.59 | D37: 6296.17 | E37: 4147.58 | F37: 2148.59 | G37: 6296.17 | H37: =E37-B37 -> 0 | I37: =F37-C37 -> 0 | J37: =SUM(H37:I37) -> 0 | K37: =[1]Оплата!BA35 -> 11195.605 | L37: =[1]Оплата!Y35 -> 0 | M37: =H37*M$6 -> 0 | N37: =I37*N$6 -> 0 | O37: =SUM(M37:N37) -> 0 | Q37: =K37-O37+L37+P37 -> 11195.605 | R37: =A37 -> №026
A38: №027 | B38: 4462.2 | C38: 2606.84 | D38: 7069.11 | E38: 4462.47 | F38: 2606.97 | G38: 7069.51 | H38: =E38-B38 -> 0.27 | I38: =F38-C38 -> 0.13 | J38: =SUM(H38:I38) -> 0.4 | K38: =[1]Оплата!BA36 -> 364.6183 | L38: =[1]Оплата!Y36 -> 0 | M38: =H38*M$6 -> 1.8414 | N38: =I38*N$6 -> 0.3445 | O38: =SUM(M38:N38) -> 2.1859 | Q38: =K38-O38+L38+P38 -> 362.4324 | R38: =A38 -> №027
A39: №028 | B39: 1330.52 | C39: 496.08 | D39: 1826.61 | E39: 1330.52 | F39: 496.08 | G39: 1826.61 | H39: =E39-B39 -> 0 | I39: =F39-C39 -> 0 | J39: =SUM(H39:I39) -> 0 | K39: =[1]Оплата!BA37 -> -4.3548 | L39: =[1]Оплата!Y37 -> 0 | M39: =H39*M$6 -> 0 | N39: =I39*N$6 -> 0 | O39: =SUM(M39:N39) -> 0 | Q39: =K39-O39+L39+P39 -> -4.3548 | R39: =A39 -> №028
A40: №029 сбыт | K40: =[1]Оплата!BA38 -> 0.0048 | L40: =[1]Оплата!Y38 -> 0 | Q40: =K40-O40+L40+P40 -> 0.0048 | R40: =A40 -> №029 сбыт
A41: №030 | B41: 1606.24 | C41: 584.95 | D41: 2191.24 | E41: 2215.52 | F41: 937.17 | G41: 3152.74 | H41: =E41-B41 -> 609.28 | I41: =F41-C41 -> 352.22 | J41: =SUM(H41:I41) -> 961.5 | K41: =[1]Оплата!BA39 -> -30.0971 | L41: =[1]Оплата!Y39 -> 0 | M41: =H41*M$6 -> 4155.2896 | N41: =I41*N$6 -> 933.383 | O41: =SUM(M41:N41) -> 5088.6726 | Q41: =K41-O41+L41+P41 -> -5118.7697 | R41: =A41 -> №030
A42: №031\1 | B42: 11965.74 | C42: 6328.39 | D42: 18294.14 | E42: 11990 | F42: 6341.94 | G42: 18331.94 | H42: =E42-B42 -> 24.26 | I42: =F42-C42 -> 13.55 | J42: =SUM(H42:I42) -> 37.81 | K42: =[1]Оплата!BA40 -> -39482.455 | L42: =[1]Оплата!Y40 -> 0 | M42: =H42*M$6 -> 165.4532 | N42: =I42*N$6 -> 35.9075 | O42: =SUM(M42:N42) -> 201.3607 | Q42: =K42-O42+L42+P42 -> -39683.816 | R42: =A42 -> №031\1
A43: №031\2 | B43: 6064.94 | C43: 1822.5 | D43: 7887.45 | E43: 6064.96 | F43: 1822.52 | G43: 7887.5 | H43: =E43-B43 -> 0.02 | I43: =F43-C43 -> 0.02 | J43: =SUM(H43:I43) -> 0.04 | K43: =[1]Оплата!BA41 -> 39197.016 | L43: =[1]Оплата!Y41 -> 0 | M43: =H43*M$6 -> 0.1364 | N43: =I43*N$6 -> 0.053 | O43: =SUM(M43:N43) -> 0.1894 | Q43: =K43-O43+L43+P43 -> 39196.827 | R43: =A43 -> №031\2
A44: №032 | B44: 7627.05 | C44: 4431.12 | D44: 12058.26 | E44: 7627.05 | F44: 4431.12 | G44: 12058.26 | H44: =E44-B44 -> 0 | I44: =F44-C44 -> 0 | J44: =SUM(H44:I44) -> 0 | K44: =[1]Оплата!BA42 -> -3013.9429 | L44: =[1]Оплата!Y42 -> 0 | M44: =H44*M$6 -> 0 | N44: =I44*N$6 -> 0 | O44: =SUM(M44:N44) -> 0 | Q44: =K44-O44+L44+P44 -> -3013.9429 | R44: =A44 -> №032
A45: №033 сбыт | K45: =[1]Оплата!BA43 -> 640.014 | L45: =[1]Оплата!Y43 -> 0 | Q45: =K45-O45+L45+P45 -> 640.014 | R45: =A45 -> №033 сбыт
A46: №034 | B46: 1965.37 | C46: 436.79 | D46: 2402.17 | E46: 1965.37 | F46: 436.79 | G46: 2402.17 | H46: =E46-B46 -> 0 | I46: =F46-C46 -> 0 | J46: =SUM(H46:I46) -> 0 | K46: =[1]Оплата!BA44 -> -14.0697 | L46: =[1]Оплата!Y44 -> 0 | M46: =H46*M$6 -> 0 | N46: =I46*N$6 -> 0 | O46: =SUM(M46:N46) -> 0 | Q46: =K46-O46+L46+P46 -> -14.0697 | R46: =A46 -> №034
A47: №035 | B47: 12574.9 | C47: 6302.48 | D47: 18877.4 | E47: 12580.16 | F47: 6302.48 | G47: 18882.66 | H47: =E47-B47 -> 5.26 | I47: =F47-C47 -> 0 | J47: =SUM(H47:I47) -> 5.26 | K47: =[1]Оплата!BA45 -> -2522.0601 | L47: =[1]Оплата!Y45 -> 0 | M47: =H47*M$6 -> 35.8732 | N47: =I47*N$6 -> 0 | O47: =SUM(M47:N47) -> 35.8732 | Q47: =K47-O47+L47+P47 -> -2557.9333 | R47: =A47 -> №035
A48: №036 | B48: 8247.48 | C48: 2497.48 | D48: 10744.97 | E48: 8247.48 | F48: 2497.48 | G48: 10744.97 | H48: =E48-B48 -> 0 | I48: =F48-C48 -> 0 | J48: =SUM(H48:I48) -> 0 | K48: =[1]Оплата!BA46 -> -0.1902 | L48: =[1]Оплата!Y46 -> 0 | M48: =H48*M$6 -> 0 | N48: =I48*N$6 -> 0 | O48: =SUM(M48:N48) -> 0 | Q48: =K48-O48+L48+P48 -> -0.1902 | R48: =A48 -> №036
A49: №037 сбыт | K49: =[1]Оплата!BA47 -> 0.0032 | L49: =[1]Оплата!Y47 -> 0 | Q49: =K49-O49+L49+P49 -> 0.0032 | R49: =A49 -> №037 сбыт
A50: №038 | H50: снят с обслуживаения с 10.12.21 | K50: =[1]Оплата!BA48 -> -290.58998 | L50: =[1]Оплата!Y48 -> 0 | N50: =I50*N$6 -> 0 | O50: =SUM(M50:N50) -> 0 | Q50: =K50-O50+L50+P50 -> -290.58998 | R50: =A50 -> №038
A51: №039 сбыт | K51: =[1]Оплата!BA49 -> -582.5861 | L51: =[1]Оплата!Y49 -> 0 | Q51: =K51-O51+L51+P51 -> -582.5861 | R51: =A51 -> №039 сбыт
A52: №040 | B52: 1372.34 | C52: 2550.53 | D52: 3922.88 | E52: 1372.34 | F52: 2550.53 | G52: 3922.88 | H52: =E52-B52 -> 0 | I52: =F52-C52 -> 0 | J52: =SUM(H52:I52) -> 0 | K52: =[1]Оплата!BA50 -> -0.4882 | L52: =[1]Оплата!Y50 -> 0 | M52: =H52*M$6 -> 0 | N52: =I52*N$6 -> 0 | O52: =SUM(M52:N52) -> 0 | Q52: =K52-O52+L52+P52 -> -0.4882 | R52: =A52 -> №040
A53: №041 | B53: 6283.36 | C53: 3067.37 | D53: 9351.16 | E53: 6283.36 | F53: 3067.37 | G53: 9351.16 | H53: =E53-B53 -> 0 | I53: =F53-C53 -> 0 | J53: =SUM(H53:I53) -> 0 | K53: =[1]Оплата!BA51 -> 79.5642 | L53: =[1]Оплата!Y51 -> 0 | M53: =H53*M$6 -> 0 | N53: =I53*N$6 -> 0 | O53: =SUM(M53:N53) -> 0 | Q53: =K53-O53+L53+P53 -> 79.5642 | R53: =A53 -> №041
A54: №041а сбыт | K54: =[1]Оплата!BA52 -> 3.0036 | L54: =[1]Оплата!Y52 -> 0 | N54: =I54*N$6 -> 0 | Q54: =K54-O54+L54+P54 -> 3.0036 | R54: =A54 -> №041а сбыт
A55: №042 | B55: 6063.34 | C55: 2630.3 | D55: 8693.68 | E55: 6072.38 | F55: 2630.3 | G55: 8702.72 | H55: =E55-B55 -> 9.04 | I55: =F55-C55 -> 0 | J55: =SUM(H55:I55) -> 9.04 | K55: =[1]Оплата!BA53 -> -2.05 | L55: =[1]Оплата!Y53 -> 0 | M55: =H55*M$6 -> 61.6528 | N55: =I55*N$6 -> 0 | O55: =SUM(M55:N55) -> 61.6528 | Q55: =K55-O55+L55+P55 -> -63.7028 | R55: =A55 -> №042
A56: №043\1 | B56: 6789.92 | C56: 2583.53 | D56: 9373.45 | E56: 6846.71 | F56: 2614.09 | G56: 9460.81 | H56: =E56-B56 -> 56.79 | I56: =F56-C56 -> 30.56 | J56: =SUM(H56:I56) -> 87.35 | K56: =[1]Оплата!BA54 -> -5359.2216 | L56: =[1]Оплата!Y54 -> 0 | M56: =H56*M$6 -> 387.3078 | N56: =I56*N$6 -> 80.984 | O56: =SUM(M56:N56) -> 468.2918 | Q56: =K56-O56+L56+P56 -> -5827.5134 | R56: =A56 -> №043\1
A57: №043\2 | B57: 23923.23 | C57: 10993.2 | D57: 34916.43 | E57: 24114.29 | F57: 11092.75 | G57: 35207.05 | H57: =E57-B57 -> 191.06 | I57: =F57-C57 -> 99.55 | J57: =SUM(H57:I57) -> 290.61 | K57: =[1]Оплата!BA55 -> -1372.5908 | L57: =[1]Оплата!Y55 -> 0 | M57: =H57*M$6 -> 1303.0292 | N57: =I57*N$6 -> 263.8075 | O57: =SUM(M57:N57) -> 1566.8367 | Q57: =K57-O57+L57+P57 -> -2939.4275 | R57: =A57 -> №043\2
A58: №044 | B58: 6408.25 | C58: 2930.85 | D58: 9339.1 | E58: 6413.42 | F58: 2930.85 | G58: 9344.27 | H58: =E58-B58 -> 5.17 | I58: =F58-C58 -> 0 | J58: =SUM(H58:I58) -> 5.17 | K58: =[1]Оплата!BA56 -> 285.5815 | L58: =[1]Оплата!Y56 -> 0 | M58: =H58*M$6 -> 35.2594 | N58: =I58*N$6 -> 0 | O58: =SUM(M58:N58) -> 35.2594 | Q58: =K58-O58+L58+P58 -> 250.3221 | R58: =A58 -> №044
A59: №045 не установлен | J59: =SUM(H59:I59) -> 0 | K59: =[1]Оплата!BA57 -> 0 | L59: =[1]Оплата!Y57 -> 0 | Q59: =K59-O59+L59+P59 -> 0 | R59: =A59 -> №045 не установлен
A60: №046 | B60: 9020.75 | C60: 5549.96 | D60: 14570.72 | E60: 9020.94 | F60: 5549.96 | G60: 14570.92 | H60: =E60-B60 -> 0.19 | I60: =F60-C60 -> 0 | J60: =SUM(H60:I60) -> 0.19 | K60: =[1]Оплата!BA58 -> -8757.7946 | L60: =[1]Оплата!Y58 -> 0 | M60: =H60*M$6 -> 1.2958 | N60: =I60*N$6 -> 0 | O60: =SUM(M60:N60) -> 1.2958 | Q60: =K60-O60+L60+P60 -> -8759.0904 | R60: =A60 -> №046
A61: №046а | K61: =[1]Оплата!BA59 -> -1536.4355 | L61: =[1]Оплата!Y59 -> 0 | M61: =H61*M$6 -> 0 | N61: =I61*N$6 -> 0 | O61: =SUM(M61:N61) -> 0 | Q61: =K61-O61+L61+P61 -> -1536.4355 | R61: =A61 -> №046а
A62: №047 | B62: 314.78 | C62: 144.71 | D62: 459.5 | E62: 314.78 | F62: 144.71 | G62: 459.5 | H62: =E62-B62 -> 0 | I62: =F62-C62 -> 0 | J62: =SUM(H62:I62) -> 0 | K62: =[1]Оплата!BA60 -> -2071.5971 | L62: =[1]Оплата!Y60 -> 0 | M62: =H62*M$6 -> 0 | N62: =I62*N$6 -> 0 | O62: =SUM(M62:N62) -> 0 | Q62: =K62-O62+L62+P62 -> -2071.5971 | R62: =A62 -> №047
A63: №048 | B63: 16440.53 | C63: 4669.28 | D63: 21110.05 | E63: 16529.53 | F63: 4719.1 | G63: 21248.88 | H63: =E63-B63 -> 89 | I63: =F63-C63 -> 49.82 | J63: =SUM(H63:I63) -> 138.82 | K63: =[1]Оплата!BA61 -> -561.3194 | L63: =[1]Оплата!Y61 -> 0 | M63: =H63*M$6 -> 606.98 | N63: =I63*N$6 -> 132.023 | O63: =SUM(M63:N63) -> 739.003 | Q63: =K63-O63+L63+P63 -> -1300.3224 | R63: =A63 -> №048
A64: №049 | H64: снят с обслуживаения с 10.12.21 | K64: =[1]Оплата!BA62 -> 86.0162 | L64: =[1]Оплата!Y62 -> 0 | N64: =I64*N$6 -> 0 | O64: =SUM(M64:N64) -> 0 | Q64: =K64-O64+L64+P64 -> 86.0162 | R64: =A64 -> №049
A65: №050 | B65: 13650.33 | C65: 5513.86 | D65: 19164.2 | E65: 13650.57 | F65: 5513.98 | G65: 19164.55 | H65: =E65-B65 -> 0.24 | I65: =F65-C65 -> 0.12 | J65: =SUM(H65:I65) -> 0.36 | K65: =[1]Оплата!BA63 -> -400.9836 | L65: =[1]Оплата!Y63 -> 0 | M65: =H65*M$6 -> 1.6368 | N65: =I65*N$6 -> 0.318 | O65: =SUM(M65:N65) -> 1.9548 | Q65: =K65-O65+L65+P65 -> -402.9384 | R65: =A65 -> №050
A66: №051 | H66: снят с обслуживаения с 10.12.21 | K66: =[1]Оплата!BA64 -> 0.138 | L66: =[1]Оплата!Y64 -> 0 | N66: =I66*N$6 -> 0 | O66: =SUM(M66:N66) -> 0 | Q66: =K66-O66+L66+P66 -> 0.138 | R66: =A66 -> №051
A67: №052 | B67: 7225.08 | C67: 2827.09 | D67: 10052.17 | E67: 7225.08 | F67: 2827.09 | G67: 10052.17 | H67: =E67-B67 -> 0 | I67: =F67-C67 -> 0 | J67: =SUM(H67:I67) -> 0 | K67: =[1]Оплата!BA65 -> -1660.1586 | L67: =[1]Оплата!Y65 -> 0 | M67: =H67*M$6 -> 0 | N67: =I67*N$6 -> 0 | O67: =SUM(M67:N67) -> 0 | Q67: =K67-O67+L67+P67 -> -1660.1586 | R67: =A67 -> №052
A68: №052а | B68: 8921.38 | C68: 2487.47 | D68: 11408.89 | E68: 8997.9 | F68: 2501.86 | G68: 11499.8 | H68: =E68-B68 -> 76.52 | I68: =F68-C68 -> 14.39 | J68: =SUM(H68:I68) -> 90.91 | K68: =[1]Оплата!BA66 -> -2265.6371 | L68: =[1]Оплата!Y66 -> 0 | M68: =H68*M$6 -> 521.8664 | N68: =I68*N$6 -> 38.1335 | O68: =SUM(M68:N68) -> 559.9999 | Q68: =K68-O68+L68+P68 -> -2825.637 | R68: =A68 -> №052а
A69: №053 | B69: 3806.82 | C69: 1870.14 | D69: 5676.97 | E69: 3921.63 | F69: 1933.31 | G69: 5854.95 | H69: =E69-B69 -> 114.81 | I69: =F69-C69 -> 63.17 | J69: =SUM(H69:I69) -> 177.98 | K69: =[1]Оплата!BA67 -> -13277.714 | L69: =[1]Оплата!Y67 -> 0 | M69: =H69*M$6 -> 783.0042 | N69: =I69*N$6 -> 167.4005 | O69: =SUM(M69:N69) -> 950.4047 | Q69: =K69-O69+L69+P69 -> -14228.118 | R69: =A69 -> №053
A70: №054 | B70: 1921.88 | C70: 922.5 | D70: 2844.39 | E70: 1921.88 | F70: 922.5 | G70: 2844.39 | H70: =E70-B70 -> 0 | I70: =F70-C70 -> 0 | J70: =SUM(H70:I70) -> 0 | K70: =[1]Оплата!BA68 -> -2560.3452 | L70: =[1]Оплата!Y68 -> 0 | M70: =H70*M$6 -> 0 | N70: =I70*N$6 -> 0 | O70: =SUM(M70:N70) -> 0 | Q70: =K70-O70+L70+P70 -> -2560.3452 | R70: =A70 -> №054
A71: №055 | K71: =[1]Оплата!BA69 -> 3.7921 | L71: =[1]Оплата!Y69 -> 0 | M71: =H71*M$6 -> 0 | N71: =I71*N$6 -> 0 | O71: =SUM(M71:N71) -> 0 | Q71: =K71-O71+L71+P71 -> 3.7921 | R71: =A71 -> №055
A72: №056 | B72: 7795.27 | C72: 3441.57 | D72: 11236.85 | E72: 7795.27 | F72: 3441.57 | G72: 11236.85 | H72: =E72-B72 -> 0 | I72: =F72-C72 -> 0 | J72: =SUM(H72:I72) -> 0 | K72: =[1]Оплата!BA70 -> 2543.8485 | L72: =[1]Оплата!Y70 -> 0 | M72: =H72*M$6 -> 0 | N72: =I72*N$6 -> 0 | O72: =SUM(M72:N72) -> 0 | Q72: =K72-O72+L72+P72 -> 2543.8485 | R72: =A72 -> №056
A73: №057 | B73: 4084.11 | C73: 4171.03 | D73: 8255.15 | E73: 4084.11 | F73: 4171.03 | G73: 8255.15 | H73: =E73-B73 -> 0 | I73: =F73-C73 -> 0 | J73: =SUM(H73:I73) -> 0 | K73: =[1]Оплата!BA71 -> -1388.9695 | L73: =[1]Оплата!Y71 -> 0 | M73: =H73*M$6 -> 0 | N73: =I73*N$6 -> 0 | O73: =SUM(M73:N73) -> 0 | Q73: =K73-O73+L73+P73 -> -1388.9695 | R73: =A73 -> №057
A74: №058 | B74: 11422.15 | C74: 3751.32 | D74: 15173.48 | E74: 11422.15 | F74: 3751.32 | G74: 15173.48 | H74: =E74-B74 -> 0 | I74: =F74-C74 -> 0 | J74: =SUM(H74:I74) -> 0 | K74: =[1]Оплата!BA72 -> -5.1407 | L74: =[1]Оплата!Y72 -> 0 | M74: =H74*M$6 -> 0 | N74: =I74*N$6 -> 0 | O74: =SUM(M74:N74) -> 0 | Q74: =K74-O74+L74+P74 -> -5.1407 | R74: =A74 -> №058
A75: №059 | B75: 30070.54 | C75: 13512.19 | D75: 43582.74 | E75: 30097.4 | F75: 13526.21 | G75: 43623.62 | H75: =E75-B75 -> 26.86 | I75: =F75-C75 -> 14.02 | J75: =SUM(H75:I75) -> 40.88 | K75: =[1]Оплата!BA73 -> 3660.8069 | L75: =[1]Оплата!Y73 -> 0 | M75: =H75*M$6 -> 183.1852 | N75: =I75*N$6 -> 37.153 | O75: =SUM(M75:N75) -> 220.3382 | Q75: =K75-O75+L75 -> 3440.4687 | R75: =A75 -> №059
A76: №060 | B76: 5579.71 | C76: 2059.16 | D76: 7638.89 | E76: 5691.55 | F76: 2096.48 | G76: 7788.05 | H76: =E76-B76 -> 111.84 | I76: =F76-C76 -> 37.32 | J76: =SUM(H76:I76) -> 149.16 | K76: =[1]Оплата!BA74 -> -4620.3276 | L76: =[1]Оплата!Y74 -> 4700 | M76: =H76*M$6 -> 762.7488 | N76: =I76*N$6 -> 98.898 | O76: =SUM(M76:N76) -> 861.6468 | Q76: =K76-O76+L76 -> -781.9744 | R76: =A76 -> №060
A77: №061 | K77: =[1]Оплата!BA75 -> -9177.93 | L77: =[1]Оплата!Y75 -> 0 | M77: =H77*M$6 -> 0 | N77: =I77*N$6 -> 0 | O77: =SUM(M77:N77) -> 0 | Q77: =K77-O77+L77+P77 -> -9177.93 | R77: =A77 -> №061
A78: №062 | H78: снят с обслуживаения с 10.12.21 | K78: =[1]Оплата!BA76 -> -2270.5523 | L78: =[1]Оплата!Y76 -> 0 | N78: =I78*N$6 -> 0 | O78: =SUM(M78:N78) -> 0 | Q78: =K78-O78+L78+P78 -> -2270.5523 | R78: =A78 -> №062
A79: №062а | K79: =[1]Оплата!BA77 -> 0.005 | L79: =[1]Оплата!Y77 -> 0 | M79: =H79*M$6 -> 0 | N79: =I79*N$6 -> 0 | O79: =SUM(M79:N79) -> 0 | Q79: =K79-O79+L79+P79 -> 0.005 | R79: =A79 -> №062а
A80: №063 | H80: =E80-B80 -> 0 | I80: =F80-C80 -> 0 | J80: =SUM(H80:I80) -> 0 | K80: =[1]Оплата!BA78 -> -40.5486 | L80: =[1]Оплата!Y78 -> 0 | Q80: =K80-O80+L80+P80 -> -40.5486 | R80: =A80 -> №063 | S80: сбыт
A81: №064\1 | B81: 80.84 | C81: 18.54 | D81: 99.4 | E81: 80.84 | F81: 18.54 | G81: 99.4 | H81: =E81-B81 -> 0 | I81: =F81-C81 -> 0 | J81: =SUM(H81:I81) -> 0 | K81: =[1]Оплата!BA79 -> 38417.197 | L81: =[1]Оплата!Y79 -> 0 | M81: =H81*M$6 -> 0 | N81: =I81*N$6 -> 0 | O81: =SUM(M81:N81) -> 0 | Q81: =K81-O81+L81+P81 -> 38417.197 | R81: =A81 -> №064\1
A82: №064\2 | B82: 8456.92 | C82: 3076.16 | D82: 11533.09 | E82: 8456.94 | F82: 3076.18 | G82: 11533.13 | H82: =E82-B82 -> 0.02 | I82: =F82-C82 -> 0.02 | J82: =SUM(H82:I82) -> 0.04 | K82: =[1]Оплата!BA80 -> -31700.027 | L82: =[1]Оплата!Y80 -> 0 | M82: =H82*M$6 -> 0.1364 | N82: =I82*N$6 -> 0.053 | O82: =SUM(M82:N82) -> 0.1894 | Q82: =K82-O82+L82+P82 -> -31700.216 | R82: =A82 -> №064\2
A83: №065 | B83: 40843.24 | C83: 15242.84 | D83: 56086.08 | E83: 40843.24 | F83: 15242.84 | G83: 56086.08 | H83: =E83-B83 -> 0 | I83: =F83-C83 -> 0 | J83: =SUM(H83:I83) -> 0 | K83: =[1]Оплата!BA81 -> 44.4242 | L83: =[1]Оплата!Y81 -> 0 | M83: =H83*M$6 -> 0 | N83: =I83*N$6 -> 0 | O83: =SUM(M83:N83) -> 0 | Q83: =K83-O83+L83+P83 -> 44.4242 | R83: =A83 -> №065
A84: №066 | B84: 15583.92 | C84: 7216.78 | D84: 22800.71 | K84: =[1]Оплата!BA82 -> -0.0022 | L84: =[1]Оплата!Y82 -> 0 | Q84: =K84-O84+L84+P84 -> -0.0022 | R84: =A84 -> №066
A85: №067 | K85: =[1]Оплата!BA83 -> 1145.1726 | L85: =[1]Оплата!Y83 -> 0 | M85: =H85*M$6 -> 0 | N85: =I85*N$6 -> 0 | O85: =SUM(M85:N85) -> 0 | Q85: =K85-O85+L85+P85 -> 1145.1726 | R85: =A85 -> №067
A86: №068 | B86: 8476.04 | C86: 6228.42 | D86: 14704.48 | E86: 8476.04 | F86: 6228.42 | G86: 14704.48 | H86: =E86-B86 -> 0 | I86: =F86-C86 -> 0 | J86: =SUM(H86:I86) -> 0 | K86: =[1]Оплата!BA84 -> -213.6703 | L86: =[1]Оплата!Y84 -> 0 | M86: =H86*M$6 -> 0 | N86: =I86*N$6 -> 0 | O86: =SUM(M86:N86) -> 0 | Q86: =K86-O86+L86+P86 -> -213.6703 | R86: =A86 -> №068
A87: №069 | B87: 2043.78 | C87: 1243.76 | D87: 3287.55 | E87: 2043.78 | F87: 1243.76 | G87: 3287.55 | H87: =E87-B87 -> 0 | I87: =F87-C87 -> 0 | J87: =SUM(H87:I87) -> 0 | K87: =[1]Оплата!BA85 -> -1904.2325 | L87: =[1]Оплата!Y85 -> 0 | M87: =H87*M$6 -> 0 | N87: =I87*N$6 -> 0 | O87: =SUM(M87:N87) -> 0 | Q87: =K87-O87+L87+P87 -> -1904.2325 | R87: =A87 -> №069
A88: №070 | B88: 6574.56 | C88: 3211.53 | D88: 9786.1 | E88: 6574.61 | F88: 3211.59 | G88: 9786.21 | H88: =E88-B88 -> 0.05 | I88: =F88-C88 -> 0.06 | J88: =SUM(H88:I88) -> 0.11 | K88: =[1]Оплата!BA86 -> -440.309 | L88: =[1]Оплата!Y86 -> 0 | M88: =H88*M$6 -> 0.341 | N88: =I88*N$6 -> 0.159 | O88: =SUM(M88:N88) -> 0.5 | Q88: =K88-O88+L88+P88 -> -440.809 | R88: =A88 -> №070
A89: №071 | B89: 1635.45 | C89: 777.26 | D89: 2412.73 | E89: 1635.45 | F89: 777.26 | G89: 2412.73 | H89: =E89-B89 -> 0 | I89: =F89-C89 -> 0 | J89: =SUM(H89:I89) -> 0 | K89: =[1]Оплата!BA87 -> 1342.71 | L89: =[1]Оплата!Y87 -> 0 | M89: =H89*M$6 -> 0 | N89: =I89*N$6 -> 0 | O89: =SUM(M89:N89) -> 0 | Q89: =K89-O89+L89+P89 -> 1342.71 | R89: =A89 -> №071
A90: №072 | H90: снят с обслуживаения с 10.12.21 | K90: =[1]Оплата!BA88 -> 290.716 | L90: =[1]Оплата!Y88 -> 0 | N90: =I90*N$6 -> 0 | O90: =SUM(M90:N90) -> 0 | Q90: =K90-O90+L90+P90 -> 290.716 | R90: =A90 -> №072
A91: №073 | B91: 5940.57 | C91: 1979.57 | D91: 7920.14 | E91: 5940.58 | F91: 1979.57 | G91: 7920.15 | H91: =E91-B91 -> 0.01 | I91: =F91-C91 -> 0 | J91: =SUM(H91:I91) -> 0.01 | K91: =[1]Оплата!BA89 -> 2372.6309 | L91: =[1]Оплата!Y89 -> 0 | M91: =H91*M$6 -> 0.0682 | N91: =I91*N$6 -> 0 | O91: =SUM(M91:N91) -> 0.0682 | Q91: =K91-O91+L91+P91 -> 2372.5627 | R91: =A91 -> №073
A92: №074 | K92: =[1]Оплата!BA90 -> 0.1541 | L92: =[1]Оплата!Y90 -> 0 | M92: =H92*M$6 -> 0 | N92: =I92*N$6 -> 0 | O92: =SUM(M92:N92) -> 0 | Q92: =K92-O92+L92+P92 -> 0.1541 | R92: =A92 -> №074
A93: №075 | B93: 1625.04 | C93: 630.91 | D93: 2255.97 | E93: 1625.04 | F93: 630.91 | G93: 2255.97 | H93: =E93-B93 -> 0 | I93: =F93-C93 -> 0 | J93: =SUM(H93:I93) -> 0 | K93: =[1]Оплата!BA91 -> -1407.6364 | L93: =[1]Оплата!Y91 -> 0 | M93: =H93*M$6 -> 0 | N93: =I93*N$6 -> 0 | O93: =SUM(M93:N93) -> 0 | Q93: =K93-O93+L93+P93 -> -1407.6364 | R93: =A93 -> №075
A94: №076 | B94: 43327.433 | C94: 36003.98 | D94: 79331.413 | E94: 43849.707 | F94: 36884.087 | G94: 80733.794 | H94: =E94-B94 -> 522.274 | I94: =F94-C94 -> 880.107 | J94: =SUM(H94:I94) -> 1402.381 | K94: =[1]Оплата!BA92 -> -6598.3592 | L94: =[1]Оплата!Y92 -> 9200 | M94: =H94*M$6 -> 3561.9087 | N94: =I94*N$6 -> 2332.2835 | O94: =SUM(M94:N94) -> 5894.1922 | Q94: =K94-O94+L94+P94 -> -3292.5514 | R94: =A94 -> №076
A95: №077 | B95: 3850 | C95: 790.59 | D95: 4640.6 | E95: 3850 | F95: 790.59 | G95: 4640.6 | H95: =E95-B95 -> 0 | I95: =F95-C95 -> 0 | J95: =SUM(H95:I95) -> 0 | K95: =[1]Оплата!BA93 -> -4467.5277 | L95: =[1]Оплата!Y93 -> 0 | M95: =H95*M$6 -> 0 | N95: =I95*N$6 -> 0 | O95: =SUM(M95:N95) -> 0 | Q95: =K95-O95+L95+P95 -> -4467.5277 | R95: =A95 -> №077
A96: №078 | B96: 7734.25 | C96: 17099.82 | D96: 24834.16 | E96: 7739.33 | F96: 17102.4 | G96: 24841.82 | H96: =E96-B96 -> 5.08 | I96: =F96-C96 -> 2.58 | J96: =SUM(H96:I96) -> 7.66 | K96: =[1]Оплата!BA94 -> -346.414 | L96: =[1]Оплата!Y94 -> 0 | M96: =H96*M$6 -> 34.6456 | N96: =I96*N$6 -> 6.837 | O96: =SUM(M96:N96) -> 41.4826 | Q96: =K96-O96+L96+P96 -> -387.8966 | R96: =A96 -> №078
A97: №079 | B97: 3734.44 | C97: 708.24 | D97: 4442.72 | E97: 3734.44 | F97: 708.24 | G97: 4442.72 | H97: =E97-B97 -> 0 | I97: =F97-C97 -> 0 | J97: =SUM(H97:I97) -> 0 | K97: =[1]Оплата!BA95 -> -2637.8452 | L97: =[1]Оплата!Y95 -> 0 | M97: =H97*M$6 -> 0 | N97: =I97*N$6 -> 0 | O97: =SUM(M97:N97) -> 0 | Q97: =K97-O97+L97+P97 -> -2637.8452 | R97: =A97 -> №079
A98: №080 | B98: 6846.07 | C98: 3491.66 | D98: 10337.78 | E98: 6846.07 | F98: 3491.67 | G98: 10337.79 | H98: =E98-B98 -> 0 | I98: =F98-C98 -> 0.01 | J98: =SUM(H98:I98) -> 0.01 | K98: =[1]Оплата!BA96 -> -2060.5122 | L98: =[1]Оплата!Y96 -> 0 | Q98: =K98-O98+L98+P98 -> -2060.5122 | R98: =A98 -> №080
A99: №081 | B99: 2142.63 | C99: 1278.93 | D99: 3421.56 | E99: 2142.67 | F99: 1278.97 | G99: 3421.64 | H99: =E99-B99 -> 0.04 | I99: =F99-C99 -> 0.04 | J99: =SUM(H99:I99) -> 0.08 | K99: =[1]Оплата!BA97 -> -1337.5835 | L99: =[1]Оплата!Y97 -> 0 | M99: =H99*M$6 -> 0.2728 | N99: =I99*N$6 -> 0.106 | O99: =SUM(M99:N99) -> 0.3788 | Q99: =K99-O99+L99+P99 -> -1337.9623 | R99: =A99 -> №081
A100: №082/1 | B100: 385.39 | C100: 181.46 | D100: 566.86 | E100: 385.41 | F100: 181.48 | G100: 566.9 | H100: =E100-B100 -> 0.02 | I100: =F100-C100 -> 0.02 | J100: =SUM(H100:I100) -> 0.04 | K100: =[1]Оплата!BA98 -> 6963.4107 | L100: =[1]Оплата!Y98 -> 0 | M100: =H100*M$6 -> 0.1364 | N100: =I100*N$6 -> 0.053 | O100: =SUM(M100:N100) -> 0.1894 | Q100: =K100-O100+L100+P100 -> 6963.2213 | R100: =A100 -> №082/1
A101: №082/2 | B101: 17661.63 | C101: 6324.77 | D101: 23986.41 | E101: 17661.63 | F101: 6324.77 | G101: 23986.41 | H101: =E101-B101 -> 0 | I101: =F101-C101 -> 0 | J101: =SUM(H101:I101) -> 0 | K101: =[1]Оплата!BA99 -> -7473.1689 | L101: =[1]Оплата!Y99 -> 0 | M101: =H101*M$6 -> 0 | N101: =I101*N$6 -> 0 | O101: =SUM(M101:N101) -> 0 | Q101: =K101-O101+L101+P101 -> -7473.1689 | R101: =A101 -> №082/2
...

Sheet Лист2

Sheet Лист3
