Workbook

Sheet Лист1
B1: =SUM(B10:B307) -> 1976028.8 | C1: =SUM(C10:C307) -> 1038029.2 | D1: =SUM(D10:D307) -> 3028022.8 | E1: =SUM(E10:E307) -> 1993450.3 | F1: =SUM(F10:F307) -> 1047621.6 | G1: =SUM(G10:G307) -> 3055896.8 | H1: =SUM(H10:H307) -> 17421.025 | I1: =SUM(I10:I307) -> 9592.361 | J1: =SUM(J10:J307) -> 27013.386 | K1: =SUM(K10:K308) -> -440368.33 | L1: =[1]Оплата!AG2 -> 246226.4 | M1: =SUM(M10:M319) -> 124671.75 | N1: =SUM(N10:N319) -> 26406.272 | O1: =SUM(O10:O308) -> 151078.02 | P1: =SUM(P10:P308) -> 0 | R1: =SUM(R10:R308) -> -333819.95
K2: =[1]Оплата!BI2 -> -440368.33 | L2: =[1]Оплата!AG2 -> 246226.4 | O2: =[1]Оплата!R1 -> 151078.02 | P2: =[1]Оплата!Q1 -> 224810.39 | R2: =[1]Оплата!BJ2 -> -326973.49 | S2: =R1-R2 -> -6846.4627
U3: СНЯТЫЕ С ОБСЛУЖИВАНИЯ БУДУТ ОТКЛЮЧЕНЫ ОТ ЭНЕРГОСНАБЖЕНИЯ СНТ
U4: Все садоводы, оформившие договора с Энергосбытом, передайте их копии бухгалтеру
D6: РАСЧЕТ ЭЛЕКТРОЭНЕРГИИ ПО ПОТРЕБИТЕЛЯМ | L6: ТАРИФ | M6: =[1]запросы!C4 -> 6.82 | N6: =[1]запросы!D4 -> 2.65
A7: НОЯБРЬ | B7: 44493 | C7: 44463 | E7: 44525 | F7: 44493 | H7: За период | K7: Остаток средств на | L7: Оплата | M7: Сумма начислений | P7: Перерас- | R7: Задолженность ( - )
A8: 2021 | B8: КВТ | E8: КВТ | H8: КВТ | M8: руб. | P8: чет | Q8: Пересчет
A9: Код_ | B9: АктЭн_M | C9: АктЭн_L | D9: СуммАктЭн | E9: АктЭн_M | F9: АктЭн_L | G9: СуммАктЭн | H9: АктЭн_M | I9: АктЭн_L | J9: Всего | K9: 44493 | L9: 44525 | M9: День | N9: Ночь | O9: Всего | P9: руб | R9: =C7 -> 44463 | S9: Код | X9: СНЯТЫЕ С ОБСЛУЖИВАНИЯ БУДУТ ОТКЛЮЧЕНЫ ОТ ЭНЕРГОСНАБЖЕНИЯ СНТ
A10: №002 | B10: 4058.65 | C10: 2072.27 | D10: 6131.05 | E10: 4093.51 | F10: 2072.28 | G10: 6165.92 | H10: =E10-B10 -> 34.86 | I10: =F10-C10 -> 0.01 | J10: =SUM(H10:I10) -> 34.87 | K10: =[1]Оплата!BI8 -> -491.1531 | L10: =[1]Оплата!AG8 -> 0 | M10: =H10*M$6 -> 237.7452 | N10: =I10*N$6 -> 0.0265 | O10: =SUM(M10:N10) -> 237.7717 | R10: =K10-O10+L10+P10 -> -728.9248 | S10: =A10 -> №002 | X10: Все садоводы, оформившие договора с Энергосбытом, передайте их копии бухгалтеру
A11: №003 | B11: 4384.98 | C11: 5456.72 | D11: 9841.83 | E11: 4385.02 | F11: 5456.73 | G11: 9841.88 | H11: =E11-B11 -> 0.04 | I11: =F11-C11 -> 0.01 | J11: =SUM(H11:I11) -> 0.05 | K11: =[1]Оплата!BI9 -> 3312.8162 | L11: =[1]Оплата!AG9 -> 0 | M11: =H11*M$6 -> 0.2728 | N11: =I11*N$6 -> 0.0265 | O11: =SUM(M11:N11) -> 0.2993 | R11: =K11-O11+L11+P11 -> 3312.5169 | S11: =A11 -> №003
A12: №004 | B12: 6573.68 | C12: 2498.58 | D12: 9072.27 | E12: 6590.72 | F12: 2506.14 | G12: 9096.87 | H12: =E12-B12 -> 17.04 | I12: =F12-C12 -> 7.56 | J12: =SUM(H12:I12) -> 24.6 | K12: =[1]Оплата!BI10 -> -2139.0698 | L12: =[1]Оплата!AG10 -> 0 | M12: =H12*M$6 -> 116.2128 | N12: =I12*N$6 -> 20.034 | O12: =SUM(M12:N12) -> 136.2468 | R12: =K12-O12+L12+P12 -> -2275.3166 | S12: =A12 -> №004
A13: №005 | B13: 924.34 | C13: 1415.61 | D13: 2340.09 | E13: 924.34 | F13: 1415.61 | G13: 2340.09 | H13: =E13-B13 -> 0 | I13: =F13-C13 -> 0 | J13: =SUM(H13:I13) -> 0 | K13: =[1]Оплата!BI11 -> 4.6962 | L13: =[1]Оплата!AG11 -> 0 | M13: =H13*M$6 -> 0 | N13: =I13*N$6 -> 0 | O13: =SUM(M13:N13) -> 0 | R13: =K13-O13+L13+P13 -> 4.6962 | S13: =A13 -> №005
A14: №006 | B14: 3304.58 | C14: 1611.72 | D14: 4916.31 | E14: 3304.58 | F14: 1611.72 | G14: 4916.31 | H14: =E14-B14 -> 0 | I14: =F14-C14 -> 0 | J14: =SUM(H14:I14) -> 0 | K14: =[1]Оплата!BI12 -> -424.3159 | L14: =[1]Оплата!AG12 -> 0 | M14: =H14*M$6 -> 0 | N14: =I14*N$6 -> 0 | O14: =SUM(M14:N14) -> 0 | R14: =K14-O14+L14+P14 -> -424.3159 | S14: =A14 -> №006
A15: №007 | B15: 4430.99 | C15: 2543.61 | D15: 6974.65 | E15: 4431.02 | F15: 2543.61 | G15: 6974.68 | H15: =E15-B15 -> 0.03 | I15: =F15-C15 -> 0 | J15: =SUM(H15:I15) -> 0.03 | K15: =[1]Оплата!BI13 -> -4432.8022 | L15: =[1]Оплата!AG13 -> 0 | M15: =H15*M$6 -> 0.2046 | N15: =I15*N$6 -> 0 | O15: =SUM(M15:N15) -> 0.2046 | R15: =K15-O15+L15+P15 -> -4433.0068 | S15: =A15 -> №007
A16: №008 | B16: 3320.68 | C16: 689.4 | D16: 4010.09 | E16: 3321.11 | F16: 689.4 | G16: 4010.52 | H16: =E16-B16 -> 0.43 | I16: =F16-C16 -> 0 | J16: =SUM(H16:I16) -> 0.43 | K16: =[1]Оплата!BI14 -> -3.6138 | L16: =[1]Оплата!AG14 -> 3.61 | M16: =H16*M$6 -> 2.9326 | N16: =I16*N$6 -> 0 | O16: =SUM(M16:N16) -> 2.9326 | R16: =K16-O16+L16+P16 -> -2.9364 | S16: =A16 -> №008
A17: №009 сбыт | H17: снят с обслуживаения с 10.12.21 | K17: =[1]Оплата!BI15 -> 153.4953 | L17: =[1]Оплата!AG15 -> 0 | R17: =K17-O17+L17 -> 153.4953 | S17: =A17 -> №009 сбыт
A18: №009а | B18: 6055.57 | C18: 3361.63 | D18: 9417.23 | E18: 6055.57 | F18: 3361.63 | G18: 9417.23 | H18: снят с обслуживаения с 10.12.21 | K18: =[1]Оплата!BI16 -> 2304.6133 | L18: =[1]Оплата!AG16 -> 0 | R18: =K18-O18+L18+P18 -> 2304.6133 | S18: =A18 -> №009а
A19: №010 | B19: 1719.55 | C19: 817.17 | D19: 2536.75 | E19: 1719.55 | F19: 817.17 | G19: 2536.75 | H19: снят с обслуживаения с 10.12.21 | K19: =[1]Оплата!BI17 -> 3302.4163 | L19: =[1]Оплата!AG17 -> 0 | R19: =K19-O19+L19+P19 -> 3302.4163 | S19: =A19 -> №010
A20: №011 | B20: 3808.57 | C20: 831.4 | D20: 4639.99 | E20: 3810.77 | F20: 832.33 | G20: 4643.12 | H20: =E20-B20 -> 2.2 | I20: =F20-C20 -> 0.93 | J20: =SUM(H20:I20) -> 3.13 | K20: =[1]Оплата!BI18 -> -2536.5201 | L20: =[1]Оплата!AG18 -> 3000 | M20: =H20*M$6 -> 15.004 | N20: =I20*N$6 -> 2.4645 | O20: =SUM(M20:N20) -> 17.4685 | R20: =K20-O20+L20+P20 -> 446.0114 | S20: =A20 -> №011
A21: №012 | B21: 879.88 | C21: 222.51 | D21: 1102.39 | E21: 892.69 | F21: 228.46 | G21: 1121.15 | H21: =E21-B21 -> 12.81 | I21: =F21-C21 -> 5.95 | J21: =SUM(H21:I21) -> 18.76 | K21: =[1]Оплата!BI19 -> -2319.3756 | L21: =[1]Оплата!AG19 -> 0 | M21: =H21*M$6 -> 87.3642 | N21: =I21*N$6 -> 15.7675 | O21: =SUM(M21:N21) -> 103.1317 | R21: =K21-O21+L21+P21 -> -2422.5073 | S21: =A21 -> №012
E22: СНЯТЫЕ С ОБСЛУЖИВАНИЯ БУДУТ ОТКЛЮЧЕНЫ ОТ ЭНЕРГОСНАБЖЕНИЯ СНТ
E23: Все садоводы, оформившие договора с Энергосбытом, передайте их копии бухгалтеру
A24: №012а | K24: =[1]Оплата!BI20 -> 5.2041 | L24: =[1]Оплата!AG20 -> 0 | M24: =H24*M$6 -> 0 | N24: =I24*N$6 -> 0 | O24: =SUM(M24:N24) -> 0 | R24: =K24-O24+L24+P24 -> 5.2041 | S24: =A24 -> №012а
A25: №013 | B25: 12888.06 | C25: 3419.98 | D25: 16308.05 | E25: 12890.52 | F25: 3421.09 | G25: 16311.61 | H25: =E25-B25 -> 2.46 | I25: =F25-C25 -> 1.11 | J25: =SUM(H25:I25) -> 3.57 | K25: =[1]Оплата!BI21 -> -2520.0665 | L25: =[1]Оплата!AG21 -> 0 | M25: =H25*M$6 -> 16.7772 | N25: =I25*N$6 -> 2.9415 | O25: =SUM(M25:N25) -> 19.7187 | R25: =K25-O25+L25+P25 -> -2539.7852 | S25: =A25 -> №013
A26: №014 | B26: 4196.85 | C26: 8042.21 | D26: 12239.11 | E26: 4196.85 | F26: 8042.21 | G26: 12239.11 | H26: =E26-B26 -> 0 | I26: =F26-C26 -> 0 | J26: =SUM(H26:I26) -> 0 | K26: =[1]Оплата!BI22 -> -3462.8685 | L26: =[1]Оплата!AG22 -> 0 | M26: =H26*M$6 -> 0 | N26: =I26*N$6 -> 0 | O26: =SUM(M26:N26) -> 0 | R26: =K26-O26+L26+P26 -> -3462.8685 | S26: =A26 -> №014
A27: №015 | B27: 3871.92 | C27: 2069.95 | D27: 5941.88 | E27: 3871.92 | F27: 2069.95 | G27: 5941.88 | H27: =E27-B27 -> 0 | I27: =F27-C27 -> 0 | J27: =SUM(H27:I27) -> 0 | K27: =[1]Оплата!BI23 -> -2622.3759 | L27: =[1]Оплата!AG23 -> 2623 | M27: =H27*M$6 -> 0 | N27: =I27*N$6 -> 0 | O27: =SUM(M27:N27) -> 0 | R27: =K27-O27+L27+P27 -> 0.6241 | S27: =A27 -> №015
A28: №016\17 | B28: 7046.8 | C28: 6834.42 | D28: 13881.23 | E28: 7046.8 | F28: 6834.42 | G28: 13881.23 | H28: =E28-B28 -> 0 | I28: =F28-C28 -> 0 | J28: =SUM(H28:I28) -> 0 | K28: =[1]Оплата!BI24 -> -471.8792 | L28: =[1]Оплата!AG24 -> 0 | M28: =H28*M$6 -> 0 | N28: =I28*N$6 -> 0 | O28: =SUM(M28:N28) -> 0 | R28: =K28-O28+L28+P28 -> -471.8792 | S28: =A28 -> №016\17
A29: №018 | B29: 4412.23 | C29: 1591.11 | D29: 6003.36 | E29: 4466 | F29: 1622.38 | G29: 6088.4 | H29: =E29-B29 -> 53.77 | I29: =F29-C29 -> 31.27 | J29: =SUM(H29:I29) -> 85.04 | K29: =[1]Оплата!BI25 -> -4050.5936 | L29: =[1]Оплата!AG25 -> 0 | M29: =H29*M$6 -> 366.7114 | N29: =I29*N$6 -> 82.8655 | O29: =SUM(M29:N29) -> 449.5769 | R29: =K29-O29+L29+P29 -> -4500.1705 | S29: =A29 -> №018
A30: №019 | B30: 6644.63 | C30: 3975.4 | D30: 10620.09 | E30: 6644.63 | F30: 3975.4 | G30: 10620.09 | H30: снят с обслуживаения с 10.12.21 | K30: =[1]Оплата!BI26 -> -20720.601 | L30: =[1]Оплата!AG26 -> 0 | N30: =I30*N$6 -> 0 | O30: =SUM(M30:N30) -> 0 | R30: =K30-O30+L30+P30 -> -20720.601 | S30: =A30 -> №019
A31: №020 | B31: 6312.16 | C31: 2855.54 | D31: 9168.35 | E31: 6342.42 | F31: 2857.81 | G31: 9200.88 | H31: =E31-B31 -> 30.26 | I31: =F31-C31 -> 2.27 | J31: =SUM(H31:I31) -> 32.53 | K31: =[1]Оплата!BI27 -> -110.2014 | L31: =[1]Оплата!AG27 -> 0 | M31: =H31*M$6 -> 206.3732 | N31: =I31*N$6 -> 6.0155 | O31: =SUM(M31:N31) -> 212.3887 | R31: =K31-O31+L31+P31 -> -322.5901 | S31: =A31 -> №020
A32: №021\1 | B32: 452.45 | C32: 371.57 | D32: 824.02 | E32: 468.65 | F32: 379.1 | G32: 847.76 | H32: =E32-B32 -> 16.2 | I32: =F32-C32 -> 7.53 | J32: =SUM(H32:I32) -> 23.73 | K32: =[1]Оплата!BI28 -> 3418.3481 | L32: =[1]Оплата!AG28 -> 0 | M32: =H32*M$6 -> 110.484 | N32: =I32*N$6 -> 19.9545 | O32: =SUM(M32:N32) -> 130.4385 | R32: =K32-O32+L32+P32 -> 3287.9096 | S32: =A32 -> №021\1
A33: №021\2 | B33: 1820.98 | C33: 895.04 | D33: 2716.04 | E33: 1833.33 | F33: 899.48 | G33: 2732.81 | H33: =E33-B33 -> 12.35 | I33: =F33-C33 -> 4.44 | J33: =SUM(H33:I33) -> 16.79 | K33: =[1]Оплата!BI29 -> -6710.6331 | L33: =[1]Оплата!AG29 -> 1000 | M33: =H33*M$6 -> 84.227 | N33: =I33*N$6 -> 11.766 | O33: =SUM(M33:N33) -> 95.993 | R33: =K33-O33+L33+P33 -> -5806.6261 | S33: =A33 -> №021\2
A34: №022 | B34: 3745.07 | C34: 1583.45 | D34: 5328.53 | E34: 3745.07 | F34: 1583.45 | G34: 5328.53 | H34: снят с обслуживаения с 10.12.21 | K34: =[1]Оплата!BI30 -> 46.1805 | L34: =[1]Оплата!AG30 -> 0 | N34: =I34*N$6 -> 0 | O34: =SUM(M34:N34) -> 0 | R34: =K34-O34+L34+P34 -> 46.1805 | S34: =A34 -> №022
A35: №022а | B35: 2083.8 | C35: 929.15 | D35: 3012.96 | E35: 2118.15 | F35: 954.63 | G35: 3072.8 | H35: =E35-B35 -> 34.35 | I35: =F35-C35 -> 25.48 | J35: =SUM(H35:I35) -> 59.83 | K35: =[1]Оплата!BI31 -> 2893.7852 | L35: =[1]Оплата!AG31 -> 0 | M35: =H35*M$6 -> 234.267 | N35: =I35*N$6 -> 67.522 | O35: =SUM(M35:N35) -> 301.789 | R35: =K35-O35+L35+P35 -> 2591.9962 | S35: =A35 -> №022а
A36: №023 | H36: =E36-B36 -> 0 | I36: =F36-C36 -> 0 | J36: =SUM(H36:I36) -> 0 | K36: =[1]Оплата!BI32 -> -3.358 | L36: =[1]Оплата!AG32 -> 0 | M36: =H36*M$6 -> 0 | N36: =I36*N$6 -> 0 | O36: =SUM(M36:N36) -> 0 | R36: =K36-O36+L36+P36 -> -3.358 | S36: =A36 -> №023
A37: №024 | B37: 645.68 | C37: 357.45 | D37: 1003.14 | E37: 683.28 | F37: 370.28 | G37: 1053.56 | H37: =E37-B37 -> 37.6 | I37: =F37-C37 -> 12.83 | J37: =SUM(H37:I37) -> 50.43 | K37: =[1]Оплата!BI33 -> -664.2344 | L37: =[1]Оплата!AG33 -> 0 | M37: =H37*M$6 -> 256.432 | N37: =I37*N$6 -> 33.9995 | O37: =SUM(M37:N37) -> 290.4315 | R37: =K37-O37+L37+P37 -> -954.6659 | S37: =A37 -> №024
A38: №025 | B38: 10371.29 | C38: 5685.08 | D38: 16056.39 | E38: 10442.69 | F38: 5719.31 | G38: 16162.01 | H38: =E38-B38 -> 71.4 | I38: =F38-C38 -> 34.23 | J38: =SUM(H38:I38) -> 105.63 | K38: =[1]Оплата!BI34 -> -8043.6371 | L38: =[1]Оплата!AG34 -> 8043.64 | M38: =H38*M$6 -> 486.948 | N38: =I38*N$6 -> 90.7095 | O38: =SUM(M38:N38) -> 577.6575 | R38: =K38-O38+L38+P38 -> -577.6546 | S38: =A38 -> №025
A39: №026 | B39: 4095.65 | C39: 2124.91 | D39: 6220.57 | E39: 4147.58 | F39: 2148.59 | G39: 6296.17 | H39: =E39-B39 -> 51.93 | I39: =F39-C39 -> 23.68 | J39: =SUM(H39:I39) -> 75.61 | K39: =[1]Оплата!BI35 -> 11612.519 | L39: =[1]Оплата!AG35 -> 0 | M39: =H39*M$6 -> 354.1626 | N39: =I39*N$6 -> 62.752 | O39: =SUM(M39:N39) -> 416.9146 | R39: =K39-O39+L39+P39 -> 11195.605 | S39: =A39 -> №026
A40: №027 | B40: 4461.52 | C40: 2606.67 | D40: 7068.27 | E40: 4461.85 | F40: 2606.75 | G40: 7068.67 | H40: =E40-B40 -> 0.33 | I40: =F40-C40 -> 0.08 | J40: =SUM(H40:I40) -> 0.41 | K40: =[1]Оплата!BI36 -> 369.7064 | L40: =[1]Оплата!AG36 -> 0 | M40: =H40*M$6 -> 2.2506 | N40: =I40*N$6 -> 0.212 | O40: =SUM(M40:N40) -> 2.4626 | R40: =K40-O40+L40+P40 -> 367.2438 | S40: =A40 -> №027
A41: №028 | H41: =E41-B41 -> 0 | I41: =F41-C41 -> 0 | J41: =SUM(H41:I41) -> 0 | K41: =[1]Оплата!BI37 -> -4.3548 | L41: =[1]Оплата!AG37 -> 0 | M41: =H41*M$6 -> 0 | N41: =I41*N$6 -> 0 | O41: =SUM(M41:N41) -> 0 | R41: =K41-O41+L41+P41 -> -4.3548 | S41: =A41 -> №028
...

Sheet Лист2

Sheet Лист3
