Workbook

Sheet Лист1
B1: =SUM(B10:B307) -> 1976028.8 | C1: =SUM(C10:C307) -> 1038029.2 | D1: =SUM(D10:D307) -> 3028022.8 | E1: =SUM(E10:E307) -> 1993450.3 | F1: =SUM(F10:F307) -> 1047621.6 | G1: =SUM(G10:G307) -> 3055896.8 | H1: =SUM(H10:H307) -> 17421.025 | I1: =SUM(I10:I307) -> 9592.361 | J1: =SUM(J10:J307) -> 27013.386 | K1: =SUM(K10:K308) -> -440368.33 | L1: =[1]Оплата!AG2 -> 246226.4 | M1: =SUM(M10:M319) -> 124671.75 | N1: =SUM(N10:N319) -> 26406.272 | O1: =SUM(O10:O308) -> 151078.02 | P1: =SUM(P10:P308) -> 0 | R1: =SUM(R10:R308) -> -333819.95
K2: =[1]Оплата!BI2 -> -440368.33 | L2: =[1]Оплата!AG2 -> 246226.4 | O2: =[1]Оплата!R1 -> 151078.02 | P2: =[1]Оплата!Q1 -> 224810.39 | R2: =[1]Оплата!BJ2 -> -326973.49 | S2: =R1-R2 -> -6846.4627
U3: СНЯТЫЕ С ОБСЛУЖИВАНИЯ БУДУТ ОТКЛЮЧЕНЫ ОТ ЭНЕРГОСНАБЖЕНИЯ СНТ
U4: Все садоводы, оформившие договора с Энергосбытом, передайте их копии бухгалтеру
D6: РАСЧЕТ ЭЛЕКТРОЭНЕРГИИ ПО ПОТРЕБИТЕЛЯМ | L6: ТАРИФ | M6: =[1]запросы!C4 -> 6.82 | N6: =[1]запросы!D4 -> 2.65
A7: НОЯБРЬ | B7: 44493 | C7: 44463 | E7: 44525 | F7: 44493 | H7: За период | K7: Остаток средств на | L7: Оплата | M7: Сумма начислений | P7: Перерас- | R7: Задолженность ( - )
A8: 2021 | B8: КВТ | E8: КВТ | H8: КВТ | M8: руб. | P8: чет | Q8: Пересчет
A9: Код_ | B9: АктЭн_M | C9: АктЭн_L | D9: СуммАктЭн | E9: АктЭн_M | F9: АктЭн_L | G9: СуммАктЭн | H9: АктЭн_M | I9: АктЭн_L | J9: Всего | K9: 44493 | L9: 44525 | M9: День | N9: Ночь | O9: Всего | P9: руб | R9: =C7 -> 44463 | S9: Код | X9: СНЯТЫЕ С ОБСЛУЖИВАНИЯ БУДУТ ОТКЛЮЧЕНЫ ОТ ЭНЕРГОСНАБЖЕНИЯ СНТ
A10: №002 | B10: 4058.65 | C10: 2072.27 | D10: 6131.05 | E10: 4093.51 | F10: 2072.28 | G10: 6165.92 | H10: =E10-B10 -> 34.86 | I10: =F10-C10 -> 0.01 | J10: =SUM(H10:I10) -> 34.87 | K10: =[1]Оплата!BI8 -> -491.1531 | L10: =[1]Оплата!AG8 -> 0 | M10: =H10*M$6 -> 237.7452 | N10: =I10*N$6 -> 0.0265 | O10: =SUM(M10:N10) -> 237.7717 | R10: =K10-O10+L10+P10 -> -728.9248 | S10: =A10 -> №002 | X10: Все садоводы, оформившие договора с Энергосбытом, передайте их копии бухгалтеру
A11: №003 | B11: 4384.98 | C11: 5456.72 | D11: 9841.83 | E11: 4385.02 | F11: 5456.73 | G11: 9841.88 | H11: =E11-B11 -> 0.04 | I11: =F11-C11 -> 0.01 | J11: =SUM(H11:I11) -> 0.05 | K11: =[1]Оплата!BI9 -> 3312.8162 | L11: =[1]Оплата!AG9 -> 0 | M11: =H11*M$6 -> 0.2728 | N11: =I11*N$6 -> 0.0265 | O11: =SUM(M11:N11) -> 0.2993 | R11: =K11-O11+L11+P11 -> 3312.5169 | S11: =A11 -> №003
A12: №004 | B12: 6573.68 | C12: 2498.58 | D12: 9072.27 | E12: 6590.72 | F12: 2506.14 | G12: 9096.87 | H12: =E12-B12 -> 17.04 | I12: =F12-C12 -> 7.56 | J12: =SUM(H12:I12) -> 24.6 | K12: =[1]Оплата!BI10 -> -2139.0698 | L12: =[1]Оплата!AG10 -> 0 | M12: =H12*M$6 -> 116.2128 | N12: =I12*N$6 -> 20.034 | O12: =SUM(M12:N12) -> 136.2468 | R12: =K12-O12+L12+P12 -> -2275.3166 | S12: =A12 -> №004
A13: №005 | B13: 924.34 | C13: 1415.61 | D13: 2340.09 | E13: 924.34 | F13: 1415.61 | G13: 2340.09 | H13: =E13-B13 -> 0 | I13: =F13-C13 -> 0 | J13: =SUM(H13:I13) -> 0 | K13: =[1]Оплата!BI11 -> 4.6962 | L13: =[1]Оплата!AG11 -> 0 | M13: =H13*M$6 -> 0 | N13: =I13*N$6 -> 0 | O13: =SUM(M13:N13) -> 0 | R13: =K13-O13+L13+P13 -> 4.6962 | S13: =A13 -> №005
A14: №006 | B14: 3304.58 | C14: 1611.72 | D14: 4916.31 | E14: 3304.58 | F14: 1611.72 | G14: 4916.31 | H14: =E14-B14 -> 0 | I14: =F14-C14 -> 0 | J14: =SUM(H14:I14) -> 0 | K14: =[1]Оплата!BI12 -> -424.3159 | L14: =[1]Оплата!AG12 -> 0 | M14: =H14*M$6 -> 0 | N14: =I14*N$6 -> 0 | O14: =SUM(M14:N14) -> 0 | R14: =K14-O14+L14+P14 -> -424.3159 | S14: =A14 -> №006
A15: №007 | B15: 4430.99 | C15: 2543.61 | D15: 6974.65 | E15: 4431.02 | F15: 2543.61 | G15: 6974.68 | H15: =E15-B15 -> 0.03 | I15: =F15-C15 -> 0 | J15: =SUM(H15:I15) -> 0.03 | K15: =[1]Оплата!BI13 -> -4432.8022 | L15: =[1]Оплата!AG13 -> 0 | M15: =H15*M$6 -> 0.2046 | N15: =I15*N$6 -> 0 | O15: =SUM(M15:N15) -> 0.2046 | R15: =K15-O15+L15+P15 -> -4433.0068 | S15: =A15 -> №007
A16: №008 | B16: 3320.68 | C16: 689.4 | D16: 4010.09 | E16: 3321.11 | F16: 689.4 | G16: 4010.52 | H16: =E16-B16 -> 0.43 | I16: =F16-C16 -> 0 | J16: =SUM(H16:I16) -> 0.43 | K16: =[1]Оплата!BI14 -> -3.6138 | L16: =[1]Оплата!AG14 -> 3.61 | M16: =H16*M$6 -> 2.9326 | N16: =I16*N$6 -> 0 | O16: =SUM(M16:N16) -> 2.9326 | R16: =K16-O16+L16+P16 -> -2.9364 | S16: =A16 -> №008
A17: №009 сбыт | H17: снят с обслуживаения с 10.12.21 | K17: =[1]Оплата!BI15 -> 153.4953 | L17: =[1]Оплата!AG15 -> 0 | R17: =K17-O17+L17 -> 153.4953 | S17: =A17 -> №009 сбыт
A18: №009а | B18: 6055.57 | C18: 3361.63 | D18: 9417.23 | E18: 6055.57 | F18: 3361.63 | G18: 9417.23 | H18: снят с обслуживаения с 10.12.21 | K18: =[1]Оплата!BI16 -> 2304.6133 | L18: =[1]Оплата!AG16 -> 0 | R18: =K18-O18+L18+P18 -> 2304.6133 | S18: =A18 -> №009а
A19: №010 | B19: 1719.55 | C19: 817.17 | D19: 2536.75 | E19: 1719.55 | F19: 817.17 | G19: 2536.75 | H19: снят с обслуживаения с 10.12.21 | K19: =[1]Оплата!BI17 -> 3302.4163 | L19: =[1]Оплата!AG17 -> 0 | R19: =K19-O19+L19+P19 -> 3302.4163 | S19: =A19 -> №010
A20: №011 | B20: 3808.57 | C20: 831.4 | D20: 4639.99 | E20: 3810.77 | F20: 832.33 | G20: 4643.12 | H20: =E20-B20 -> 2.2 | I20: =F20-C20 -> 0.93 | J20: =SUM(H20:I20) -> 3.13 | K20: =[1]Оплата!BI18 -> -2536.5201 | L20: =[1]Оплата!AG18 -> 3000 | M20: =H20*M$6 -> 15.004 | N20: =I20*N$6 -> 2.4645 | O20: =SUM(M20:N20) -> 17.4685 | R20: =K20-O20+L20+P20 -> 446.0114 | S20: =A20 -> №011
A21: №012 | B21: 879.88 | C21: 222.51 | D21: 1102.39 | E21: 892.69 | F21: 228.46 | G21: 1121.15 | H21: =E21-B21 -> 12.81 | I21: =F21-C21 -> 5.95 | J21: =SUM(H21:I21) -> 18.76 | K21: =[1]Оплата!BI19 -> -2319.3756 | L21: =[1]Оплата!AG19 -> 0 | M21: =H21*M$6 -> 87.3642 | N21: =I21*N$6 -> 15.7675 | O21: =SUM(M21:N21) -> 103.1317 | R21: =K21-O21+L21+P21 -> -2422.5073 | S21: =A21 -> №012
E22: СНЯТЫЕ С ОБСЛУЖИВАНИЯ БУДУТ ОТКЛЮЧЕНЫ ОТ ЭНЕРГОСНАБЖЕНИЯ СНТ
E23: Все садоводы, оформившие договора с Энергосбытом, передайте их копии бухгалтеру
A24: №012а | K24: =[1]Оплата!BI20 -> 5.2041 | L24: =[1]Оплата!AG20 -> 0 | M24: =H24*M$6 -> 0 | N24: =I24*N$6 -> 0 | O24: =SUM(M24:N24) -> 0 | R24: =K24-O24+L24+P24 -> 5.2041 | S24: =A24 -> №012а
A25: №013 | B25: 12888.06 | C25: 3419.98 | D25: 16308.05 | E25: 12890.52 | F25: 3421.09 | G25: 16311.61 | H25: =E25-B25 -> 2.46 | I25: =F25-C25 -> 1.11 | J25: =SUM(H25:I25) -> 3.57 | K25: =[1]Оплата!BI21 -> -2520.0665 | L25: =[1]Оплата!AG21 -> 0 | M25: =H25*M$6 -> 16.7772 | N25: =I25*N$6 -> 2.9415 | O25: =SUM(M25:N25) -> 19.7187 | R25: =K25-O25+L25+P25 -> -2539.7852 | S25: =A25 -> №013
A26: №014 | B26: 4196.85 | C26: 8042.21 | D26: 12239.11 | E26: 4196.85 | F26: 8042.21 | G26: 12239.11 | H26: =E26-B26 -> 0 | I26: =F26-C26 -> 0 | J26: =SUM(H26:I26) -> 0 | K26: =[1]Оплата!BI22 -> -3462.8685 | L26: =[1]Оплата!AG22 -> 0 | M26: =H26*M$6 -> 0 | N26: =I26*N$6 -> 0 | O26: =SUM(M26:N26) -> 0 | R26: =K26-O26+L26+P26 -> -3462.8685 | S26: =A26 -> №014
A27: №015 | B27: 3871.92 | C27: 2069.95 | D27: 5941.88 | E27: 3871.92 | F27: 2069.95 | G27: 5941.88 | H27: =E27-B27 -> 0 | I27: =F27-C27 -> 0 | J27: =SUM(H27:I27) -> 0 | K27: =[1]Оплата!BI23 -> -2622.3759 | L27: =[1]Оплата!AG23 -> 2623 | M27: =H27*M$6 -> 0 | N27: =I27*N$6 -> 0 | O27: =SUM(M27:N27) -> 0 | R27: =K27-O27+L27+P27 -> 0.6241 | S27: =A27 -> №015
A28: №016\17 | B28: 7046.8 | C28: 6834.42 | D28: 13881.23 | E28: 7046.8 | F28: 6834.42 | G28: 13881.23 | H28: =E28-B28 -> 0 | I28: =F28-C28 -> 0 | J28: =SUM(H28:I28) -> 0 | K28: =[1]Оплата!BI24 -> -471.8792 | L28: =[1]Оплата!AG24 -> 0 | M28: =H28*M$6 -> 0 | N28: =I28*N$6 -> 0 | O28: =SUM(M28:N28) -> 0 | R28: =K28-O28+L28+P28 -> -471.8792 | S28: =A28 -> №016\17
A29: №018 | B29: 4412.23 | C29: 1591.11 | D29: 6003.36 | E29: 4466 | F29: 1622.38 | G29: 6088.4 | H29: =E29-B29 -> 53.77 | I29: =F29-C29 -> 31.27 | J29: =SUM(H29:I29) -> 85.04 | K29: =[1]Оплата!BI25 -> -4050.5936 | L29: =[1]Оплата!AG25 -> 0 | M29: =H29*M$6 -> 366.7114 | N29: =I29*N$6 -> 82.8655 | O29: =SUM(M29:N29) -> 449.5769 | R29: =K29-O29+L29+P29 -> -4500.1705 | S29: =A29 -> №018
A30: №019 | B30: 6644.63 | C30: 3975.4 | D30: 10620.09 | E30: 6644.63 | F30: 3975.4 | G30: 10620.09 | H30: снят с обслуживаения с 10.12.21 | K30: =[1]Оплата!BI26 -> -20720.601 | L30: =[1]Оплата!AG26 -> 0 | N30: =I30*N$6 -> 0 | O30: =SUM(M30:N30) -> 0 | R30: =K30-O30+L30+P30 -> -20720.601 | S30: =A30 -> №019
A31: №020 | B31: 6312.16 | C31: 2855.54 | D31: 9168.35 | E31: 6342.42 | F31: 2857.81 | G31: 9200.88 | H31: =E31-B31 -> 30.26 | I31: =F31-C31 -> 2.27 | J31: =SUM(H31:I31) -> 32.53 | K31: =[1]Оплата!BI27 -> -110.2014 | L31: =[1]Оплата!AG27 -> 0 | M31: =H31*M$6 -> 206.3732 | N31: =I31*N$6 -> 6.0155 | O31: =SUM(M31:N31) -> 212.3887 | R31: =K31-O31+L31+P31 -> -322.5901 | S31: =A31 -> №020
A32: №021\1 | B32: 452.45 | C32: 371.57 | D32: 824.02 | E32: 468.65 | F32: 379.1 | G32: 847.76 | H32: =E32-B32 -> 16.2 | I32: =F32-C32 -> 7.53 | J32: =SUM(H32:I32) -> 23.73 | K32: =[1]Оплата!BI28 -> 3418.3481 | L32: =[1]Оплата!AG28 -> 0 | M32: =H32*M$6 -> 110.484 | N32: =I32*N$6 -> 19.9545 | O32: =SUM(M32:N32) -> 130.4385 | R32: =K32-O32+L32+P32 -> 3287.9096 | S32: =A32 -> №021\1
A33: №021\2 | B33: 1820.98 | C33: 895.04 | D33: 2716.04 | E33: 1833.33 | F33: 899.48 | G33: 2732.81 | H33: =E33-B33 -> 12.35 | I33: =F33-C33 -> 4.44 | J33: =SUM(H33:I33) -> 16.79 | K33: =[1]Оплата!BI29 -> -6710.6331 | L33: =[1]Оплата!AG29 -> 1000 | M33: =H33*M$6 -> 84.227 | N33: =I33*N$6 -> 11.766 | O33: =SUM(M33:N33) -> 95.993 | R33: =K33-O33+L33+P33 -> -5806.6261 | S33: =A33 -> №021\2
A34: №022 | B34: 3745.07 | C34: 1583.45 | D34: 5328.53 | E34: 3745.07 | F34: 1583.45 | G34: 5328.53 | H34: снят с обслуживаения с 10.12.21 | K34: =[1]Оплата!BI30 -> 46.1805 | L34: =[1]Оплата!AG30 -> 0 | N34: =I34*N$6 -> 0 | O34: =SUM(M34:N34) -> 0 | R34: =K34-O34+L34+P34 -> 46.1805 | S34: =A34 -> №022
A35: №022а | B35: 2083.8 | C35: 929.15 | D35: 3012.96 | E35: 2118.15 | F35: 954.63 | G35: 3072.8 | H35: =E35-B35 -> 34.35 | I35: =F35-C35 -> 25.48 | J35: =SUM(H35:I35) -> 59.83 | K35: =[1]Оплата!BI31 -> 2893.7852 | L35: =[1]Оплата!AG31 -> 0 | M35: =H35*M$6 -> 234.267 | N35: =I35*N$6 -> 67.522 | O35: =SUM(M35:N35) -> 301.789 | R35: =K35-O35+L35+P35 -> 2591.9962 | S35: =A35 -> №022а
A36: №023 | H36: =E36-B36 -> 0 | I36: =F36-C36 -> 0 | J36: =SUM(H36:I36) -> 0 | K36: =[1]Оплата!BI32 -> -3.358 | L36: =[1]Оплата!AG32 -> 0 | M36: =H36*M$6 -> 0 | N36: =I36*N$6 -> 0 | O36: =SUM(M36:N36) -> 0 | R36: =K36-O36+L36+P36 -> -3.358 | S36: =A36 -> №023
A37: №024 | B37: 645.68 | C37: 357.45 | D37: 1003.14 | E37: 683.28 | F37: 370.28 | G37: 1053.56 | H37: =E37-B37 -> 37.6 | I37: =F37-C37 -> 12.83 | J37: =SUM(H37:I37) -> 50.43 | K37: =[1]Оплата!BI33 -> -664.2344 | L37: =[1]Оплата!AG33 -> 0 | M37: =H37*M$6 -> 256.432 | N37: =I37*N$6 -> 33.9995 | O37: =SUM(M37:N37) -> 290.4315 | R37: =K37-O37+L37+P37 -> -954.6659 | S37: =A37 -> №024
A38: №025 | B38: 10371.29 | C38: 5685.08 | D38: 16056.39 | E38: 10442.69 | F38: 5719.31 | G38: 16162.01 | H38: =E38-B38 -> 71.4 | I38: =F38-C38 -> 34.23 | J38: =SUM(H38:I38) -> 105.63 | K38: =[1]Оплата!BI34 -> -8043.6371 | L38: =[1]Оплата!AG34 -> 8043.64 | M38: =H38*M$6 -> 486.948 | N38: =I38*N$6 -> 90.7095 | O38: =SUM(M38:N38) -> 577.6575 | R38: =K38-O38+L38+P38 -> -577.6546 | S38: =A38 -> №025
A39: №026 | B39: 4095.65 | C39: 2124.91 | D39: 6220.57 | E39: 4147.58 | F39: 2148.59 | G39: 6296.17 | H39: =E39-B39 -> 51.93 | I39: =F39-C39 -> 23.68 | J39: =SUM(H39:I39) -> 75.61 | K39: =[1]Оплата!BI35 -> 11612.519 | L39: =[1]Оплата!AG35 -> 0 | M39: =H39*M$6 -> 354.1626 | N39: =I39*N$6 -> 62.752 | O39: =SUM(M39:N39) -> 416.9146 | R39: =K39-O39+L39+P39 -> 11195.605 | S39: =A39 -> №026
A40: №027 | B40: 4461.52 | C40: 2606.67 | D40: 7068.27 | E40: 4461.85 | F40: 2606.75 | G40: 7068.67 | H40: =E40-B40 -> 0.33 | I40: =F40-C40 -> 0.08 | J40: =SUM(H40:I40) -> 0.41 | K40: =[1]Оплата!BI36 -> 369.7064 | L40: =[1]Оплата!AG36 -> 0 | M40: =H40*M$6 -> 2.2506 | N40: =I40*N$6 -> 0.212 | O40: =SUM(M40:N40) -> 2.4626 | R40: =K40-O40+L40+P40 -> 367.2438 | S40: =A40 -> №027
A41: №028 | H41: =E41-B41 -> 0 | I41: =F41-C41 -> 0 | J41: =SUM(H41:I41) -> 0 | K41: =[1]Оплата!BI37 -> -4.3548 | L41: =[1]Оплата!AG37 -> 0 | M41: =H41*M$6 -> 0 | N41: =I41*N$6 -> 0 | O41: =SUM(M41:N41) -> 0 | R41: =K41-O41+L41+P41 -> -4.3548 | S41: =A41 -> №028
E42: СНЯТЫЕ С ОБСЛУЖИВАНИЯ БУДУТ ОТКЛЮЧЕНЫ ОТ ЭНЕРГОСНАБЖЕНИЯ СНТ
E43: Все садоводы, оформившие договора с Энергосбытом, передайте их копии бухгалтеру
A44: №029 сбыт | K44: =[1]Оплата!BI38 -> 0.0048 | L44: =[1]Оплата!AG38 -> 0 | R44: =K44-O44+L44+P44 -> 0.0048 | S44: =A44 -> №029 сбыт
A45: №030 | B45: 1603.35 | C45: 584.95 | D45: 2188.35 | E45: 1603.35 | F45: 584.95 | G45: 2188.35 | H45: =E45-B45 -> 0 | I45: =F45-C45 -> 0 | J45: =SUM(H45:I45) -> 0 | K45: =[1]Оплата!BI39 -> -10.3873 | L45: =[1]Оплата!AG39 -> 0 | M45: =H45*M$6 -> 0 | N45: =I45*N$6 -> 0 | O45: =SUM(M45:N45) -> 0 | R45: =K45-O45+L45+P45 -> -10.3873 | S45: =A45 -> №030
A46: №031\1 | B46: 11561.15 | C46: 6093.96 | D46: 17655.12 | E46: 11912.09 | F46: 6299.26 | G46: 18211.36 | H46: =E46-B46 -> 350.94 | I46: =F46-C46 -> 205.3 | J46: =SUM(H46:I46) -> 556.24 | K46: =[1]Оплата!BI40 -> -39701.912 | L46: =[1]Оплата!AG40 -> 0 | M46: =H46*M$6 -> 2393.4108 | N46: =I46*N$6 -> 544.045 | O46: =SUM(M46:N46) -> 2937.4558 | R46: =K46-O46+L46+P46 -> -42639.368 | S46: =A46 -> №031\1
A47: №031\2 | B47: 5992.35 | C47: 1805.69 | D47: 7798.05 | E47: 6064.88 | F47: 1822.48 | G47: 7887.36 | H47: =E47-B47 -> 72.53 | I47: =F47-C47 -> 16.79 | J47: =SUM(H47:I47) -> 89.32 | K47: =[1]Оплата!BI41 -> 34936.626 | L47: =[1]Оплата!AG41 -> 4800 | M47: =H47*M$6 -> 494.6546 | N47: =I47*N$6 -> 44.4935 | O47: =SUM(M47:N47) -> 539.1481 | R47: =K47-O47+L47+P47 -> 39197.478 | S47: =A47 -> №031\2
A48: №032 | B48: 7627.03 | C48: 4431.11 | D48: 12058.24 | E48: 7627.05 | F48: 4431.11 | G48: 12058.26 | H48: =E48-B48 -> 0.02 | I48: =F48-C48 -> 0 | J48: =SUM(H48:I48) -> 0.02 | K48: =[1]Оплата!BI42 -> -3013.78 | L48: =[1]Оплата!AG42 -> 0 | M48: =H48*M$6 -> 0.1364 | N48: =I48*N$6 -> 0 | O48: =SUM(M48:N48) -> 0.1364 | R48: =K48-O48+L48+P48 -> -3013.9164 | S48: =A48 -> №032
A49: №033 | K49: =[1]Оплата!BI43 -> 640.014 | L49: =[1]Оплата!AG43 -> 0 | R49: =K49-O49+L49+P49 -> 640.014 | S49: =A49 -> №033
A50: №034 | H50: =E50-B50 -> 0 | I50: =F50-C50 -> 0 | J50: =SUM(H50:I50) -> 0 | K50: =[1]Оплата!BI44 -> -14.0697 | L50: =[1]Оплата!AG44 -> 0 | M50: =H50*M$6 -> 0 | N50: =I50*N$6 -> 0 | O50: =SUM(M50:N50) -> 0 | R50: =K50-O50+L50+P50 -> -14.0697 | S50: =A50 -> №034
A51: №035 | B51: 12529.43 | C51: 6287.77 | D51: 18817.22 | E51: 12574.18 | F51: 6302.48 | G51: 18876.68 | H51: =E51-B51 -> 44.75 | I51: =F51-C51 -> 14.71 | J51: =SUM(H51:I51) -> 59.46 | K51: =[1]Оплата!BI45 -> -2172.9732 | L51: =[1]Оплата!AG45 -> 0 | M51: =H51*M$6 -> 305.195 | N51: =I51*N$6 -> 38.9815 | O51: =SUM(M51:N51) -> 344.1765 | R51: =K51-O51+L51+P51 -> -2517.1497 | S51: =A51 -> №035
A52: №036 | B52: 8247.46 | C52: 2497.46 | D52: 10744.93 | E52: 8247.46 | F52: 2497.47 | G52: 10744.94 | H52: =E52-B52 -> 0 | I52: =F52-C52 -> 0.01 | J52: =SUM(H52:I52) -> 0.01 | K52: =[1]Оплата!BI46 -> -0.0008 | L52: =[1]Оплата!AG46 -> 0 | M52: =H52*M$6 -> 0 | N52: =I52*N$6 -> 0.0265 | O52: =SUM(M52:N52) -> 0.0265 | R52: =K52-O52+L52+P52 -> -0.0273 | S52: =A52 -> №036
A53: №037 сбыт | K53: =[1]Оплата!BI47 -> 0.0032 | L53: =[1]Оплата!AG47 -> 0 | R53: =K53-O53+L53+P53 -> 0.0032 | S53: =A53 -> №037 сбыт
A54: №038 | B54: 5202.56 | C54: 2450.08 | D54: 7652.66 | E54: 5202.56 | F54: 2450.08 | G54: 7652.66 | H54: снят с обслуживаения с 10.12.21 | K54: =[1]Оплата!BI48 -> -290.58998 | L54: =[1]Оплата!AG48 -> 0 | N54: =I54*N$6 -> 0 | O54: =SUM(M54:N54) -> 0 | R54: =K54-O54+L54+P54 -> -290.58998 | S54: =A54 -> №038
A55: №039 сбыт | K55: =[1]Оплата!BI49 -> -582.5861 | L55: =[1]Оплата!AG49 -> 0 | R55: =K55-O55+L55+P55 -> -582.5861 | S55: =A55 -> №039 сбыт
A56: №040 | H56: =E56-B56 -> 0 | I56: =F56-C56 -> 0 | J56: =SUM(H56:I56) -> 0 | K56: =[1]Оплата!BI50 -> -0.4882 | L56: =[1]Оплата!AG50 -> 0 | M56: =H56*M$6 -> 0 | N56: =I56*N$6 -> 0 | O56: =SUM(M56:N56) -> 0 | R56: =K56-O56+L56+P56 -> -0.4882 | S56: =A56 -> №040
A57: №041 | B57: 6283.36 | C57: 3067.37 | D57: 9351.16 | E57: 6283.36 | F57: 3067.37 | G57: 9351.16 | H57: =E57-B57 -> 0 | I57: =F57-C57 -> 0 | J57: =SUM(H57:I57) -> 0 | K57: =[1]Оплата!BI51 -> -1420.4358 | L57: =[1]Оплата!AG51 -> 0 | M57: =H57*M$6 -> 0 | N57: =I57*N$6 -> 0 | O57: =SUM(M57:N57) -> 0 | R57: =K57-O57+L57+P57 -> -1420.4358 | S57: =A57 -> №041
A58: №041а | B58: 11596.52 | C58: 4982.66 | D58: 16579.18 | E58: 11596.58 | F58: 4982.69 | G58: 16579.28 | H58: =E58-B58 -> 0.06 | I58: =F58-C58 -> 0.03 | J58: =SUM(H58:I58) -> 0.09 | K58: =[1]Оплата!BI52 -> -127.3104 | L58: =[1]Оплата!AG52 -> 0 | M58: =H58*M$6 -> 0.4092 | N58: =I58*N$6 -> 0.0795 | O58: =SUM(M58:N58) -> 0.4887 | R58: =K58-O58+L58+P58 -> -127.7991 | S58: =A58 -> №041а
A59: №042 | B59: 6063.04 | C59: 2630.3 | D59: 8693.38 | E59: 6063.05 | F59: 2630.3 | G59: 8693.38 | H59: =E59-B59 -> 0.01 | I59: =F59-C59 -> 0 | J59: =SUM(H59:I59) -> 0.01 | K59: =[1]Оплата!BI53 -> -1236.894 | L59: =[1]Оплата!AG53 -> 1236.89 | M59: =H59*M$6 -> 0.0682 | N59: =I59*N$6 -> 0 | O59: =SUM(M59:N59) -> 0.0682 | R59: =K59-O59+L59+P59 -> -0.0722 | S59: =A59 -> №042
A60: №043\1 | B60: 6520.07 | C60: 2441.69 | D60: 8961.77 | E60: 6538.95 | F60: 2451.39 | G60: 8990.34 | H60: =E60-B60 -> 18.88 | I60: =F60-C60 -> 9.7 | J60: =SUM(H60:I60) -> 28.58 | K60: =[1]Оплата!BI54 -> -3142.9686 | L60: =[1]Оплата!AG54 -> 0 | M60: =H60*M$6 -> 128.7616 | N60: =I60*N$6 -> 25.705 | O60: =SUM(M60:N60) -> 154.4666 | R60: =K60-O60+L60+P60 -> -3297.4352 | S60: =A60 -> №043\1
A61: №043\2 | B61: 23291.95 | C61: 10650.8 | D61: 33942.75 | E61: 23488.58 | F61: 10752.25 | G61: 34240.83 | H61: =E61-B61 -> 196.63 | I61: =F61-C61 -> 101.45 | J61: =SUM(H61:I61) -> 298.08 | K61: =[1]Оплата!BI55 -> -8459.9012 | L61: =[1]Оплата!AG55 -> 12300 | M61: =H61*M$6 -> 1341.0166 | N61: =I61*N$6 -> 268.8425 | O61: =SUM(M61:N61) -> 1609.8591 | R61: =K61-O61+L61+P61 -> 2230.2397 | S61: =A61 -> №043\2
E62: СНЯТЫЕ С ОБСЛУЖИВАНИЯ БУДУТ ОТКЛЮЧЕНЫ ОТ ЭНЕРГОСНАБЖЕНИЯ СНТ
E63: Все садоводы, оформившие договора с Энергосбытом, передайте их копии бухгалтеру
A64: №044 | B64: 6375.25 | C64: 2930.85 | D64: 9306.11 | E64: 6408.25 | F64: 2930.85 | G64: 9339.1 | H64: =E64-B64 -> 33 | I64: =F64-C64 -> 0 | J64: =SUM(H64:I64) -> 33 | K64: =[1]Оплата!BI56 -> -689.3585 | L64: =[1]Оплата!AG56 -> 0 | M64: =H64*M$6 -> 225.06 | N64: =I64*N$6 -> 0 | O64: =SUM(M64:N64) -> 225.06 | R64: =K64-O64+L64+P64 -> -914.4185 | S64: =A64 -> №044
A65: №045 не установлен | J65: =SUM(H65:I65) -> 0 | K65: =[1]Оплата!BI57 -> 0 | L65: =[1]Оплата!AG57 -> 0 | R65: =K65-O65+L65+P65 -> 0 | S65: =A65 -> №045 не установлен
A66: №046 | B66: 9020.75 | C66: 5549.96 | D66: 14570.72 | E66: 9020.75 | F66: 5549.96 | G66: 14570.72 | H66: =E66-B66 -> 0 | I66: =F66-C66 -> 0 | J66: =SUM(H66:I66) -> 0 | K66: =[1]Оплата!BI58 -> -8757.7946 | L66: =[1]Оплата!AG58 -> 0 | M66: =H66*M$6 -> 0 | N66: =I66*N$6 -> 0 | O66: =SUM(M66:N66) -> 0 | R66: =K66-O66+L66+P66 -> -8757.7946 | S66: =A66 -> №046
A67: №046а | B67: 8329.49 | C67: 3477.39 | D67: 11806.9 | E67: 8329.49 | F67: 3477.39 | G67: 11806.9 | H67: =E67-B67 -> 0 | I67: =F67-C67 -> 0 | J67: =SUM(H67:I67) -> 0 | K67: =[1]Оплата!BI59 -> -1536.4355 | L67: =[1]Оплата!AG59 -> 0 | M67: =H67*M$6 -> 0 | N67: =I67*N$6 -> 0 | O67: =SUM(M67:N67) -> 0 | R67: =K67-O67+L67+P67 -> -1536.4355 | S67: =A67 -> №046а
A68: №047 | B68: 314.78 | C68: 144.71 | D68: 459.5 | E68: 314.78 | F68: 144.71 | G68: 459.5 | H68: =E68-B68 -> 0 | I68: =F68-C68 -> 0 | J68: =SUM(H68:I68) -> 0 | K68: =[1]Оплата!BI60 -> -2071.5971 | L68: =[1]Оплата!AG60 -> 0 | M68: =H68*M$6 -> 0 | N68: =I68*N$6 -> 0 | O68: =SUM(M68:N68) -> 0 | R68: =K68-O68+L68+P68 -> -2071.5971 | S68: =A68 -> №047
A69: №048 | B69: 16334.54 | C69: 4637.27 | D69: 20972.05 | E69: 16353.46 | F69: 4644.18 | G69: 20997.88 | H69: =E69-B69 -> 18.92 | I69: =F69-C69 -> 6.91 | J69: =SUM(H69:I69) -> 25.83 | K69: =[1]Оплата!BI61 -> -13753.641 | L69: =[1]Оплата!AG61 -> 14000 | M69: =H69*M$6 -> 129.0344 | N69: =I69*N$6 -> 18.3115 | O69: =SUM(M69:N69) -> 147.3459 | R69: =K69-O69+L69+P69 -> 99.013 | S69: =A69 -> №048
A70: №049 | B70: 13613.92 | C70: 4576.1 | D70: 18190.03 | E70: 13613.92 | F70: 4576.1 | G70: 18190.03 | H70: снят с обслуживаения с 10.12.21 | K70: =[1]Оплата!BI62 -> 86.0162 | L70: =[1]Оплата!AG62 -> 0 | N70: =I70*N$6 -> 0 | O70: =SUM(M70:N70) -> 0 | R70: =K70-O70+L70+P70 -> 86.0162 | S70: =A70 -> №049
A71: №050 | B71: 13638.26 | C71: 5513.5 | D71: 19151.77 | E71: 13649.92 | F71: 5513.62 | G71: 19163.54 | H71: =E71-B71 -> 11.66 | I71: =F71-C71 -> 0.12 | J71: =SUM(H71:I71) -> 11.78 | K71: =[1]Оплата!BI63 -> -317.7122 | L71: =[1]Оплата!AG63 -> 0 | M71: =H71*M$6 -> 79.5212 | N71: =I71*N$6 -> 0.318 | O71: =SUM(M71:N71) -> 79.8392 | R71: =K71-O71+L71+P71 -> -397.5514 | S71: =A71 -> №050
A72: №051 | B72: 19080.3 | C72: 16748.42 | D72: 35828.72 | E72: 19080.3 | F72: 16748.42 | G72: 35828.72 | H72: снят с обслуживаения с 10.12.21 | K72: =[1]Оплата!BI64 -> -4148.862 | L72: =[1]Оплата!AG64 -> 4149 | N72: =I72*N$6 -> 0 | O72: =SUM(M72:N72) -> 0 | R72: =K72-O72+L72+P72 -> 0.138 | S72: =A72 -> №051
A73: №052 | B73: 7221.78 | C73: 2827.08 | D73: 10048.87 | E73: 7225.07 | F73: 2827.08 | G73: 10052.16 | H73: =E73-B73 -> 3.29 | I73: =F73-C73 -> 0 | J73: =SUM(H73:I73) -> 3.29 | K73: =[1]Оплата!BI65 -> -1637.6261 | L73: =[1]Оплата!AG65 -> 0 | M73: =H73*M$6 -> 22.4378 | N73: =I73*N$6 -> 0 | O73: =SUM(M73:N73) -> 22.4378 | R73: =K73-O73+L73+P73 -> -1660.0639 | S73: =A73 -> №052
A74: №052а | B74: 8321.2 | C74: 2346.29 | D74: 10667.52 | E74: 8535.4 | F74: 2396.78 | G74: 10932.22 | H74: =E74-B74 -> 214.2 | I74: =F74-C74 -> 50.49 | J74: =SUM(H74:I74) -> 264.69 | K74: =[1]Оплата!BI66 -> -2998.2825 | L74: =[1]Оплата!AG66 -> 5200 | M74: =H74*M$6 -> 1460.844 | N74: =I74*N$6 -> 133.7985 | O74: =SUM(M74:N74) -> 1594.6425 | R74: =K74-O74+L74+P74 -> 607.075 | S74: =A74 -> №052а
A75: №053 | B75: 3320.11 | C75: 1636.1 | D75: 4956.22 | E75: 3648.75 | F75: 1787.16 | G75: 5435.92 | H75: =E75-B75 -> 328.64 | I75: =F75-C75 -> 151.06 | J75: =SUM(H75:I75) -> 479.7 | K75: =[1]Оплата!BI67 -> -9338.1455 | L75: =[1]Оплата!AG67 -> 0 | M75: =H75*M$6 -> 2241.3248 | N75: =I75*N$6 -> 400.309 | O75: =SUM(M75:N75) -> 2641.6338 | R75: =K75-O75+L75+P75 -> -11979.779 | S75: =A75 -> №053
A76: №054 | B76: 1921.88 | C76: 922.5 | D76: 2844.39 | E76: 1921.88 | F76: 922.5 | G76: 2844.39 | H76: =E76-B76 -> 0 | I76: =F76-C76 -> 0 | J76: =SUM(H76:I76) -> 0 | K76: =[1]Оплата!BI68 -> -2560.3452 | L76: =[1]Оплата!AG68 -> 0 | M76: =H76*M$6 -> 0 | N76: =I76*N$6 -> 0 | O76: =SUM(M76:N76) -> 0 | R76: =K76-O76+L76+P76 -> -2560.3452 | S76: =A76 -> №054
A77: №055 | B77: 13734.73 | C77: 5696.83 | D77: 19431.57 | E77: 13734.73 | F77: 5696.83 | G77: 19431.57 | H77: =E77-B77 -> 0 | I77: =F77-C77 -> 0 | J77: =SUM(H77:I77) -> 0 | K77: =[1]Оплата!BI69 -> 3.7921 | L77: =[1]Оплата!AG69 -> 0 | M77: =H77*M$6 -> 0 | N77: =I77*N$6 -> 0 | O77: =SUM(M77:N77) -> 0 | R77: =K77-O77+L77+P77 -> 3.7921 | S77: =A77 -> №055
A78: №056 | B78: 7795.27 | C78: 3441.57 | D78: 11236.85 | E78: 7795.27 | F78: 3441.57 | G78: 11236.85 | H78: =E78-B78 -> 0 | I78: =F78-C78 -> 0 | J78: =SUM(H78:I78) -> 0 | K78: =[1]Оплата!BI70 -> 2543.8485 | L78: =[1]Оплата!AG70 -> 0 | M78: =H78*M$6 -> 0 | N78: =I78*N$6 -> 0 | O78: =SUM(M78:N78) -> 0 | R78: =K78-O78+L78+P78 -> 2543.8485 | S78: =A78 -> №056
A79: №057 | B79: 4084.03 | C79: 4171.03 | D79: 8255.06 | E79: 4084.11 | F79: 4171.03 | G79: 8255.15 | H79: =E79-B79 -> 0.08 | I79: =F79-C79 -> 0 | J79: =SUM(H79:I79) -> 0.08 | K79: =[1]Оплата!BI71 -> -1388.424 | L79: =[1]Оплата!AG71 -> 0 | M79: =H79*M$6 -> 0.5456 | N79: =I79*N$6 -> 0 | O79: =SUM(M79:N79) -> 0.5456 | R79: =K79-O79+L79+P79 -> -1388.9695 | S79: =A79 -> №057
A80: №058 | B80: 11421.44 | C80: 3751.32 | D80: 15172.77 | E80: 11422.15 | F80: 3751.32 | G80: 15173.48 | H80: =E80-B80 -> 0.71 | I80: =F80-C80 -> 0 | J80: =SUM(H80:I80) -> 0.71 | K80: =[1]Оплата!BI72 -> -603.2985 | L80: =[1]Оплата!AG72 -> 0 | M80: =H80*M$6 -> 4.8422 | N80: =I80*N$6 -> 0 | O80: =SUM(M80:N80) -> 4.8422 | R80: =K80-O80+L80+P80 -> -608.1407 | S80: =A80 -> №058
A81: №059 | B81: 29392.64 | C81: 13064.43 | D81: 42457.08 | E81: 30009.79 | F81: 13480.59 | G81: 43490.38 | H81: =E81-B81 -> 617.15 | I81: =F81-C81 -> 416.16 | J81: =SUM(H81:I81) -> 1033.31 | K81: =[1]Оплата!BI73 -> -529.3511 | L81: =[1]Оплата!AG73 -> 10000 | M81: =H81*M$6 -> 4208.963 | N81: =I81*N$6 -> 1102.824 | O81: =SUM(M81:N81) -> 5311.787 | R81: =K81-O81+L81 -> 4158.8619 | S81: =A81 -> №059
E82: СНЯТЫЕ С ОБСЛУЖИВАНИЯ БУДУТ ОТКЛЮЧЕНЫ ОТ ЭНЕРГОСНАБЖЕНИЯ СНТ
E83: Все садоводы, оформившие договора с Энергосбытом, передайте их копии бухгалтеру
A84: №060 | B84: 5146.14 | C84: 1978.8 | D84: 7124.96 | E84: 5222.09 | F84: 1990.94 | G84: 7213.05 | H84: =E84-B84 -> 75.95 | I84: =F84-C84 -> 12.14 | J84: =SUM(H84:I84) -> 88.09 | K84: =[1]Оплата!BI74 -> -1450.4262 | L84: =[1]Оплата!AG74 -> 0 | M84: =H84*M$6 -> 517.979 | N84: =I84*N$6 -> 32.171 | O84: =SUM(M84:N84) -> 550.15 | R84: =K84-O84+L84 -> -2000.5762 | S84: =A84 -> №060
A85: №061 | B85: 6627.06 | C85: 2422.84 | D85: 9049.91 | E85: 6627.13 | F85: 2423.2 | G85: 9050.33 | H85: =E85-B85 -> 0.07 | I85: =F85-C85 -> 0.36 | J85: =SUM(H85:I85) -> 0.43 | K85: =[1]Оплата!BI75 -> -9176.4986 | L85: =[1]Оплата!AG75 -> 0 | M85: =H85*M$6 -> 0.4774 | N85: =I85*N$6 -> 0.954 | O85: =SUM(M85:N85) -> 1.4314 | R85: =K85-O85+L85+P85 -> -9177.93 | S85: =A85 -> №061
A86: №062 | B86: 18909.96 | C86: 11057.91 | D86: 29968.42 | E86: 18909.96 | F86: 11057.91 | G86: 29968.42 | H86: снят с обслуживаения с 10.12.21 | K86: =[1]Оплата!BI76 -> -2270.5523 | L86: =[1]Оплата!AG76 -> 0 | N86: =I86*N$6 -> 0 | O86: =SUM(M86:N86) -> 0 | R86: =K86-O86+L86+P86 -> -2270.5523 | S86: =A86 -> №062
A87: №062а | B87: 9065.55 | C87: 2619.54 | D87: 11685.1 | E87: 9065.55 | F87: 2619.54 | G87: 11685.1 | H87: =E87-B87 -> 0 | I87: =F87-C87 -> 0 | J87: =SUM(H87:I87) -> 0 | K87: =[1]Оплата!BI77 -> 0.005 | L87: =[1]Оплата!AG77 -> 0 | M87: =H87*M$6 -> 0 | N87: =I87*N$6 -> 0 | O87: =SUM(M87:N87) -> 0 | R87: =K87-O87+L87+P87 -> 0.005 | S87: =A87 -> №062а
A88: №063 | B88: 1499.9 | C88: 862.6 | D88: 2362.51 | E88: 1499.9 | F88: 862.6 | G88: 2362.51 | H88: =E88-B88 -> 0 | I88: =F88-C88 -> 0 | J88: =SUM(H88:I88) -> 0 | K88: =[1]Оплата!BI78 -> -40.5486 | L88: =[1]Оплата!AG78 -> 0 | R88: =K88-O88+L88+P88 -> -40.5486 | S88: =A88 -> №063 | T88: сбыт
A89: №064\1 | B89: 80.84 | C89: 18.54 | D89: 99.4 | E89: 80.84 | F89: 18.54 | G89: 99.4 | H89: =E89-B89 -> 0 | I89: =F89-C89 -> 0 | J89: =SUM(H89:I89) -> 0 | K89: =[1]Оплата!BI79 -> 38417.197 | L89: =[1]Оплата!AG79 -> 0 | M89: =H89*M$6 -> 0 | N89: =I89*N$6 -> 0 | O89: =SUM(M89:N89) -> 0 | R89: =K89-O89+L89+P89 -> 38417.197 | S89: =A89 -> №064\1
A90: №064\2 | B90: 8456.87 | C90: 3076.13 | D90: 11533.01 | E90: 8456.9 | F90: 3076.15 | G90: 11533.07 | H90: =E90-B90 -> 0.03 | I90: =F90-C90 -> 0.02 | J90: =SUM(H90:I90) -> 0.05 | K90: =[1]Оплата!BI80 -> -31699.606 | L90: =[1]Оплата!AG80 -> 0 | M90: =H90*M$6 -> 0.2046 | N90: =I90*N$6 -> 0.053 | O90: =SUM(M90:N90) -> 0.2576 | R90: =K90-O90+L90+P90 -> -31699.864 | S90: =A90 -> №064\2
A91: №065 | B91: 40843.24 | C91: 15242.84 | D91: 56086.08 | E91: 40843.24 | F91: 15242.84 | G91: 56086.08 | H91: =E91-B91 -> 0 | I91: =F91-C91 -> 0 | J91: =SUM(H91:I91) -> 0 | K91: =[1]Оплата!BI81 -> 44.4242 | L91: =[1]Оплата!AG81 -> 0 | M91: =H91*M$6 -> 0 | N91: =I91*N$6 -> 0 | O91: =SUM(M91:N91) -> 0 | R91: =K91-O91+L91+P91 -> 44.4242 | S91: =A91 -> №065
A92: №066 | B92: 15583.92 | C92: 7216.78 | D92: 22800.71 | E92: 15583.92 | F92: 7216.78 | G92: 22800.71 | H92: =E92-B92 -> 0 | I92: =F92-C92 -> 0 | J92: =SUM(H92:I92) -> 0 | K92: =[1]Оплата!BI82 -> -3664.3322 | L92: =[1]Оплата!AG82 -> 0 | M92: =H92*M$6 -> 0 | N92: =I92*N$6 -> 0 | O92: =SUM(M92:N92) -> 0 | R92: =K92-O92+L92+P92 -> -3664.3322 | S92: =A92 -> №066
A93: №067 | B93: 5395.65 | C93: 2540.14 | D93: 7935.79 | E93: 5395.65 | F93: 2540.14 | G93: 7935.79 | H93: =E93-B93 -> 0 | I93: =F93-C93 -> 0 | J93: =SUM(H93:I93) -> 0 | K93: =[1]Оплата!BI83 -> 1145.1726 | L93: =[1]Оплата!AG83 -> 0 | M93: =H93*M$6 -> 0 | N93: =I93*N$6 -> 0 | O93: =SUM(M93:N93) -> 0 | R93: =K93-O93+L93+P93 -> 1145.1726 | S93: =A93 -> №067
A94: №068 | B94: 8471.94 | C94: 6226.68 | D94: 14698.64 | E94: 8476.04 | F94: 6228.41 | G94: 14704.47 | H94: =E94-B94 -> 4.1 | I94: =F94-C94 -> 1.73 | J94: =SUM(H94:I94) -> 5.83 | K94: =[1]Оплата!BI84 -> -181.0973 | L94: =[1]Оплата!AG84 -> 0 | M94: =H94*M$6 -> 27.962 | N94: =I94*N$6 -> 4.5845 | O94: =SUM(M94:N94) -> 32.5465 | R94: =K94-O94+L94+P94 -> -213.6438 | S94: =A94 -> №068
A95: №069 | B95: 2043.78 | C95: 1243.76 | D95: 3287.55 | E95: 2043.78 | F95: 1243.76 | G95: 3287.55 | H95: =E95-B95 -> 0 | I95: =F95-C95 -> 0 | J95: =SUM(H95:I95) -> 0 | K95: =[1]Оплата!BI85 -> -1904.2325 | L95: =[1]Оплата!AG85 -> 0 | M95: =H95*M$6 -> 0 | N95: =I95*N$6 -> 0 | O95: =SUM(M95:N95) -> 0 | R95: =K95-O95+L95+P95 -> -1904.2325 | S95: =A95 -> №069
A96: №070 | B96: 6574.43 | C96: 3211.44 | D96: 9785.87 | E96: 6574.48 | F96: 3211.47 | G96: 9785.95 | H96: =E96-B96 -> 0.05 | I96: =F96-C96 -> 0.03 | J96: =SUM(H96:I96) -> 0.08 | K96: =[1]Оплата!BI86 -> -439.1839 | L96: =[1]Оплата!AG86 -> 0 | M96: =H96*M$6 -> 0.341 | N96: =I96*N$6 -> 0.0795 | O96: =SUM(M96:N96) -> 0.4205 | R96: =K96-O96+L96+P96 -> -439.6044 | S96: =A96 -> №070
A97: №071 | B97: 1635.45 | C97: 777.26 | D97: 2412.73 | E97: 1635.45 | F97: 777.26 | G97: 2412.73 | H97: =E97-B97 -> 0 | I97: =F97-C97 -> 0 | J97: =SUM(H97:I97) -> 0 | K97: =[1]Оплата!BI87 -> 1342.71 | L97: =[1]Оплата!AG87 -> 0 | M97: =H97*M$6 -> 0 | N97: =I97*N$6 -> 0 | O97: =SUM(M97:N97) -> 0 | R97: =K97-O97+L97+P97 -> 1342.71 | S97: =A97 -> №071
A98: №072 | B98: 4377.75 | C98: 3956.21 | D98: 8333.99 | E98: 4377.75 | F98: 3956.21 | G98: 8333.99 | H98: снят с обслуживаения с 10.12.21 | K98: =[1]Оплата!BI88 -> 290.716 | L98: =[1]Оплата!AG88 -> 0 | N98: =I98*N$6 -> 0 | O98: =SUM(M98:N98) -> 0 | R98: =K98-O98+L98+P98 -> 290.716 | S98: =A98 -> №072
A99: №073 | B99: 5940.57 | C99: 1979.57 | D99: 7920.14 | E99: 5940.57 | F99: 1979.57 | G99: 7920.14 | H99: =E99-B99 -> 0 | I99: =F99-C99 -> 0 | J99: =SUM(H99:I99) -> 0 | K99: =[1]Оплата!BI89 -> -7627.3691 | L99: =[1]Оплата!AG89 -> 10000 | M99: =H99*M$6 -> 0 | N99: =I99*N$6 -> 0 | O99: =SUM(M99:N99) -> 0 | R99: =K99-O99+L99+P99 -> 2372.6309 | S99: =A99 -> №073
E100: СНЯТЫЕ С ОБСЛУЖИВАНИЯ БУДУТ ОТКЛЮЧЕНЫ ОТ ЭНЕРГОСНАБЖЕНИЯ СНТ
E101: Все садоводы, оформившие договора с Энергосбытом, передайте их копии бухгалтеру
...

Sheet Лист2

Sheet Лист3
