Workbook

Sheet Лист1
B1: =SUM(B10:B275) -> 1930075.4 | C1: =SUM(C10:C275) -> 1025465.4 | D1: =SUM(D10:D275) -> 2968210.4 | E1: =SUM(E10:E275) -> 1961606.6 | F1: =SUM(F10:F275) -> 1036811.8 | G1: =SUM(G10:G275) -> 3017249.8 | H1: =SUM(H10:H275) -> 33389.855 | I1: =SUM(I10:I275) -> 11549.719 | ... L1: =SUM(L10:L275) -> 217639.92 | M1: =SUM(M10:M287) -> 227718.81 | N1: =SUM(N10:N287) -> 30606.755 | O1: =SUM(O10:O275) -> 258325.57 | P1: =SUM(P10:P275) -> 0 | Q1: =SUM(Q10:Q275) -> -397471.8
O2: =[1]Оплата!L1 -> 222856.73 | Q2: =[1]Оплата!$BE$2 -> -356786.16
D6: РАСЧЕТ ЭЛЕКТРОЭНЕРГИИ ПО ПОТРЕБИТЕЛЯМ | L6: ТАРИФ | M6: =[1]запросы!C4 -> 6.82 | N6: =[1]запросы!D4 -> 2.65
A7: =F7 -> 44405 | C7: 44373 | F7: 44405 | H7: За период | K7: Остаток средств на | L7: Оплата | M7: Сумма начислений | P7: Перерас- | Q7: Задолженность ( - )
A8: 2021 | B8: КВТ | E8: КВТ | H8: КВТ | M8: руб. | P8: чет
A9: Код_ | B9: АктЭн_M | C9: АктЭн_L | D9: СуммАктЭн | E9: АктЭн_M | F9: АктЭн_L | G9: СуммАктЭн | H9: АктЭн_M | I9: АктЭн_L | J9: Всего | K9: =C7 -> 44373 | L9: =F7 -> 44405 | M9: День | N9: Ночь | O9: Всего | P9: руб | Q9: =F7 -> 44405 | R9: Код
A10: №002 | B10: 2871.78 | C10: 797.14 | D10: 3668.94 | G10: 6016 | K10: =[1]Оплата!BE8 -> 190.2695 | L10: =[1]Оплата!AC8 -> 0 | M10: =H10*M$6 -> 0 | N10: =I10*N$6 -> 0 | O10: =SUM(M10:N10) -> 0 | Q10: =K10-O10+L10+P10 -> 190.2695 | R10: =A10 -> №002
A11: №003 | B11: 3897.71 | C11: 5270.69 | D11: 9168.52 | E11: 4087.25 | F11: 5319.55 | G11: 9406.93 | H11: =E11-B11 -> 189.54 | I11: =F11-C11 -> 48.86 | J11: =SUM(H11:I11) -> 238.4 | K11: =[1]Оплата!BE9 -> 4128.9771 | L11: =[1]Оплата!AC9 -> 2000 | M11: =H11*M$6 -> 1292.6628 | N11: =I11*N$6 -> 129.479 | O11: =SUM(M11:N11) -> 1422.1418 | Q11: =K11-O11+L11+P11 -> 4706.8353 | R11: =A11 -> №003
A12: №004 | B12: 6109.05 | C12: 2275.72 | D12: 8384.77 | E12: 6323.52 | F12: 2336.39 | G12: 8659.92 | H12: =E12-B12 -> 214.47 | I12: =F12-C12 -> 60.67 | J12: =SUM(H12:I12) -> 275.14 | K12: =[1]Оплата!BE10 -> -2379.7142 | L12: =[1]Оплата!AC10 -> 0 | M12: =H12*M$6 -> 1462.6854 | N12: =I12*N$6 -> 160.7755 | O12: =SUM(M12:N12) -> 1623.4609 | Q12: =K12-O12+L12+P12 -> -4003.1751 | R12: =A12 -> №004
A13: №005 | B13: 883.12 | C13: 1400.45 | D13: 2283.7 | E13: 889.65 | F13: 1402.62 | G13: 2292.41 | H13: =E13-B13 -> 6.53 | I13: =F13-C13 -> 2.17 | J13: =SUM(H13:I13) -> 8.7 | K13: =[1]Оплата!BE11 -> -1574.0094 | L13: =[1]Оплата!AC11 -> 0 | M13: =H13*M$6 -> 44.5346 | N13: =I13*N$6 -> 5.7505 | O13: =SUM(M13:N13) -> 50.2851 | Q13: =K13-O13+L13+P13 -> -1624.2945 | R13: =A13 -> №005
A14: №006 | B14: 3208.16 | C14: 1563.39 | D14: 4771.56 | E14: 3208.16 | F14: 1563.39 | G14: 4771.56 | H14: =E14-B14 -> 0 | I14: =F14-C14 -> 0 | J14: =SUM(H14:I14) -> 0 | K14: =[1]Оплата!BE12 -> 361.343 | L14: =[1]Оплата!AC12 -> 0 | M14: =H14*M$6 -> 0 | N14: =I14*N$6 -> 0 | O14: =SUM(M14:N14) -> 0 | Q14: =K14-O14+L14+P14 -> 361.343 | R14: =A14 -> №006
A15: №007 | B15: 4105.8 | C15: 2392.2 | D15: 6498.04 | E15: 4105.8 | F15: 2392.2 | G15: 6498.04 | H15: =E15-B15 -> 0 | I15: =F15-C15 -> 0 | J15: =SUM(H15:I15) -> 0 | K15: =[1]Оплата!BE13 -> -1813.7699 | L15: =[1]Оплата!AC13 -> 0 | M15: =H15*M$6 -> 0 | N15: =I15*N$6 -> 0 | O15: =SUM(M15:N15) -> 0 | Q15: =K15-O15+L15+P15 -> -1813.7699 | R15: =A15 -> №007
A16: №008 | B16: 2895.17 | C16: 559.46 | D16: 3454.63 | E16: 3008.02 | F16: 578.57 | G16: 3586.6 | H16: =E16-B16 -> 112.85 | I16: =F16-C16 -> 19.11 | J16: =SUM(H16:I16) -> 131.96 | K16: =[1]Оплата!BE14 -> -562.1046 | L16: =[1]Оплата!AC14 -> 562.1 | M16: =H16*M$6 -> 769.637 | N16: =I16*N$6 -> 50.6415 | O16: =SUM(M16:N16) -> 820.2785 | Q16: =K16-O16+L16+P16 -> -820.2831 | R16: =A16 -> №008
A17: №009 сбыт | J17: =SUM(H17:I17) -> 0 | K17: =[1]Оплата!BE15 -> 153.4953 | L17: =[1]Оплата!AC15 -> 0 | M17: =H17*M$6 -> 0 | N17: =I17*N$6 -> 0 | O17: =SUM(M17:N17) -> 0 | Q17: =K17-O17+L17 -> 153.4953 | R17: =A17 -> №009 сбыт
A18: №009а | B18: 5961.26 | C18: 3316.77 | D18: 9278.06 | E18: 5994.66 | F18: 3332.05 | G18: 9326.74 | H18: =E18-B18 -> 33.4 | I18: =F18-C18 -> 15.28 | J18: =SUM(H18:I18) -> 48.68 | K18: =[1]Оплата!BE16 -> 3066.6865 | L18: =[1]Оплата!AC16 -> 0 | M18: =H18*M$6 -> 227.788 | N18: =I18*N$6 -> 40.492 | O18: =SUM(M18:N18) -> 268.28 | Q18: =K18-O18+L18+P18 -> 2798.4065 | R18: =A18 -> №009а
A19: №010 | B19: 1611.96 | C19: 793.15 | D19: 2405.13 | E19: 1648.2 | F19: 801 | G19: 2449.22 | H19: =E19-B19 -> 36.24 | I19: =F19-C19 -> 7.85 | J19: =SUM(H19:I19) -> 44.09 | K19: =[1]Оплата!BE17 -> 4099.8331 | L19: =[1]Оплата!AC17 -> 0 | M19: =H19*M$6 -> 247.1568 | N19: =I19*N$6 -> 20.8025 | O19: =SUM(M19:N19) -> 267.9593 | Q19: =K19-O19+L19+P19 -> 3831.8738 | R19: =A19 -> №010
A20: №011 | B20: 3252.2 | C20: 562.4 | D20: 3814.62 | E20: 3287.76 | F20: 584.58 | G20: 3872.36 | H20: =E20-B20 -> 35.56 | I20: =F20-C20 -> 22.18 | J20: =SUM(H20:I20) -> 57.74 | K20: =[1]Оплата!BE18 -> 1970.7733 | L20: =[1]Оплата!AC18 -> 0 | M20: =H20*M$6 -> 242.5192 | N20: =I20*N$6 -> 58.777 | O20: =SUM(M20:N20) -> 301.2962 | Q20: =K20-O20+L20+P20 -> 1669.4771 | R20: =A20 -> №011
A21: №012 | B21: 790.39 | C21: 187.7 | D21: 978.09 | E21: 840.94 | F21: 203.88 | G21: 1044.82 | H21: =E21-B21 -> 50.55 | I21: =F21-C21 -> 16.18 | J21: =SUM(H21:I21) -> 66.73 | K21: =[1]Оплата!BE19 -> -1616.8073 | L21: =[1]Оплата!AC19 -> 0 | M21: =H21*M$6 -> 344.751 | N21: =I21*N$6 -> 42.877 | O21: =SUM(M21:N21) -> 387.628 | Q21: =K21-O21+L21+P21 -> -2004.4353 | R21: =A21 -> №012
A22: №012а | K22: =[1]Оплата!BE20 -> 5.2041 | L22: =[1]Оплата!AC20 -> 0 | M22: =H22*M$6 -> 0 | N22: =I22*N$6 -> 0 | O22: =SUM(M22:N22) -> 0 | Q22: =K22-O22+L22+P22 -> 5.2041 | R22: =A22 -> №012а
A23: №013 | B23: 11514.13 | C23: 2985.57 | D23: 14499.71 | E23: 11916.19 | F23: 3117.22 | G23: 15033.41 | H23: =E23-B23 -> 402.06 | I23: =F23-C23 -> 131.65 | J23: =SUM(H23:I23) -> 533.71 | K23: =[1]Оплата!BE21 -> 8001.3226 | L23: =[1]Оплата!AC21 -> 0 | M23: =H23*M$6 -> 2742.0492 | N23: =I23*N$6 -> 348.8725 | O23: =SUM(M23:N23) -> 3090.9217 | Q23: =K23-O23+L23+P23 -> 4910.4009 | R23: =A23 -> №013
A24: №014 | B24: 3979.11 | C24: 7997.1 | D24: 11976.26 | E24: 4161.05 | F24: 8036.28 | G24: 12197.38 | H24: =E24-B24 -> 181.94 | I24: =F24-C24 -> 39.18 | J24: =SUM(H24:I24) -> 221.12 | K24: =[1]Оплата!BE22 -> -5858.3402 | L24: =[1]Оплата!AC22 -> 2212.5 | M24: =H24*M$6 -> 1240.8308 | N24: =I24*N$6 -> 103.827 | O24: =SUM(M24:N24) -> 1344.6578 | Q24: =K24-O24+L24+P24 -> -4990.498 | R24: =A24 -> №014
A25: №015 | B25: 3853.68 | C25: 2057.88 | D25: 5911.57 | E25: 3853.68 | F25: 2057.88 | G25: 5911.57 | H25: =E25-B25 -> 0 | I25: =F25-C25 -> 0 | J25: =SUM(H25:I25) -> 0 | K25: =[1]Оплата!BE23 -> -2465.9936 | L25: =[1]Оплата!AC23 -> 0 | M25: =H25*M$6 -> 0 | N25: =I25*N$6 -> 0 | O25: =SUM(M25:N25) -> 0 | Q25: =K25-O25+L25+P25 -> -2465.9936 | R25: =A25 -> №015
A26: №016\17 | B26: 7006.47 | C26: 6810.74 | D26: 13817.21 | E26: 7035.26 | F26: 6831.94 | G26: 13867.2 | H26: =E26-B26 -> 28.79 | I26: =F26-C26 -> 21.2 | J26: =SUM(H26:I26) -> 49.99 | K26: =[1]Оплата!BE24 -> -134.0766 | L26: =[1]Оплата!AC24 -> 0 | M26: =H26*M$6 -> 196.3478 | N26: =I26*N$6 -> 56.18 | O26: =SUM(M26:N26) -> 252.5278 | Q26: =K26-O26+L26+P26 -> -386.6044 | R26: =A26 -> №016\17
A27: №018 | B27: 3633.79 | C27: 1297.63 | D27: 4931.44 | E27: 3893.47 | F27: 1388.9 | G27: 5282.39 | H27: =E27-B27 -> 259.68 | I27: =F27-C27 -> 91.27 | J27: =SUM(H27:I27) -> 350.95 | K27: =[1]Оплата!BE25 -> -1063.9108 | L27: =[1]Оплата!AC25 -> 0 | M27: =H27*M$6 -> 1771.0176 | N27: =I27*N$6 -> 241.8655 | O27: =SUM(M27:N27) -> 2012.8831 | Q27: =K27-O27+L27+P27 -> -3076.7939 | R27: =A27 -> №018
A28: №019 | B28: 6644.63 | C28: 3975.4 | D28: 10620.09 | E28: 6644.63 | F28: 3975.4 | G28: 10620.09 | H28: =E28-B28 -> 0 | I28: =F28-C28 -> 0 | J28: =SUM(H28:I28) -> 0 | K28: =[1]Оплата!BE26 -> -20720.601 | L28: =[1]Оплата!AC26 -> 0 | M28: =H28*M$6 -> 0 | N28: =I28*N$6 -> 0 | O28: =SUM(M28:N28) -> 0 | Q28: =K28-O28+L28+P28 -> -20720.601 | R28: =A28 -> №019
A29: №020 | B29: 5909.21 | C29: 2733.37 | D29: 8643.23 | E29: 5961.58 | F29: 2746.77 | G29: 8708.99 | H29: =E29-B29 -> 52.37 | I29: =F29-C29 -> 13.4 | J29: =SUM(H29:I29) -> 65.77 | K29: =[1]Оплата!BE27 -> 961.6681 | L29: =[1]Оплата!AC27 -> 0 | M29: =H29*M$6 -> 357.1634 | N29: =I29*N$6 -> 35.51 | O29: =SUM(M29:N29) -> 392.6734 | Q29: =K29-O29+L29+P29 -> 568.9947 | R29: =A29 -> №020
A30: №021\1 | B30: 320.95 | C30: 262.5 | D30: 583.45 | E30: 345.2 | F30: 269.83 | G30: 615.04 | H30: =E30-B30 -> 24.25 | I30: =F30-C30 -> 7.33 | J30: =SUM(H30:I30) -> 31.58 | K30: =[1]Оплата!BE28 -> 4604.2136 | L30: =[1]Оплата!AC28 -> 0 | M30: =H30*M$6 -> 165.385 | N30: =I30*N$6 -> 19.4245 | O30: =SUM(M30:N30) -> 184.8095 | Q30: =K30-O30+L30+P30 -> 4419.4041 | R30: =A30 -> №021\1
A31: №021\2 | B31: 1662.14 | C31: 839.62 | D31: 2501.77 | E31: 1710.35 | F31: 856.75 | G31: 2567.11 | H31: =E31-B31 -> 48.21 | I31: =F31-C31 -> 17.13 | J31: =SUM(H31:I31) -> 65.34 | K31: =[1]Оплата!BE29 -> -5480.4813 | L31: =[1]Оплата!AC29 -> 0 | M31: =H31*M$6 -> 328.7922 | N31: =I31*N$6 -> 45.3945 | O31: =SUM(M31:N31) -> 374.1867 | Q31: =K31-O31+L31+P31 -> -5854.668 | R31: =A31 -> №021\2
A32: №022 | B32: 3590.57 | C32: 1546.43 | D32: 5137.02 | E32: 3651.55 | F32: 1561.25 | G32: 5212.81 | H32: =E32-B32 -> 60.98 | I32: =F32-C32 -> 14.82 | J32: =SUM(H32:I32) -> 75.8 | K32: =[1]Оплата!BE30 -> 1197.9735 | L32: =[1]Оплата!AC30 -> 0 | M32: =H32*M$6 -> 415.8836 | N32: =I32*N$6 -> 39.273 | O32: =SUM(M32:N32) -> 455.1566 | Q32: =K32-O32+L32+P32 -> 742.8169 | R32: =A32 -> №022
A33: №022а | B33: 1725.21 | C33: 740.49 | D33: 2465.71 | E33: 1788.39 | F33: 769.48 | G33: 2557.88 | H33: =E33-B33 -> 63.18 | I33: =F33-C33 -> 28.99 | J33: =SUM(H33:I33) -> 92.17 | K33: =[1]Оплата!BE31 -> 5839.318 | L33: =[1]Оплата!AC31 -> 0 | M33: =H33*M$6 -> 430.8876 | N33: =I33*N$6 -> 76.8235 | O33: =SUM(M33:N33) -> 507.7111 | Q33: =K33-O33+L33+P33 -> 5331.6069 | R33: =A33 -> №022а
A34: №023 | B34: 0.51 | C34: 0.58 | D34: 1.1 | E34: 0.51 | F34: 0.58 | G34: 1.1 | H34: =E34-B34 -> 0 | I34: =F34-C34 -> 0 | J34: =SUM(H34:I34) -> 0 | K34: =[1]Оплата!BE32 -> -3.358 | L34: =[1]Оплата!AC32 -> 0 | M34: =H34*M$6 -> 0 | N34: =I34*N$6 -> 0 | O34: =SUM(M34:N34) -> 0 | Q34: =K34-O34+L34+P34 -> -3.358 | R34: =A34 -> №023
... A39: №028 | B39: 1330.52 | C39: 496.08 | D39: 1826.61 | E39: 1330.52 | F39: 496.08 | G39: 1826.61 | H39: =E39-B39 -> 0 | I39: =F39-C39 -> 0 | J39: =SUM(H39:I39) -> 0 | K39: =[1]Оплата!BE37 -> -4.3548 | L39: =[1]Оплата!AC37 -> 0 | M39: =H39*M$6 -> 0 | N39: =I39*N$6 -> 0 | O39: =SUM(M39:N39) -> 0 | Q39: =K39-O39+L39+P39 -> -4.3548 | R39: =A39 -> №028
A40: №029 сбыт | K40: =[1]Оплата!BE38 -> 0.0048 | L40: =[1]Оплата!AC38 -> 0 | M40: =H40*M$6 -> 0 | N40: =I40*N$6 -> 0 | O40: =SUM(M40:N40) -> 0 | Q40: =K40-O40+L40+P40 -> 0.0048 | R40: =A40 -> №029 сбыт
A41: №030 | B41: 1603.35 | C41: 584.95 | D41: 2188.35 | E41: 1603.35 | F41: 584.95 | G41: 2188.35 | H41: =E41-B41 -> 0 | I41: =F41-C41 -> 0 | J41: =SUM(H41:I41) -> 0 | K41: =[1]Оплата!BE39 -> -10.3873 | L41: =[1]Оплата!AC39 -> 0 | M41: =H41*M$6 -> 0 | N41: =I41*N$6 -> 0 | O41: =SUM(M41:N41) -> 0 | Q41: =K41-O41+L41+P41 -> -10.3873 | R41: =A41 -> №030
A42: №031\1 | B42: 9942.35 | C42: 5327.32 | D42: 15269.68 | E42: 10521.7 | F42: 5438.22 | G42: 15959.92 | H42: =E42-B42 -> 579.35 | I42: =F42-C42 -> 110.9 | J42: =SUM(H42:I42) -> 690.25 | K42: =[1]Оплата!BE40 -> -30030.1 | L42: =[1]Оплата!AC40 -> 0 | M42: =H42*M$6 -> 3951.167 | N42: =I42*N$6 -> 293.885 | O42: =SUM(M42:N42) -> 4245.052 | Q42: =K42-O42+L42+P42 -> -34275.152 | R42: =A42 -> №031\1
A43: №031\2 | B43: 5263.87 | C43: 1629.41 | D43: 6893.29 | E43: 5621.76 | F43: 1687.93 | G43: 7309.71 | H43: =E43-B43 -> 357.89 | I43: =F43-C43 -> 58.52 | J43: =SUM(H43:I43) -> 416.41 | K43: =[1]Оплата!BE41 -> 24772.002 | L43: =[1]Оплата!AC41 -> 5300 | M43: =H43*M$6 -> 2440.8098 | N43: =I43*N$6 -> 155.078 | O43: =SUM(M43:N43) -> 2595.8878 | Q43: =K43-O43+L43+P43 -> 27476.114 | R43: =A43 -> №031\2
A44: №032 | B44: 7257.1 | C44: 4258.72 | D44: 11515.91 | E44: 7410.36 | F44: 4331.87 | G44: 11742.32 | H44: =E44-B44 -> 153.26 | I44: =F44-C44 -> 73.15 | J44: =SUM(H44:I44) -> 226.41 | K44: =[1]Оплата!BE42 -> -34.0239 | L44: =[1]Оплата!AC42 -> 0 | M44: =H44*M$6 -> 1045.2332 | N44: =I44*N$6 -> 193.8475 | O44: =SUM(M44:N44) -> 1239.0807 | Q44: =K44-O44+L44+P44 -> -1273.1046 | R44: =A44 -> №032
A45: №033 | B45: 10460.28 | C45: 3666.8 | D45: 14127.09 | E45: 10460.28 | F45: 3666.8 | G45: 14127.09 | H45: =E45-B45 -> 0 | I45: =F45-C45 -> 0 | J45: =SUM(H45:I45) -> 0 | K45: =[1]Оплата!BE43 -> 0.014 | L45: =[1]Оплата!AC43 -> 0 | M45: =H45*M$6 -> 0 | N45: =I45*N$6 -> 0 | O45: =SUM(M45:N45) -> 0 | Q45: =K45-O45+L45+P45 -> 0.014 | R45: =A45 -> №033
A46: №034 | B46: 1965.35 | C46: 436.79 | D46: 2402.15 | E46: 1965.36 | F46: 436.79 | G46: 2402.16 | H46: =E46-B46 -> 0.01 | I46: =F46-C46 -> 0 | J46: =SUM(H46:I46) -> 0.01 | K46: =[1]Оплата!BE44 -> -13.9333 | L46: =[1]Оплата!AC44 -> 0 | M46: =H46*M$6 -> 0.0682 | N46: =I46*N$6 -> 0 | O46: =SUM(M46:N46) -> 0.0682 | Q46: =K46-O46+L46+P46 -> -14.0015 | R46: =A46 -> №034
A47: №035 | B47: 11338.26 | C47: 5747.1 | D47: 17085.37 | E47: 11508.58 | F47: 5816.4 | G47: 17324.99 | H47: =E47-B47 -> 170.32 | I47: =F47-C47 -> 69.3 | J47: =SUM(H47:I47) -> 239.62 | K47: =[1]Оплата!BE45 -> -616.4183 | L47: =[1]Оплата!AC45 -> 3000 | M47: =H47*M$6 -> 1161.5824 | N47: =I47*N$6 -> 183.645 | O47: =SUM(M47:N47) -> 1345.2274 | Q47: =K47-O47+L47+P47 -> 1038.3543 | R47: =A47 -> №035
A48: №036 | B48: 7921.85 | C48: 2406.15 | D48: 10328.01 | E48: 8106.17 | F48: 2454.98 | G48: 10561.16 | H48: =E48-B48 -> 184.32 | I48: =F48-C48 -> 48.83 | J48: =SUM(H48:I48) -> 233.15 | K48: =[1]Оплата!BE46 -> -11.3491 | L48: =[1]Оплата!AC46 -> 0 | M48: =H48*M$6 -> 1257.0624 | N48: =I48*N$6 -> 129.3995 | O48: =SUM(M48:N48) -> 1386.4619 | Q48: =K48-O48+L48+P48 -> -1397.811 | R48: =A48 -> №036
A49: №037 сбыт | B49: 14949.29 | C49: 6952.35 | D49: 21901.7 | E49: 14949.29 | F49: 6952.35 | G49: 21901.7 | K49: =[1]Оплата!BE47 -> 0.0032 | L49: =[1]Оплата!AC47 -> 0 | M49: =H49*M$6 -> 0 | N49: =I49*N$6 -> 0 | O49: =SUM(M49:N49) -> 0 | Q49: =K49-O49+L49+P49 -> 0.0032 | R49: =A49 -> №037 сбыт
A50: №038 | B50: 4834.94 | C50: 2261.96 | D50: 7096.92 | E50: 4932.37 | F50: 2329.69 | G50: 7262.08 | H50: =E50-B50 -> 97.43 | I50: =F50-C50 -> 67.73 | J50: =SUM(H50:I50) -> 165.16 | K50: =[1]Оплата!BE48 -> 2715.0964 | L50: =[1]Оплата!AC48 -> 0 | M50: =H50*M$6 -> 664.4726 | N50: =I50*N$6 -> 179.4845 | O50: =SUM(M50:N50) -> 843.9571 | Q50: =K50-O50+L50+P50 -> 1871.1393 | R50: =A50 -> №038
A51: №039 сбыт | J51: =SUM(H51:I51) -> 0 | K51: =[1]Оплата!BE49 -> -582.5861 | L51: =[1]Оплата!AC49 -> 0 | M51: =H51*M$6 -> 0 | N51: =I51*N$6 -> 0 | O51: =SUM(M51:N51) -> 0 | Q51: =K51-O51+L51+P51 -> -582.5861 | R51: =A51 -> №039 сбыт
A52: №040 | B52: 1372.34 | C52: 2550.53 | D52: 3922.88 | E52: 1372.34 | F52: 2550.53 | G52: 3922.88 | H52: =E52-B52 -> 0 | I52: =F52-C52 -> 0 | J52: =SUM(H52:I52) -> 0 | K52: =[1]Оплата!BE50 -> -0.4882 | L52: =[1]Оплата!AC50 -> 0 | M52: =H52*M$6 -> 0 | N52: =I52*N$6 -> 0 | O52: =SUM(M52:N52) -> 0 | Q52: =K52-O52+L52+P52 -> -0.4882 | R52: =A52 -> №040
A53: №041 | B53: 5848.3 | C53: 2972.61 | D53: 8821.33 | E53: 5966.69 | F53: 3005.37 | G53: 8972.49 | H53: =E53-B53 -> 118.39 | I53: =F53-C53 -> 32.76 | J53: =SUM(H53:I53) -> 151.15 | K53: =[1]Оплата!BE51 -> -702.2126 | L53: =[1]Оплата!AC51 -> 0 | M53: =H53*M$6 -> 807.4198 | N53: =I53*N$6 -> 86.814 | O53: =SUM(M53:N53) -> 894.2338 | Q53: =K53-O53+L53+P53 -> -1596.4464 | R53: =A53 -> №041
A54: №041а | B54: 11345.59 | C54: 4937.09 | D54: 16282.68 | E54: 11453.22 | F54: 4958.3 | G54: 16411.53 | H54: =E54-B54 -> 107.63 | I54: =F54-C54 -> 21.21 | J54: =SUM(H54:I54) -> 128.84 | K54: =[1]Оплата!BE52 -> -1395.2073 | L54: =[1]Оплата!AC52 -> 1500 | M54: =H54*M$6 -> 734.0366 | N54: =I54*N$6 -> 56.2065 | O54: =SUM(M54:N54) -> 790.2431 | Q54: =K54-O54+L54+P54 -> -685.4504 | R54: =A54 -> №041а
A55: №042 | B55: 5206.58 | C55: 2538.28 | D55: 7744.89 | E55: 5440.39 | F55: 2567.63 | G55: 8008.06 | H55: =E55-B55 -> 233.81 | I55: =F55-C55 -> 29.35 | J55: =SUM(H55:I55) -> 263.16 | K55: =[1]Оплата!BE53 -> -1738.2038 | L55: =[1]Оплата!AC53 -> 1738.2 | M55: =H55*M$6 -> 1594.5842 | N55: =I55*N$6 -> 77.7775 | O55: =SUM(M55:N55) -> 1672.3617 | Q55: =K55-O55+L55+P55 -> -1672.3655 | R55: =A55 -> №042
A56: №043\1 | B56: 6030.07 | C56: 2277.58 | D56: 8307.65 | E56: 6190.72 | F56: 2321.69 | G56: 8512.41 | H56: =E56-B56 -> 160.65 | I56: =F56-C56 -> 44.11 | J56: =SUM(H56:I56) -> 204.76 | K56: =[1]Оплата!BE54 -> 633.7229 | L56: =[1]Оплата!AC54 -> 0 | M56: =H56*M$6 -> 1095.633 | N56: =I56*N$6 -> 116.8915 | O56: =SUM(M56:N56) -> 1212.5245 | Q56: =K56-O56+L56+P56 -> -578.8016 | R56: =A56 -> №043\1
A57: №043\2 | B57: 22278.05 | C57: 10306.23 | D57: 32584.28 | E57: 22485.69 | F57: 10349.04 | G57: 32834.74 | H57: =E57-B57 -> 207.64 | I57: =F57-C57 -> 42.81 | J57: =SUM(H57:I57) -> 250.45 | K57: =[1]Оплата!BE55 -> -631.9927 | L57: =[1]Оплата!AC55 -> 0 | M57: =H57*M$6 -> 1416.1048 | N57: =I57*N$6 -> 113.4465 | O57: =SUM(M57:N57) -> 1529.5513 | Q57: =K57-O57+L57+P57 -> -2161.544 | R57: =A57 -> №043\2
A58: №044 | B58: 5951.21 | C58: 2822.52 | D58: 8773.74 | E58: 6119.16 | F58: 2904.87 | G58: 9024.04 | H58: =E58-B58 -> 167.95 | I58: =F58-C58 -> 82.35 | J58: =SUM(H58:I58) -> 250.3 | K58: =[1]Оплата!BE56 -> -1510.3312 | L58: =[1]Оплата!AC56 -> 0 | M58: =H58*M$6 -> 1145.419 | N58: =I58*N$6 -> 218.2275 | O58: =SUM(M58:N58) -> 1363.6465 | Q58: =K58-O58+L58+P58 -> -2873.9777 | R58: =A58 -> №044
A59: №045 не установлен | J59: =SUM(H59:I59) -> 0 | K59: =[1]Оплата!BE57 -> 0 | L59: =[1]Оплата!AC57 -> 0 | Q59: =K59-O59+L59+P59 -> 0 | R59: =A59 -> №045 не установлен
A60: №046 | B60: 7581.62 | C60: 4848.01 | D60: 12429.64 | E60: 7637.84 | F60: 4880.28 | G60: 12518.13 | H60: =E60-B60 -> 56.22 | I60: =F60-C60 -> 32.27 | J60: =SUM(H60:I60) -> 88.49 | K60: =[1]Оплата!BE58 -> -5494.1605 | L60: =[1]Оплата!AC58 -> 2415.97 | M60: =H60*M$6 -> 383.4204 | N60: =I60*N$6 -> 85.5155 | O60: =SUM(M60:N60) -> 468.9359 | Q60: =K60-O60+L60+P60 -> -3547.1264 | R60: =A60 -> №046
A61: №046а | B61: 8185.47 | C61: 3433.35 | D61: 11618.85 | E61: 8327.04 | F61: 3476.77 | G61: 11803.84 | H61: =E61-B61 -> 141.57 | I61: =F61-C61 -> 43.42 | J61: =SUM(H61:I61) -> 184.99 | K61: =[1]Оплата!BE59 -> -3837.0931 | L61: =[1]Оплата!AC59 -> 2319.01 | M61: =H61*M$6 -> 965.5074 | N61: =I61*N$6 -> 115.063 | O61: =SUM(M61:N61) -> 1080.5704 | Q61: =K61-O61+L61+P61 -> -2598.6535 | R61: =A61 -> №046а
A62: №047 | B62: 314.78 | C62: 144.71 | D62: 459.5 | E62: 314.78 | F62: 144.71 | G62: 459.5 | H62: =E62-B62 -> 0 | I62: =F62-C62 -> 0 | J62: =SUM(H62:I62) -> 0 | K62: =[1]Оплата!BE60 -> -2071.5971 | L62: =[1]Оплата!AC60 -> 0 | M62: =H62*M$6 -> 0 | N62: =I62*N$6 -> 0 | O62: =SUM(M62:N62) -> 0 | Q62: =K62-O62+L62+P62 -> -2071.5971 | R62: =A62 -> №047
A63: №048 | B63: 14532.49 | C63: 3993.51 | D63: 18526.05 | E63: 14980.01 | F63: 4105.14 | G63: 19085.23 | H63: =E63-B63 -> 447.52 | I63: =F63-C63 -> 111.63 | J63: =SUM(H63:I63) -> 559.15 | K63: =[1]Оплата!BE61 -> 242.3039 | L63: =[1]Оплата!AC61 -> 0 | M63: =H63*M$6 -> 3052.0864 | N63: =I63*N$6 -> 295.8195 | O63: =SUM(M63:N63) -> 3347.9059 | Q63: =K63-O63+L63+P63 -> -3105.602 | R63: =A63 -> №048
A64: №049 | B64: 12736.92 | C64: 4415.34 | D64: 17152.26 | E64: 13192.39 | F64: 4498.33 | G64: 17690.72 | H64: =E64-B64 -> 455.47 | I64: =F64-C64 -> 82.99 | J64: =SUM(H64:I64) -> 538.46 | K64: =[1]Оплата!BE62 -> -3506.8298 | L64: =[1]Оплата!AC62 -> 3500 | M64: =H64*M$6 -> 3106.3054 | N64: =I64*N$6 -> 219.9235 | O64: =SUM(M64:N64) -> 3326.2289 | Q64: =K64-O64+L64+P64 -> -3333.0587 | R64: =A64 -> №049
A65: №050 | B65: 12416.77 | C65: 5005.74 | D65: 17422.51 | E65: 12651.98 | F65: 5086.78 | G65: 17738.77 | H65: =E65-B65 -> 235.21 | I65: =F65-C65 -> 81.04 | J65: =SUM(H65:I65) -> 316.25 | K65: =[1]Оплата!BE63 -> 4358.4136 | L65: =[1]Оплата!AC63 -> 0 | M65: =H65*M$6 -> 1604.1322 | N65: =I65*N$6 -> 214.756 | O65: =SUM(M65:N65) -> 1818.8882 | Q65: =K65-O65+L65+P65 -> 2539.5254 | R65: =A65 -> №050
A66: №051 | B66: 18586.93 | C66: 16537.01 | D66: 35123.95 | E66: 18694.23 | F66: 16580.77 | G66: 35275.01 | H66: =E66-B66 -> 107.3 | I66: =F66-C66 -> 43.76 | J66: =SUM(H66:I66) -> 151.06 | K66: =[1]Оплата!BE64 -> -10223.842 | L66: =[1]Оплата!AC64 -> 10000 | M66: =H66*M$6 -> 731.786 | N66: =I66*N$6 -> 115.964 | O66: =SUM(M66:N66) -> 847.75 | Q66: =K66-O66+L66+P66 -> -1071.5921 | R66: =A66 -> №051
A67: №052 | B67: 6676.07 | C67: 2636.63 | D67: 9312.71 | E67: 6841.35 | F67: 2684.36 | G67: 9525.72 | H67: =E67-B67 -> 165.28 | I67: =F67-C67 -> 47.73 | J67: =SUM(H67:I67) -> 213.01 | K67: =[1]Оплата!BE65 -> -2412.1914 | L67: =[1]Оплата!AC65 -> 2500 | M67: =H67*M$6 -> 1127.2096 | N67: =I67*N$6 -> 126.4845 | O67: =SUM(M67:N67) -> 1253.6941 | Q67: =K67-O67+L67+P67 -> -1165.8855 | R67: =A67 -> №052
A68: №052а | B68: 7286.6 | C68: 2170.7 | D68: 9457.34 | E68: 7570.01 | F68: 2227.81 | G68: 9797.86 | H68: =E68-B68 -> 283.41 | I68: =F68-C68 -> 57.11 | J68: =SUM(H68:I68) -> 340.52 | K68: =[1]Оплата!BE66 -> -1176.997 | L68: =[1]Оплата!AC66 -> 0 | M68: =H68*M$6 -> 1932.8562 | N68: =I68*N$6 -> 151.3415 | O68: =SUM(M68:N68) -> 2084.1977 | Q68: =K68-O68+L68+P68 -> -3261.1947 | R68: =A68 -> №052а
A69: №053 | B69: 1546.95 | C69: 837.04 | D69: 2383.99 | E69: 1823.27 | F69: 1018.5 | G69: 2841.78 | H69: =E69-B69 -> 276.32 | I69: =F69-C69 -> 181.46 | J69: =SUM(H69:I69) -> 457.78 | K69: =[1]Оплата!BE67 -> -11127.685 | L69: =[1]Оплата!AC67 -> 4000 | M69: =H69*M$6 -> 1884.5024 | N69: =I69*N$6 -> 480.869 | O69: =SUM(M69:N69) -> 2365.3714 | Q69: =K69-O69+L69+P69 -> -9493.0567 | R69: =A69 -> №053
A70: №054 | B70: 1715.54 | C70: 838.26 | D70: 2553.81 | E70: 1753.12 | F70: 854.14 | G70: 2607.27 | H70: =E70-B70 -> 37.58 | I70: =F70-C70 -> 15.88 | J70: =SUM(H70:I70) -> 53.46 | K70: =[1]Оплата!BE68 -> -929.8704 | L70: =[1]Оплата!AC68 -> 0 | M70: =H70*M$6 -> 256.2956 | N70: =I70*N$6 -> 42.082 | O70: =SUM(M70:N70) -> 298.3776 | Q70: =K70-O70+L70+P70 -> -1228.248 | R70: =A70 -> №054
A71: №055 | B71: 13646.58 | C71: 5674.49 | D71: 19321.1 | E71: 13734.73 | F71: 5696.83 | G71: 19431.57 | H71: =E71-B71 -> 88.15 | I71: =F71-C71 -> 22.34 | J71: =SUM(H71:I71) -> 110.49 | K71: =[1]Оплата!BE69 -> -3100.8239 | L71: =[1]Оплата!AC69 -> 3110 | M71: =H71*M$6 -> 601.183 | N71: =I71*N$6 -> 59.201 | O71: =SUM(M71:N71) -> 660.384 | Q71: =K71-O71+L71+P71 -> -651.2079 | R71: =A71 -> №055
... A74: №058 | B74: 10294.73 | C74: 3435.01 | D74: 13729.75 | E74: 10529.81 | F74: 3483.9 | G74: 14013.72 | H74: =E74-B74 -> 235.08 | I74: =F74-C74 -> 48.89 | J74: =SUM(H74:I74) -> 283.97 | K74: =[1]Оплата!BE72 -> -3080.9148 | L74: =[1]Оплата!AC72 -> 0 | M74: =H74*M$6 -> 1603.2456 | N74: =I74*N$6 -> 129.5585 | O74: =SUM(M74:N74) -> 1732.8041 | Q74: =K74-O74+L74+P74 -> -4813.7189 | R74: =A74 -> №058
A75: №059 | B75: 27354.9 | C75: 12199.87 | D75: 39554.78 | E75: 27594.64 | F75: 12292.51 | G75: 39887.16 | H75: =E75-B75 -> 239.74 | I75: =F75-C75 -> 92.64 | J75: =SUM(H75:I75) -> 332.38 | K75: =[1]Оплата!BE73 -> 15659.12 | L75: =[1]Оплата!AC73 -> 0 | M75: =H75*M$6 -> 1635.0268 | N75: =I75*N$6 -> 245.496 | O75: =SUM(M75:N75) -> 1880.5228 | Q75: =K75-O75+L75 -> 13778.597 | R75: =A75 -> №059
A76: №060 | B76: 4611.71 | C76: 1854.37 | D76: 6466.1 | E76: 4793.23 | F76: 1898.16 | G76: 6691.4 | H76: =E76-B76 -> 181.52 | I76: =F76-C76 -> 43.79 | J76: =SUM(H76:I76) -> 225.31 | K76: =[1]Оплата!BE74 -> -1075.8741 | L76: =[1]Оплата!AC74 -> 0 | M76: =H76*M$6 -> 1237.9664 | N76: =I76*N$6 -> 116.0435 | O76: =SUM(M76:N76) -> 1354.0099 | Q76: =K76-O76+L76 -> -2429.884 | R76: =A76 -> №060
A77: №061 | B77: 6039.37 | C77: 2305.14 | D77: 8344.52 | E77: 6214.43 | F77: 2343.74 | G77: 8558.18 | H77: =E77-B77 -> 175.06 | I77: =F77-C77 -> 38.6 | J77: =SUM(H77:I77) -> 213.66 | K77: =[1]Оплата!BE75 -> -4856.5478 | L77: =[1]Оплата!AC75 -> 0 | M77: =H77*M$6 -> 1193.9092 | N77: =I77*N$6 -> 102.29 | O77: =SUM(M77:N77) -> 1296.1992 | Q77: =K77-O77+L77+P77 -> -6152.747 | R77: =A77 -> №061
A78: №062 | B78: 18306.71 | C78: 10805 | D78: 29112.25 | E78: 18462.67 | F78: 10851.18 | G78: 29314.4 | H78: =E78-B78 -> 155.96 | I78: =F78-C78 -> 46.18 | J78: =SUM(H78:I78) -> 202.14 | K78: =[1]Оплата!BE76 -> -473.1858 | L78: =[1]Оплата!AC76 -> 0 | M78: =H78*M$6 -> 1063.6472 | N78: =I78*N$6 -> 122.377 | O78: =SUM(M78:N78) -> 1186.0242 | Q78: =K78-O78+L78+P78 -> -1659.21 | R78: =A78 -> №062
A79: №062а | B79: 8327.69 | C79: 2475.01 | D79: 10802.72 | E79: 8759.12 | F79: 2559.16 | G79: 11318.3 | H79: =E79-B79 -> 431.43 | I79: =F79-C79 -> 84.15 | J79: =SUM(H79:I79) -> 515.58 | K79: =[1]Оплата!BE77 -> -2979.5953 | L79: =[1]Оплата!AC77 -> 2979.6 | M79: =H79*M$6 -> 2942.3526 | N79: =I79*N$6 -> 222.9975 | O79: =SUM(M79:N79) -> 3165.3501 | Q79: =K79-O79+L79+P79 -> -3165.3454 | R79: =A79 -> №062а
A80: №063 | B80: 1441.41 | C80: 845.87 | D80: 2287.29 | E80: 1495.41 | F80: 861.3 | G80: 2356.72 | H80: =E80-B80 -> 54 | I80: =F80-C80 -> 15.43 | J80: =SUM(H80:I80) -> 69.43 | K80: =[1]Оплата!BE78 -> -1081.3791 | L80: =[1]Оплата!AC78 -> 0 | M80: =H80*M$6 -> 368.28 | N80: =I80*N$6 -> 40.8895 | O80: =SUM(M80:N80) -> 409.1695 | Q80: =K80-O80+L80+P80 -> -1490.5486 | R80: =A80 -> №063
A81: №064\1 | B81: 76.53 | C81: 18.42 | D81: 94.97 | E81: 77.68 | F81: 18.44 | G81: 96.14 | H81: =E81-B81 -> 1.15 | I81: =F81-C81 -> 0.02 | J81: =SUM(H81:I81) -> 1.17 | K81: =[1]Оплата!BE79 -> 38446.909 | L81: =[1]Оплата!AC79 -> 0 | M81: =H81*M$6 -> 7.843 | N81: =I81*N$6 -> 0.053 | O81: =SUM(M81:N81) -> 7.896 | Q81: =K81-O81+L81+P81 -> 38439.013 | R81: =A81 -> №064\1
A82: №064\2 | B82: 7984.95 | C82: 2901.94 | D82: 10886.9 | E82: 8138.34 | F82: 2960.98 | G82: 11099.33 | H82: =E82-B82 -> 153.39 | I82: =F82-C82 -> 59.04 | J82: =SUM(H82:I82) -> 212.43 | K82: =[1]Оплата!BE80 -> -43019.509 | L82: =[1]Оплата!AC80 -> 5000 | M82: =H82*M$6 -> 1046.1198 | N82: =I82*N$6 -> 156.456 | O82: =SUM(M82:N82) -> 1202.5758 | Q82: =K82-O82+L82+P82 -> -39222.084 | R82: =A82 -> №064\2
A83: №065 | B83: 39849.71 | C83: 14906.3 | D83: 54756.02 | E83: 40420.45 | F83: 15070.12 | G83: 55490.57 | H83: =E83-B83 -> 570.74 | I83: =F83-C83 -> 163.82 | J83: =SUM(H83:I83) -> 734.56 | K83: =[1]Оплата!BE81 -> -4087.8702 | L83: =[1]Оплата!AC81 -> 4000 | M83: =H83*M$6 -> 3892.4468 | N83: =I83*N$6 -> 434.123 | O83: =SUM(M83:N83) -> 4326.5698 | Q83: =K83-O83+L83+P83 -> -4414.44 | R83: =A83 -> №065
A84: №066 | B84: 14910.26 | C84: 6953.86 | D84: 21864.13 | E84: 15116.34 | F84: 7037.37 | G84: 22153.72 | H84: =E84-B84 -> 206.08 | I84: =F84-C84 -> 83.51 | J84: =SUM(H84:I84) -> 289.59 | K84: =[1]Оплата!BE82 -> -2409.733 | L84: =[1]Оплата!AC82 -> 0 | M84: =H84*M$6 -> 1405.4656 | N84: =I84*N$6 -> 221.3015 | O84: =SUM(M84:N84) -> 1626.7671 | Q84: =K84-O84+L84+P84 -> -4036.5001 | R84: =A84 -> №066
A85: №067 | B85: 5127.97 | C85: 2457.7 | D85: 7585.67 | E85: 5278.7 | F85: 2498.9 | G85: 7777.61 | H85: =E85-B85 -> 150.73 | I85: =F85-C85 -> 41.2 | J85: =SUM(H85:I85) -> 191.93 | K85: =[1]Оплата!BE83 -> 3189.2162 | L85: =[1]Оплата!AC83 -> 0 | M85: =H85*M$6 -> 1027.9786 | N85: =I85*N$6 -> 109.18 | O85: =SUM(M85:N85) -> 1137.1586 | Q85: =K85-O85+L85+P85 -> 2052.0576 | R85: =A85 -> №067
A86: №068 | B86: 7609.18 | C86: 5677.05 | D86: 13286.26 | E86: 7806.06 | F86: 5791.7 | G86: 13597.79 | H86: =E86-B86 -> 196.88 | I86: =F86-C86 -> 114.65 | J86: =SUM(H86:I86) -> 311.53 | K86: =[1]Оплата!BE84 -> 2159.4454 | L86: =[1]Оплата!AC84 -> 0 | M86: =H86*M$6 -> 1342.7216 | N86: =I86*N$6 -> 303.8225 | O86: =SUM(M86:N86) -> 1646.5441 | Q86: =K86-O86+L86+P86 -> 512.9013 | R86: =A86 -> №068
A87: №069 | B87: 1717.13 | C87: 1124.19 | D87: 2841.32 | E87: 1810.31 | F87: 1146.27 | G87: 2956.59 | H87: =E87-B87 -> 93.18 | I87: =F87-C87 -> 22.08 | J87: =SUM(H87:I87) -> 115.26 | K87: =[1]Оплата!BE85 -> -1859.619 | L87: =[1]Оплата!AC85 -> 0 | M87: =H87*M$6 -> 635.4876 | N87: =I87*N$6 -> 58.512 | O87: =SUM(M87:N87) -> 693.9996 | Q87: =K87-O87+L87+P87 -> -2553.6186 | R87: =A87 -> №069
A88: №070 | B88: 6097.28 | C88: 3092.4 | D88: 9189.69 | E88: 6261.08 | F88: 3136.83 | G88: 9397.91 | H88: =E88-B88 -> 163.8 | I88: =F88-C88 -> 44.43 | J88: =SUM(H88:I88) -> 208.23 | K88: =[1]Оплата!BE86 -> 130.4351 | L88: =[1]Оплата!AC86 -> 0 | M88: =H88*M$6 -> 1117.116 | N88: =I88*N$6 -> 117.7395 | O88: =SUM(M88:N88) -> 1234.8555 | Q88: =K88-O88+L88+P88 -> -1104.4204 | R88: =A88 -> №070
... A130: №110 | B130: 11528.91 | C130: 5958.56 | D130: 17487.57 | E130: 11562.95 | F130: 5973.54 | G130: 17536.58 | H130: =E130-B130 -> 34.04 | I130: =F130-C130 -> 14.98 | J130: =SUM(H130:I130) -> 49.02 | K130: =[1]Оплата!BE128 -> -6678.9719 | L130: =[1]Оплата!AC128 -> 0 | M130: =H130*M$6 -> 232.1528 | N130: =I130*N$6 -> 39.697 | O130: =SUM(M130:N130) -> 271.8498 | Q130: =K130-O130+L130+P130 -> -6950.8217 | R130: =A130 -> №110
A131: №111 | K131: =[1]Оплата!BE129 -> 402.8311 | L131: =[1]Оплата!AC129 -> 0 | M131: =H131*M$6 -> 0 | N131: =I131*N$6 -> 0 | O131: =SUM(M131:N131) -> 0 | Q131: =K131-O131+L131+P131 -> 402.8311 | R131: =A131 -> №111
A132: №112 | B132: 5992.14 | C132: 1308.75 | D132: 7300.9 | E132: 6156.9 | F132: 1349.15 | G132: 7506.06 | H132: =E132-B132 -> 164.76 | I132: =F132-C132 -> 40.4 | J132: =SUM(H132:I132) -> 205.16 | K132: =[1]Оплата!BE130 -> -1089.0176 | L132: =[1]Оплата!AC130 -> 0 | M132: =H132*M$6 -> 1123.6632 | N132: =I132*N$6 -> 107.06 | O132: =SUM(M132:N132) -> 1230.7232 | Q132: =K132-O132+L132+P132 -> -2319.7408 | R132: =A132 -> №112
A133: №113 | B133: 3817.72 | C133: 1520.35 | D133: 5338.08 | E133: 3935.94 | F133: 1548.46 | G133: 5484.41 | H133: =E133-B133 -> 118.22 | I133: =F133-C133 -> 28.11 | J133: =SUM(H133:I133) -> 146.33 | K133: =[1]Оплата!BE131 -> 545.9431 | L133: =[1]Оплата!AC131 -> 0 | M133: =H133*M$6 -> 806.2604 | N133: =I133*N$6 -> 74.4915 | O133: =SUM(M133:N133) -> 880.7519 | Q133: =K133-O133+L133+P133 -> -334.8088 | R133: =A133 -> №113
A134: №114 | B134: 11739.98 | C134: 3810.09 | D134: 15550.08 | E134: 12218.59 | F134: 3880.83 | G134: 16099.43 | H134: =E134-B134 -> 478.61 | I134: =F134-C134 -> 70.74 | J134: =SUM(H134:I134) -> 549.35 | K134: =[1]Оплата!BE132 -> -7501.8453 | L134: =[1]Оплата!AC132 -> 0 | M134: =H134*M$6 -> 3264.1202 | N134: =I134*N$6 -> 187.461 | O134: =SUM(M134:N134) -> 3451.5812 | Q134: =K134-O134+L134+P134 -> -10953.426 | R134: =A134 -> №114
A135: №115 | B135: 1087.57 | C135: 289.78 | D135: 1377.5 | E135: 1087.66 | F135: 289.79 | G135: 1377.59 | H135: =E135-B135 -> 0.09 | I135: =F135-C135 -> 0.01 | J135: =SUM(H135:I135) -> 0.1 | K135: =[1]Оплата!BE133 -> 164.833 | L135: =[1]Оплата!AC133 -> 0 | M135: =H135*M$6 -> 0.6138 | N135: =I135*N$6 -> 0.0265 | O135: =SUM(M135:N135) -> 0.6403 | Q135: =K135-O135+L135+P135 -> 164.1927 | R135: =A135 -> №115
A136: №116 | B136: 6422.3 | C136: 4414.43 | D136: 10836.74 | E136: 6482.34 | F136: 4428.33 | G136: 10910.68 | H136: =E136-B136 -> 60.04 | I136: =F136-C136 -> 13.9 | J136: =SUM(H136:I136) -> 73.94 | K136: =[1]Оплата!BE134 -> -22819.994 | L136: =[1]Оплата!AC134 -> 1000 | M136: =H136*M$6 -> 409.4728 | N136: =I136*N$6 -> 36.835 | O136: =SUM(M136:N136) -> 446.3078 | Q136: =K136-O136+L136+P136 -> -22266.302 | R136: =A136 -> №116
A137: №117 | B137: 17564.37 | C137: 11401.23 | D137: 28965.61 | E137: 17891.84 | F137: 11533.6 | G137: 29425.45 | H137: =E137-B137 -> 327.47 | I137: =F137-C137 -> 132.37 | J137: =SUM(H137:I137) -> 459.84 | K137: =[1]Оплата!BE135 -> -2547.2367 | L137: =[1]Оплата!AC135 -> 3000 | M137: =H137*M$6 -> 2233.3454 | N137: =I137*N$6 -> 350.7805 | O137: =SUM(M137:N137) -> 2584.1259 | Q137: =K137-O137+L137+P137 -> -2131.3626 | R137: =A137 -> №117
A138: №118 | B138: 5722.99 | C138: 2676.39 | D138: 8399.39 | E138: 6049.55 | F138: 2765.68 | G138: 8815.23 | H138: =E138-B138 -> 326.56 | I138: =F138-C138 -> 89.29 | J138: =SUM(H138:I138) -> 415.85 | K138: =[1]Оплата!BE136 -> -2824.9126 | L138: =[1]Оплата!AC136 -> 2824.91 | M138: =H138*M$6 -> 2227.1392 | N138: =I138*N$6 -> 236.6185 | O138: =SUM(M138:N138) -> 2463.7577 | Q138: =K138-O138+L138+P138 -> -2463.7603 | R138: =A138 -> №118
A139: №118а не установлен | J139: =SUM(H139:I139) -> 0 | K139: =[1]Оплата!BE137 -> 0 | L139: =[1]Оплата!AC137 -> 0 | Q139: =K139-O139+L139+P139 -> 0 | R139: =A139 -> №118а не установлен
A140: №119 | B140: 4402.27 | C140: 5258.3 | D140: 9660.59 | E140: 4560 | F140: 5341.28 | G140: 9901.29 | H140: =E140-B140 -> 157.73 | I140: =F140-C140 -> 82.98 | J140: =SUM(H140:I140) -> 240.71 | K140: =[1]Оплата!BE138 -> -1557.0126 | L140: =[1]Оплата!AC138 -> 0 | M140: =H140*M$6 -> 1075.7186 | N140: =I140*N$6 -> 219.897 | O140: =SUM(M140:N140) -> 1295.6156 | Q140: =K140-O140+L140+P140 -> -2852.6282 | R140: =A140 -> №119
A141: №120 снят | J141: =SUM(H141:I141) -> 0 | K141: =[1]Оплата!BE139 -> 0 | L141: =[1]Оплата!AC139 -> 0 | Q141: =K141-O141+L141+P141 -> 0 | R141: =A141 -> №120 снят
A142: №121 | B142: 12467.16 | C142: 5273.1 | D142: 17740.26 | E142: 12467.16 | F142: 5273.1 | G142: 17740.26 | H142: =E142-B142 -> 0 | I142: =F142-C142 -> 0 | J142: =SUM(H142:I142) -> 0 | K142: =[1]Оплата!BE140 -> 0.008 | L142: =[1]Оплата!AC140 -> 0 | M142: =H142*M$6 -> 0 | N142: =I142*N$6 -> 0 | O142: =SUM(M142:N142) -> 0 | Q142: =K142-O142+L142+P142 -> 0.008 | R142: =A142 -> №121
A143: №122 | B143: 1697.32 | C143: 348.87 | D143: 2046.19 | E143: 1697.33 | F143: 348.87 | G143: 2046.21 | H143: =E143-B143 -> 0.01 | I143: =F143-C143 -> 0 | J143: =SUM(H143:I143) -> 0.01 | K143: =[1]Оплата!BE141 -> -5.6549 | L143: =[1]Оплата!AC141 -> 0 | M143: =H143*M$6 -> 0.0682 | N143: =I143*N$6 -> 0 | O143: =SUM(M143:N143) -> 0.0682 | Q143: =K143-O143+L143+P143 -> -5.7231 | R143: =A143 -> №122
A144: №123 | B144: 1714.97 | C144: 356.75 | D144: 2071.72 | E144: 1844.36 | F144: 374.43 | G144: 2218.8 | H144: =E144-B144 -> 129.39 | I144: =F144-C144 -> 17.68 | J144: =SUM(H144:I144) -> 147.07 | K144: =[1]Оплата!BE142 -> -907.878 | L144: =[1]Оплата!AC142 -> 0 | M144: =H144*M$6 -> 882.4398 | N144: =I144*N$6 -> 46.852 | O144: =SUM(M144:N144) -> 929.2918 | Q144: =K144-O144+L144+P144 -> -1837.1698 | R144: =A144 -> №123
A145: №123а | B145: 9245.92 | C145: 1987.42 | D145: 11233.34 | E145: 9361 | F145: 2005.27 | G145: 11366.28 | H145: =E145-B145 -> 115.08 | I145: =F145-C145 -> 17.85 | J145: =SUM(H145:I145) -> 132.93 | K145: =[1]Оплата!BE143 -> -780.7855 | L145: =[1]Оплата!AC143 -> 0 | M145: =H145*M$6 -> 784.8456 | N145: =I145*N$6 -> 47.3025 | O145: =SUM(M145:N145) -> 832.1481 | Q145: =K145-O145+L145+P145 -> -1612.9336 | R145: =A145 -> №123а
A146: №124 сбыт | H146: =E146-B146 -> 0 | I146: =F146-C146 -> 0 | J146: =SUM(H146:I146) -> 0 | K146: =[1]Оплата!BE144 -> 498.1849 | L146: =[1]Оплата!AC144 -> 0 | Q146: =K146-O146+L146+P146 -> 498.1849 | R146: =A146 -> №124 сбыт
A147: №125 | B147: 3319.37 | C147: 1479.78 | D147: 4799.24 | E147: 3319.51 | F147: 1479.78 | G147: 4799.38 | H147: =E147-B147 -> 0.14 | I147: =F147-C147 -> 0 | J147: =SUM(H147:I147) -> 0.14 | K147: =[1]Оплата!BE145 -> 2648.791 | L147: =[1]Оплата!AC145 -> 0 | M147: =H147*M$6 -> 0.9548 | N147: =I147*N$6 -> 0 | O147: =SUM(M147:N147) -> 0.9548 | Q147: =K147-O147+L147+P147 -> 2647.8362 | R147: =A147 -> №125
A148: №126\1 | B148: 4847.03 | C148: 1330.63 | D148: 6177.66 | E148: 5285.19 | F148: 1468.88 | G148: 6754.08 | H148: =E148-B148 -> 438.16 | I148: =F148-C148 -> 138.25 | J148: =SUM(H148:I148) -> 576.41 | K148: =[1]Оплата!BE146 -> 3318.6839 | L148: =[1]Оплата!AC146 -> 0 | M148: =H148*M$6 -> 2988.2512 | N148: =I148*N$6 -> 366.3625 | O148: =SUM(M148:N148) -> 3354.6137 | Q148: =K148-O148+L148+P148 -> -35.9298 | R148: =A148 -> №126\1
A149: №126\2 | B149: 4979.14 | C149: 2647.36 | D149: 7626.65 | E149: 5003.18 | F149: 2660.11 | G149: 7663.44 | H149: =E149-B149 -> 24.04 | I149: =F149-C149 -> 12.75 | J149: =SUM(H149:I149) -> 36.79 | K149: =[1]Оплата!BE147 -> -6371.1519 | L149: =[1]Оплата!AC147 -> 0 | M149: =H149*M$6 -> 163.9528 | N149: =I149*N$6 -> 33.7875 | O149: =SUM(M149:N149) -> 197.7403 | Q149: =K149-O149+L149+P149 -> -6568.8922 | R149: =A149 -> №126\2
A150: №127 | B150: 91.91 | C150: 507.73 | D150: 599.66 | E150: 92.22 | F150: 507.85 | G150: 600.09 | H150: =E150-B150 -> 0.31 | I150: =F150-C150 -> 0.12 | J150: =SUM(H150:I150) -> 0.43 | K150: =[1]Оплата!BE148 -> 920.1314 | L150: =[1]Оплата!AC148 -> 0 | M150: =H150*M$6 -> 2.1142 | N150: =I150*N$6 -> 0.318 | O150: =SUM(M150:N150) -> 2.4322 | Q150: =K150-O150+L150+P150 -> 917.6992 | R150: =A150 -> №127
...

Sheet Лист2

Sheet Лист3
