Workbook

Sheet Лист1
B1: =SUM(B10:B275) -> 1930075.4 | C1: =SUM(C10:C275) -> 1025465.4 | D1: =SUM(D10:D275) -> 2968210.4 | E1: =SUM(E10:E275) -> 1961606.6 | F1: =SUM(F10:F275) -> 1036811.8 | G1: =SUM(G10:G275) -> 3017249.8 | H1: =SUM(H10:H275) -> 33389.855 | I1: =SUM(I10:I275) -> 11549.719 | ... L1: =SUM(L10:L275) -> 217639.92 | M1: =SUM(M10:M287) -> 227718.81 | N1: =SUM(N10:N287) -> 30606.755 | O1: =SUM(O10:O275) -> 258325.57 | P1: =SUM(P10:P275) -> 0 | Q1: =SUM(Q10:Q275) -> -397471.8
O2: =[1]Оплата!L1 -> 222856.73 | Q2: =[1]Оплата!$BE$2 -> -356786.16
D6: РАСЧЕТ ЭЛЕКТРОЭНЕРГИИ ПО ПОТРЕБИТЕЛЯМ | L6: ТАРИФ | M6: =[1]запросы!C4 -> 6.82 | N6: =[1]запросы!D4 -> 2.65
A7: =F7 -> 44405 | C7: 44373 | F7: 44405 | H7: За период | K7: Остаток средств на | L7: Оплата | M7: Сумма начислений | P7: Перерас- | Q7: Задолженность ( - )
A8: 2021 | B8: КВТ | E8: КВТ | H8: КВТ | M8: руб. | P8: чет
A9: Код_ | B9: АктЭн_M | C9: АктЭн_L | D9: СуммАктЭн | E9: АктЭн_M | F9: АктЭн_L | G9: СуммАктЭн | H9: АктЭн_M | I9: АктЭн_L | J9: Всего | K9: =C7 -> 44373 | L9: =F7 -> 44405 | M9: День | N9: Ночь | O9: Всего | P9: руб | Q9: =F7 -> 44405 | R9: Код
A10: №002 | B10: 2871.78 | C10: 797.14 | D10: 3668.94 | G10: 6016 | K10: =[1]Оплата!BE8 -> 190.2695 | L10: =[1]Оплата!AC8 -> 0 | M10: =H10*M$6 -> 0 | N10: =I10*N$6 -> 0 | O10: =SUM(M10:N10) -> 0 | Q10: =K10-O10+L10+P10 -> 190.2695 | R10: =A10 -> №002
A11: №003 | B11: 3897.71 | C11: 5270.69 | D11: 9168.52 | E11: 4087.25 | F11: 5319.55 | G11: 9406.93 | H11: =E11-B11 -> 189.54 | I11: =F11-C11 -> 48.86 | J11: =SUM(H11:I11) -> 238.4 | K11: =[1]Оплата!BE9 -> 4128.9771 | L11: =[1]Оплата!AC9 -> 2000 | M11: =H11*M$6 -> 1292.6628 | N11: =I11*N$6 -> 129.479 | O11: =SUM(M11:N11) -> 1422.1418 | Q11: =K11-O11+L11+P11 -> 4706.8353 | R11: =A11 -> №003
A12: №004 | B12: 6109.05 | C12: 2275.72 | D12: 8384.77 | E12: 6323.52 | F12: 2336.39 | G12: 8659.92 | H12: =E12-B12 -> 214.47 | I12: =F12-C12 -> 60.67 | J12: =SUM(H12:I12) -> 275.14 | K12: =[1]Оплата!BE10 -> -2379.7142 | L12: =[1]Оплата!AC10 -> 0 | M12: =H12*M$6 -> 1462.6854 | N12: =I12*N$6 -> 160.7755 | O12: =SUM(M12:N12) -> 1623.4609 | Q12: =K12-O12+L12+P12 -> -4003.1751 | R12: =A12 -> №004
A13: №005 | B13: 883.12 | C13: 1400.45 | D13: 2283.7 | E13: 889.65 | F13: 1402.62 | G13: 2292.41 | H13: =E13-B13 -> 6.53 | I13: =F13-C13 -> 2.17 | J13: =SUM(H13:I13) -> 8.7 | K13: =[1]Оплата!BE11 -> -1574.0094 | L13: =[1]Оплата!AC11 -> 0 | M13: =H13*M$6 -> 44.5346 | N13: =I13*N$6 -> 5.7505 | O13: =SUM(M13:N13) -> 50.2851 | Q13: =K13-O13+L13+P13 -> -1624.2945 | R13: =A13 -> №005
A14: №006 | B14: 3208.16 | C14: 1563.39 | D14: 4771.56 | E14: 3208.16 | F14: 1563.39 | G14: 4771.56 | H14: =E14-B14 -> 0 | I14: =F14-C14 -> 0 | J14: =SUM(H14:I14) -> 0 | K14: =[1]Оплата!BE12 -> 361.343 | L14: =[1]Оплата!AC12 -> 0 | M14: =H14*M$6 -> 0 | N14: =I14*N$6 -> 0 | O14: =SUM(M14:N14) -> 0 | Q14: =K14-O14+L14+P14 -> 361.343 | R14: =A14 -> №006
A15: №007 | B15: 4105.8 | C15: 2392.2 | D15: 6498.04 | E15: 4105.8 | F15: 2392.2 | G15: 6498.04 | H15: =E15-B15 -> 0 | I15: =F15-C15 -> 0 | J15: =SUM(H15:I15) -> 0 | K15: =[1]Оплата!BE13 -> -1813.7699 | L15: =[1]Оплата!AC13 -> 0 | M15: =H15*M$6 -> 0 | N15: =I15*N$6 -> 0 | O15: =SUM(M15:N15) -> 0 | Q15: =K15-O15+L15+P15 -> -1813.7699 | R15: =A15 -> №007
A16: №008 | B16: 2895.17 | C16: 559.46 | D16: 3454.63 | E16: 3008.02 | F16: 578.57 | G16: 3586.6 | H16: =E16-B16 -> 112.85 | I16: =F16-C16 -> 19.11 | J16: =SUM(H16:I16) -> 131.96 | K16: =[1]Оплата!BE14 -> -562.1046 | L16: =[1]Оплата!AC14 -> 562.1 | M16: =H16*M$6 -> 769.637 | N16: =I16*N$6 -> 50.6415 | O16: =SUM(M16:N16) -> 820.2785 | Q16: =K16-O16+L16+P16 -> -820.2831 | R16: =A16 -> №008
A17: №009 сбыт | J17: =SUM(H17:I17) -> 0 | K17: =[1]Оплата!BE15 -> 153.4953 | L17: =[1]Оплата!AC15 -> 0 | M17: =H17*M$6 -> 0 | N17: =I17*N$6 -> 0 | O17: =SUM(M17:N17) -> 0 | Q17: =K17-O17+L17 -> 153.4953 | R17: =A17 -> №009 сбыт
A18: №009а | B18: 5961.26 | C18: 3316.77 | D18: 9278.06 | E18: 5994.66 | F18: 3332.05 | G18: 9326.74 | H18: =E18-B18 -> 33.4 | I18: =F18-C18 -> 15.28 | J18: =SUM(H18:I18) -> 48.68 | K18: =[1]Оплата!BE16 -> 3066.6865 | L18: =[1]Оплата!AC16 -> 0 | M18: =H18*M$6 -> 227.788 | N18: =I18*N$6 -> 40.492 | O18: =SUM(M18:N18) -> 268.28 | Q18: =K18-O18+L18+P18 -> 2798.4065 | R18: =A18 -> №009а
A19: №010 | B19: 1611.96 | C19: 793.15 | D19: 2405.13 | E19: 1648.2 | F19: 801 | G19: 2449.22 | H19: =E19-B19 -> 36.24 | I19: =F19-C19 -> 7.85 | J19: =SUM(H19:I19) -> 44.09 | K19: =[1]Оплата!BE17 -> 4099.8331 | L19: =[1]Оплата!AC17 -> 0 | M19: =H19*M$6 -> 247.1568 | N19: =I19*N$6 -> 20.8025 | O19: =SUM(M19:N19) -> 267.9593 | Q19: =K19-O19+L19+P19 -> 3831.8738 | R19: =A19 -> №010
A20: №011 | B20: 3252.2 | C20: 562.4 | D20: 3814.62 | E20: 3287.76 | F20: 584.58 | G20: 3872.36 | H20: =E20-B20 -> 35.56 | I20: =F20-C20 -> 22.18 | J20: =SUM(H20:I20) -> 57.74 | K20: =[1]Оплата!BE18 -> 1970.7733 | L20: =[1]Оплата!AC18 -> 0 | M20: =H20*M$6 -> 242.5192 | N20: =I20*N$6 -> 58.777 | O20: =SUM(M20:N20) -> 301.2962 | Q20: =K20-O20+L20+P20 -> 1669.4771 | R20: =A20 -> №011
A21: №012 | B21: 790.39 | C21: 187.7 | D21: 978.09 | E21: 840.94 | F21: 203.88 | G21: 1044.82 | H21: =E21-B21 -> 50.55 | I21: =F21-C21 -> 16.18 | J21: =SUM(H21:I21) -> 66.73 | K21: =[1]Оплата!BE19 -> -1616.8073 | L21: =[1]Оплата!AC19 -> 0 | M21: =H21*M$6 -> 344.751 | N21: =I21*N$6 -> 42.877 | O21: =SUM(M21:N21) -> 387.628 | Q21: =K21-O21+L21+P21 -> -2004.4353 | R21: =A21 -> №012
A22: №012а | K22: =[1]Оплата!BE20 -> 5.2041 | L22: =[1]Оплата!AC20 -> 0 | M22: =H22*M$6 -> 0 | N22: =I22*N$6 -> 0 | O22: =SUM(M22:N22) -> 0 | Q22: =K22-O22+L22+P22 -> 5.2041 | R22: =A22 -> №012а
A23: №013 | B23: 11514.13 | C23: 2985.57 | D23: 14499.71 | E23: 11916.19 | F23: 3117.22 | G23: 15033.41 | H23: =E23-B23 -> 402.06 | I23: =F23-C23 -> 131.65 | J23: =SUM(H23:I23) -> 533.71 | K23: =[1]Оплата!BE21 -> 8001.3226 | L23: =[1]Оплата!AC21 -> 0 | M23: =H23*M$6 -> 2742.0492 | N23: =I23*N$6 -> 348.8725 | O23: =SUM(M23:N23) -> 3090.9217 | Q23: =K23-O23+L23+P23 -> 4910.4009 | R23: =A23 -> №013
A24: №014 | B24: 3979.11 | C24: 7997.1 | D24: 11976.26 | E24: 4161.05 | F24: 8036.28 | G24: 12197.38 | H24: =E24-B24 -> 181.94 | I24: =F24-C24 -> 39.18 | J24: =SUM(H24:I24) -> 221.12 | K24: =[1]Оплата!BE22 -> -5858.3402 | L24: =[1]Оплата!AC22 -> 2212.5 | M24: =H24*M$6 -> 1240.8308 | N24: =I24*N$6 -> 103.827 | O24: =SUM(M24:N24) -> 1344.6578 | Q24: =K24-O24+L24+P24 -> -4990.498 | R24: =A24 -> №014
A25: №015 | B25: 3853.68 | C25: 2057.88 | D25: 5911.57 | E25: 3853.68 | F25: 2057.88 | G25: 5911.57 | H25: =E25-B25 -> 0 | I25: =F25-C25 -> 0 | J25: =SUM(H25:I25) -> 0 | K25: =[1]Оплата!BE23 -> -2465.9936 | L25: =[1]Оплата!AC23 -> 0 | M25: =H25*M$6 -> 0 | N25: =I25*N$6 -> 0 | O25: =SUM(M25:N25) -> 0 | Q25: =K25-O25+L25+P25 -> -2465.9936 | R25: =A25 -> №015
A26: №016\17 | B26: 7006.47 | C26: 6810.74 | D26: 13817.21 | E26: 7035.26 | F26: 6831.94 | G26: 13867.2 | H26: =E26-B26 -> 28.79 | I26: =F26-C26 -> 21.2 | J26: =SUM(H26:I26) -> 49.99 | K26: =[1]Оплата!BE24 -> -134.0766 | L26: =[1]Оплата!AC24 -> 0 | M26: =H26*M$6 -> 196.3478 | N26: =I26*N$6 -> 56.18 | O26: =SUM(M26:N26) -> 252.5278 | Q26: =K26-O26+L26+P26 -> -386.6044 | R26: =A26 -> №016\17
A27: №018 | B27: 3633.79 | C27: 1297.63 | D27: 4931.44 | E27: 3893.47 | F27: 1388.9 | G27: 5282.39 | H27: =E27-B27 -> 259.68 | I27: =F27-C27 -> 91.27 | J27: =SUM(H27:I27) -> 350.95 | K27: =[1]Оплата!BE25 -> -1063.9108 | L27: =[1]Оплата!AC25 -> 0 | M27: =H27*M$6 -> 1771.0176 | N27: =I27*N$6 -> 241.8655 | O27: =SUM(M27:N27) -> 2012.8831 | Q27: =K27-O27+L27+P27 -> -3076.7939 | R27: =A27 -> №018
A28: №019 | B28: 6644.63 | C28: 3975.4 | D28: 10620.09 | E28: 6644.63 | F28: 3975.4 | G28: 10620.09 | H28: =E28-B28 -> 0 | I28: =F28-C28 -> 0 | J28: =SUM(H28:I28) -> 0 | K28: =[1]Оплата!BE26 -> -20720.601 | L28: =[1]Оплата!AC26 -> 0 | M28: =H28*M$6 -> 0 | N28: =I28*N$6 -> 0 | O28: =SUM(M28:N28) -> 0 | Q28: =K28-O28+L28+P28 -> -20720.601 | R28: =A28 -> №019
A29: №020 | B29: 5909.21 | C29: 2733.37 | D29: 8643.23 | E29: 5961.58 | F29: 2746.77 | G29: 8708.99 | H29: =E29-B29 -> 52.37 | I29: =F29-C29 -> 13.4 | J29: =SUM(H29:I29) -> 65.77 | K29: =[1]Оплата!BE27 -> 961.6681 | L29: =[1]Оплата!AC27 -> 0 | M29: =H29*M$6 -> 357.1634 | N29: =I29*N$6 -> 35.51 | O29: =SUM(M29:N29) -> 392.6734 | Q29: =K29-O29+L29+P29 -> 568.9947 | R29: =A29 -> №020
A30: №021\1 | B30: 320.95 | C30: 262.5 | D30: 583.45 | E30: 345.2 | F30: 269.83 | G30: 615.04 | H30: =E30-B30 -> 24.25 | I30: =F30-C30 -> 7.33 | J30: =SUM(H30:I30) -> 31.58 | K30: =[1]Оплата!BE28 -> 4604.2136 | L30: =[1]Оплата!AC28 -> 0 | M30: =H30*M$6 -> 165.385 | N30: =I30*N$6 -> 19.4245 | O30: =SUM(M30:N30) -> 184.8095 | Q30: =K30-O30+L30+P30 -> 4419.4041 | R30: =A30 -> №021\1
A31: №021\2 | B31: 1662.14 | C31: 839.62 | D31: 2501.77 | E31: 1710.35 | F31: 856.75 | G31: 2567.11 | H31: =E31-B31 -> 48.21 | I31: =F31-C31 -> 17.13 | J31: =SUM(H31:I31) -> 65.34 | K31: =[1]Оплата!BE29 -> -5480.4813 | L31: =[1]Оплата!AC29 -> 0 | M31: =H31*M$6 -> 328.7922 | N31: =I31*N$6 -> 45.3945 | O31: =SUM(M31:N31) -> 374.1867 | Q31: =K31-O31+L31+P31 -> -5854.668 | R31: =A31 -> №021\2
A32: №022 | B32: 3590.57 | C32: 1546.43 | D32: 5137.02 | E32: 3651.55 | F32: 1561.25 | G32: 5212.81 | H32: =E32-B32 -> 60.98 | I32: =F32-C32 -> 14.82 | J32: =SUM(H32:I32) -> 75.8 | K32: =[1]Оплата!BE30 -> 1197.9735 | L32: =[1]Оплата!AC30 -> 0 | M32: =H32*M$6 -> 415.8836 | N32: =I32*N$6 -> 39.273 | O32: =SUM(M32:N32) -> 455.1566 | Q32: =K32-O32+L32+P32 -> 742.8169 | R32: =A32 -> №022
A33: №022а | B33: 1725.21 | C33: 740.49 | D33: 2465.71 | E33: 1788.39 | F33: 769.48 | G33: 2557.88 | H33: =E33-B33 -> 63.18 | I33: =F33-C33 -> 28.99 | J33: =SUM(H33:I33) -> 92.17 | K33: =[1]Оплата!BE31 -> 5839.318 | L33: =[1]Оплата!AC31 -> 0 | M33: =H33*M$6 -> 430.8876 | N33: =I33*N$6 -> 76.8235 | O33: =SUM(M33:N33) -> 507.7111 | Q33: =K33-O33+L33+P33 -> 5331.6069 | R33: =A33 -> №022а
A34: №023 | B34: 0.51 | C34: 0.58 | D34: 1.1 | E34: 0.51 | F34: 0.58 | G34: 1.1 | H34: =E34-B34 -> 0 | I34: =F34-C34 -> 0 | J34: =SUM(H34:I34) -> 0 | K34: =[1]Оплата!BE32 -> -3.358 | L34: =[1]Оплата!AC32 -> 0 | M34: =H34*M$6 -> 0 | N34: =I34*N$6 -> 0 | O34: =SUM(M34:N34) -> 0 | Q34: =K34-O34+L34+P34 -> -3.358 | R34: =A34 -> №023
... A39: №028 | B39: 1330.52 | C39: 496.08 | D39: 1826.61 | E39: 1330.52 | F39: 496.08 | G39: 1826.61 | H39: =E39-B39 -> 0 | I39: =F39-C39 -> 0 | J39: =SUM(H39:I39) -> 0 | K39: =[1]Оплата!BE37 -> -4.3548 | L39: =[1]Оплата!AC37 -> 0 | M39: =H39*M$6 -> 0 | N39: =I39*N$6 -> 0 | O39: =SUM(M39:N39) -> 0 | Q39: =K39-O39+L39+P39 -> -4.3548 | R39: =A39 -> №028
A40: №029 сбыт | K40: =[1]Оплата!BE38 -> 0.0048 | L40: =[1]Оплата!AC38 -> 0 | M40: =H40*M$6 -> 0 | N40: =I40*N$6 -> 0 | O40: =SUM(M40:N40) -> 0 | Q40: =K40-O40+L40+P40 -> 0.0048 | R40: =A40 -> №029 сбыт
A41: №030 | B41: 1603.35 | C41: 584.95 | D41: 2188.35 | E41: 1603.35 | F41: 584.95 | G41: 2188.35 | H41: =E41-B41 -> 0 | I41: =F41-C41 -> 0 | J41: =SUM(H41:I41) -> 0 | K41: =[1]Оплата!BE39 -> -10.3873 | L41: =[1]Оплата!AC39 -> 0 | M41: =H41*M$6 -> 0 | N41: =I41*N$6 -> 0 | O41: =SUM(M41:N41) -> 0 | Q41: =K41-O41+L41+P41 -> -10.3873 | R41: =A41 -> №030
A42: №031\1 | B42: 9942.35 | C42: 5327.32 | D42: 15269.68 | E42: 10521.7 | F42: 5438.22 | G42: 15959.92 | H42: =E42-B42 -> 579.35 | I42: =F42-C42 -> 110.9 | J42: =SUM(H42:I42) -> 690.25 | K42: =[1]Оплата!BE40 -> -30030.1 | L42: =[1]Оплата!AC40 -> 0 | M42: =H42*M$6 -> 3951.167 | N42: =I42*N$6 -> 293.885 | O42: =SUM(M42:N42) -> 4245.052 | Q42: =K42-O42+L42+P42 -> -34275.152 | R42: =A42 -> №031\1
A43: №031\2 | B43: 5263.87 | C43: 1629.41 | D43: 6893.29 | E43: 5621.76 | F43: 1687.93 | G43: 7309.71 | H43: =E43-B43 -> 357.89 | I43: =F43-C43 -> 58.52 | J43: =SUM(H43:I43) -> 416.41 | K43: =[1]Оплата!BE41 -> 24772.002 | L43: =[1]Оплата!AC41 -> 5300 | M43: =H43*M$6 -> 2440.8098 | N43: =I43*N$6 -> 155.078 | O43: =SUM(M43:N43) -> 2595.8878 | Q43: =K43-O43+L43+P43 -> 27476.114 | R43: =A43 -> №031\2
A44: №032 | B44: 7257.1 | C44: 4258.72 | D44: 11515.91 | E44: 7410.36 | F44: 4331.87 | G44: 11742.32 | H44: =E44-B44 -> 153.26 | I44: =F44-C44 -> 73.15 | J44: =SUM(H44:I44) -> 226.41 | K44: =[1]Оплата!BE42 -> -34.0239 | L44: =[1]Оплата!AC42 -> 0 | M44: =H44*M$6 -> 1045.2332 | N44: =I44*N$6 -> 193.8475 | O44: =SUM(M44:N44) -> 1239.0807 | Q44: =K44-O44+L44+P44 -> -1273.1046 | R44: =A44 -> №032
A45: №033 | B45: 10460.28 | C45: 3666.8 | D45: 14127.09 | E45: 10460.28 | F45: 3666.8 | G45: 14127.09 | H45: =E45-B45 -> 0 | I45: =F45-C45 -> 0 | J45: =SUM(H45:I45) -> 0 | K45: =[1]Оплата!BE43 -> 0.014 | L45: =[1]Оплата!AC43 -> 0 | M45: =H45*M$6 -> 0 | N45: =I45*N$6 -> 0 | O45: =SUM(M45:N45) -> 0 | Q45: =K45-O45+L45+P45 -> 0.014 | R45: =A45 -> №033
A46: №034 | B46: 1965.35 | C46: 436.79 | D46: 2402.15 | E46: 1965.36 | F46: 436.79 | G46: 2402.16 | H46: =E46-B46 -> 0.01 | I46: =F46-C46 -> 0 | J46: =SUM(H46:I46) -> 0.01 | K46: =[1]Оплата!BE44 -> -13.9333 | L46: =[1]Оплата!AC44 -> 0 | M46: =H46*M$6 -> 0.0682 | N46: =I46*N$6 -> 0 | O46: =SUM(M46:N46) -> 0.0682 | Q46: =K46-O46+L46+P46 -> -14.0015 | R46: =A46 -> №034
A47: №035 | B47: 11338.26 | C47: 5747.1 | D47: 17085.37 | E47: 11508.58 | F47: 5816.4 | G47: 17324.99 | H47: =E47-B47 -> 170.32 | I47: =F47-C47 -> 69.3 | J47: =SUM(H47:I47) -> 239.62 | K47: =[1]Оплата!BE45 -> -616.4183 | L47: =[1]Оплата!AC45 -> 3000 | M47: =H47*M$6 -> 1161.5824 | N47: =I47*N$6 -> 183.645 | O47: =SUM(M47:N47) -> 1345.2274 | Q47: =K47-O47+L47+P47 -> 1038.3543 | R47: =A47 -> №035
...

Sheet Лист2

Sheet Лист3
